BEGIN:VCALENDAR
VERSION:2.0
PRODID:-//Mississippi Children&#039;s Museum - ECPv6.15.20//NONSGML v1.0//EN
CALSCALE:GREGORIAN
METHOD:PUBLISH
X-ORIGINAL-URL:https://mschildrensmuseum.org
X-WR-CALDESC:Events for Mississippi Children&#039;s Museum
REFRESH-INTERVAL;VALUE=DURATION:PT1H
X-Robots-Tag:noindex
X-PUBLISHED-TTL:PT1H
BEGIN:VTIMEZONE
TZID:America/Chicago
BEGIN:DAYLIGHT
TZOFFSETFROM:-0600
TZOFFSETTO:-0500
TZNAME:CDT
DTSTART:20240310T080000
END:DAYLIGHT
BEGIN:STANDARD
TZOFFSETFROM:-0500
TZOFFSETTO:-0600
TZNAME:CST
DTSTART:20241103T070000
END:STANDARD
BEGIN:DAYLIGHT
TZOFFSETFROM:-0600
TZOFFSETTO:-0500
TZNAME:CDT
DTSTART:20250309T080000
END:DAYLIGHT
BEGIN:STANDARD
TZOFFSETFROM:-0500
TZOFFSETTO:-0600
TZNAME:CST
DTSTART:20251102T070000
END:STANDARD
BEGIN:DAYLIGHT
TZOFFSETFROM:-0600
TZOFFSETTO:-0500
TZNAME:CDT
DTSTART:20260308T080000
END:DAYLIGHT
BEGIN:STANDARD
TZOFFSETFROM:-0500
TZOFFSETTO:-0600
TZNAME:CST
DTSTART:20261101T070000
END:STANDARD
END:VTIMEZONE
BEGIN:VEVENT
DTSTART;TZID=America/Chicago:20250802T130000
DTEND;TZID=America/Chicago:20250802T150000
DTSTAMP:20260423T002537
CREATED:20230525T202527Z
LAST-MODIFIED:20250730T190415Z
UID:43386-1754139600-1754146800@mschildrensmuseum.org
SUMMARY:Visiting Artist: Roger and Tena Long
DESCRIPTION:Visting Artist: Roger and Tena Long\nJoin us on August 2 for our Visiting Artist\, Roger and Tena Long! This husband/wife duo specializes in visual arts and lead an arts-based company\, Go Long Productions. Express yourself through dance during this animated workshop. \nPurchase tickets to the museum\nThis project is supported in part by funding from the Mississippi Arts Commission\, a state agency\, and the National Endowment for the Arts\, a federal agency.
URL:https://mschildrensmuseum.org/event/visiting-artist-roger-and-tena-long-2024-08-24/
LOCATION:Mississippi
CATEGORIES:Jackson
ATTACH;FMTTYPE=image/jpeg:https://mschildrensmuseum.org/wp-content/uploads/2021/01/visitingartist.jpg
END:VEVENT
END:VCALENDAR