BEGIN:VCALENDAR
VERSION:2.0
PRODID:-//Mississippi Children&#039;s Museum - ECPv6.15.20//NONSGML v1.0//EN
CALSCALE:GREGORIAN
METHOD:PUBLISH
X-ORIGINAL-URL:https://mschildrensmuseum.org
X-WR-CALDESC:Events for Mississippi Children&#039;s Museum
REFRESH-INTERVAL;VALUE=DURATION:PT1H
X-Robots-Tag:noindex
X-PUBLISHED-TTL:PT1H
BEGIN:VTIMEZONE
TZID:America/Chicago
BEGIN:DAYLIGHT
TZOFFSETFROM:-0600
TZOFFSETTO:-0500
TZNAME:CDT
DTSTART:20240310T080000
END:DAYLIGHT
BEGIN:STANDARD
TZOFFSETFROM:-0500
TZOFFSETTO:-0600
TZNAME:CST
DTSTART:20241103T070000
END:STANDARD
BEGIN:DAYLIGHT
TZOFFSETFROM:-0600
TZOFFSETTO:-0500
TZNAME:CDT
DTSTART:20250309T080000
END:DAYLIGHT
BEGIN:STANDARD
TZOFFSETFROM:-0500
TZOFFSETTO:-0600
TZNAME:CST
DTSTART:20251102T070000
END:STANDARD
BEGIN:DAYLIGHT
TZOFFSETFROM:-0600
TZOFFSETTO:-0500
TZNAME:CDT
DTSTART:20260308T080000
END:DAYLIGHT
BEGIN:STANDARD
TZOFFSETFROM:-0500
TZOFFSETTO:-0600
TZNAME:CST
DTSTART:20261101T070000
END:STANDARD
END:VTIMEZONE
BEGIN:VEVENT
DTSTART;TZID=America/Chicago:20250705T100000
DTEND;TZID=America/Chicago:20250705T150000
DTSTAMP:20260423T061155
CREATED:20250609T174412Z
LAST-MODIFIED:20250611T200219Z
UID:48919-1751709600-1751727600@mschildrensmuseum.org
SUMMARY:Visiting Artist: Michael Albert
DESCRIPTION:American Pop Artist Michael Albert will be joining us on July 5 from 10AM – 3PM! \n  \nFree for MCM Members | $10/Person for Non-Members | Tickets Available at the Door \nPurchase Tickets to the Museum
URL:https://mschildrensmuseum.org/event/visiting-artist-michael-albert/
LOCATION:Mississippi
CATEGORIES:Meridian
ATTACH;FMTTYPE=image/jpeg:https://mschildrensmuseum.org/wp-content/uploads/2023/06/P1016408.jpg
END:VEVENT
END:VCALENDAR