BEGIN:VCALENDAR
VERSION:2.0
PRODID:-//Mississippi Children&#039;s Museum - ECPv6.15.20//NONSGML v1.0//EN
CALSCALE:GREGORIAN
METHOD:PUBLISH
X-WR-CALNAME:Mississippi Children&#039;s Museum
X-ORIGINAL-URL:https://mschildrensmuseum.org
X-WR-CALDESC:Events for Mississippi Children&#039;s Museum
REFRESH-INTERVAL;VALUE=DURATION:PT1H
X-Robots-Tag:noindex
X-PUBLISHED-TTL:PT1H
BEGIN:VTIMEZONE
TZID:America/Chicago
BEGIN:DAYLIGHT
TZOFFSETFROM:-0600
TZOFFSETTO:-0500
TZNAME:CDT
DTSTART:20240310T080000
END:DAYLIGHT
BEGIN:STANDARD
TZOFFSETFROM:-0500
TZOFFSETTO:-0600
TZNAME:CST
DTSTART:20241103T070000
END:STANDARD
BEGIN:DAYLIGHT
TZOFFSETFROM:-0600
TZOFFSETTO:-0500
TZNAME:CDT
DTSTART:20250309T080000
END:DAYLIGHT
BEGIN:STANDARD
TZOFFSETFROM:-0500
TZOFFSETTO:-0600
TZNAME:CST
DTSTART:20251102T070000
END:STANDARD
BEGIN:DAYLIGHT
TZOFFSETFROM:-0600
TZOFFSETTO:-0500
TZNAME:CDT
DTSTART:20260308T080000
END:DAYLIGHT
BEGIN:STANDARD
TZOFFSETFROM:-0500
TZOFFSETTO:-0600
TZNAME:CST
DTSTART:20261101T070000
END:STANDARD
END:VTIMEZONE
BEGIN:VEVENT
DTSTART;TZID=America/Chicago:20250607T100000
DTEND;TZID=America/Chicago:20250607T120000
DTSTAMP:20260423T002056
CREATED:20250514T151037Z
LAST-MODIFIED:20250522T193813Z
UID:48520-1749290400-1749297600@mschildrensmuseum.org
SUMMARY:Visiting Artist: Jerry Jenkins
DESCRIPTION:Visting Artist: Jerry Jenkins\nJoin us on Saturday\, June 7 for our Visiting Artist\, Jerry Jenkins! Jenkins is a versatile artist who shares the rich history and culture of West Africa through the rhythms of the djembe drum. \nWorkshop Time:\n\n10:00am – 12:00pm\n\nPurchase tickets to the museum\nThis project is supported in part by funding from the Mississippi Arts Commission\, a state agency\, and the National Endowment for the Arts\, a federal agency.
URL:https://mschildrensmuseum.org/event/visiting-artist-jerry-jenkins-2/
LOCATION:Mississippi Children’s Museum\, 2145 Museum Boulevard\, Jackson\, Mississippi\, 39202
CATEGORIES:Jackson
ATTACH;FMTTYPE=image/jpeg:https://mschildrensmuseum.org/wp-content/uploads/2025/05/jerry-scaled.jpeg
END:VEVENT
BEGIN:VEVENT
DTSTART;TZID=America/Chicago:20250614T090000
DTEND;TZID=America/Chicago:20250614T140000
DTSTAMP:20260423T002056
CREATED:20250514T150856Z
LAST-MODIFIED:20250609T173955Z
UID:48517-1749891600-1749909600@mschildrensmuseum.org
SUMMARY:Visiting Artist: Arianna Marcell
DESCRIPTION:Visting Artist: Arianna Marcell\nJoin us on Saturday\, June 14 for our Visiting Artist\, Arianna Marcell! She is currently a Specialty Instructor of Dance at Belhaven University and she enjoys dancing and choreographing as a company artist with Kinetic Etchings. \nWorkshop Times:\n\n9:00am – 11:00pm\n12:00pm – 2:00pm\n\nPurchase tickets to the museum\nThis project is supported in part by funding from the Mississippi Arts Commission\, a state agency\, and the National Endowment for the Arts\, a federal agency.
URL:https://mschildrensmuseum.org/event/visiting-artist-arianna-marcell/
LOCATION:Mississippi Children’s Museum\, 2145 Museum Boulevard\, Jackson\, Mississippi\, 39202
CATEGORIES:Jackson
ATTACH;FMTTYPE=image/jpeg:https://mschildrensmuseum.org/wp-content/uploads/2024/10/068A1556-scaled.jpg
END:VEVENT
BEGIN:VEVENT
DTSTART;TZID=America/Chicago:20250621T110000
DTEND;TZID=America/Chicago:20250621T130000
DTSTAMP:20260423T002056
CREATED:20250514T152720Z
LAST-MODIFIED:20250617T142503Z
UID:48524-1750503600-1750510800@mschildrensmuseum.org
SUMMARY:Visiting Artist: Andrew Dillon
DESCRIPTION:Visting Artist: Andrew Dillon\nJoin us on June 21st for a music workshop with Andrew Dillon titled “The Family that Sings Together!” Dillon uses his talent to weave music into subjects like math\, science\, language arts\, history\, social studies\, and religion. \nWorkshop Time:\n\n11:00am – 1:00pm\n\nPurchase tickets to the museum\nThis project is supported in part by funding from the Mississippi Arts Commission\, a state agency\, and the National Endowment for the Arts\, a federal agency.
URL:https://mschildrensmuseum.org/event/visiting-artist-andrew-dillon-2/
LOCATION:Mississippi
CATEGORIES:Jackson
ATTACH;FMTTYPE=image/jpeg:https://mschildrensmuseum.org/wp-content/uploads/2025/05/068A0699-scaled-e1749590657882.jpg
END:VEVENT
BEGIN:VEVENT
DTSTART;TZID=America/Chicago:20250627T103000
DTEND;TZID=America/Chicago:20250627T123000
DTSTAMP:20260423T002056
CREATED:20240610T194555Z
LAST-MODIFIED:20250616T171025Z
UID:41932-1751020200-1751027400@mschildrensmuseum.org
SUMMARY:Visiting Artist: Cass Simmons
DESCRIPTION:Visting Artist: Cass Simmons\nJoin us on June 27th for a dance workshop with Cass Simmons. \nDuring this workshop\, guests will focus on emotions and dance through working with creative movement and improvisational structures. Learn more about Cass Simmons by visiting the Mississippi Art Commission! \nWorkshop Time:\n\n10:30am – 12:30pm\n\nPurchase tickets to the museum\nThis project is supported in part by funding from the Mississippi Arts Commission\, a state agency\, and the National Endowment for the Arts\, a federal agency.
URL:https://mschildrensmuseum.org/event/visiting-artist-cass-simmons-2025-06-27/
LOCATION:Mississippi
CATEGORIES:Jackson
ATTACH;FMTTYPE=image/jpeg:https://mschildrensmuseum.org/wp-content/uploads/2024/06/cass-scaled.jpeg
END:VEVENT
BEGIN:VEVENT
DTSTART;TZID=America/Chicago:20250629T150000
DTEND;TZID=America/Chicago:20250629T170000
DTSTAMP:20260423T002056
CREATED:20240610T194555Z
LAST-MODIFIED:20250616T224228Z
UID:41929-1751209200-1751216400@mschildrensmuseum.org
SUMMARY:Visiting Artist: Cass Simmons
DESCRIPTION:Visting Artist: Cass Simmons\nJoin us on June 29th for a dance workshop with Cass Simmons. \nDuring this workshop\, guests will focus on emotions and dance through working with creative movement and improvisational structures. Learn more about Cass Simmons by visiting the Mississippi Art Commission! \nWorkshop Time:\n\n3:00pm – 5:00pm\n\nPurchase tickets to the museum\nThis project is supported in part by funding from the Mississippi Arts Commission\, a state agency\, and the National Endowment for the Arts\, a federal agency.
URL:https://mschildrensmuseum.org/event/visiting-artist-cass-simmons/
LOCATION:Mississippi
CATEGORIES:Jackson
ATTACH;FMTTYPE=image/jpeg:https://mschildrensmuseum.org/wp-content/uploads/2024/06/cass-scaled.jpeg
END:VEVENT
END:VCALENDAR