BEGIN:VCALENDAR
VERSION:2.0
PRODID:-//Mississippi Children&#039;s Museum - ECPv6.15.20//NONSGML v1.0//EN
CALSCALE:GREGORIAN
METHOD:PUBLISH
X-WR-CALNAME:Mississippi Children&#039;s Museum
X-ORIGINAL-URL:https://mschildrensmuseum.org
X-WR-CALDESC:Events for Mississippi Children&#039;s Museum
REFRESH-INTERVAL;VALUE=DURATION:PT1H
X-Robots-Tag:noindex
X-PUBLISHED-TTL:PT1H
BEGIN:VTIMEZONE
TZID:America/Chicago
BEGIN:DAYLIGHT
TZOFFSETFROM:-0600
TZOFFSETTO:-0500
TZNAME:CDT
DTSTART:20240310T080000
END:DAYLIGHT
BEGIN:STANDARD
TZOFFSETFROM:-0500
TZOFFSETTO:-0600
TZNAME:CST
DTSTART:20241103T070000
END:STANDARD
BEGIN:DAYLIGHT
TZOFFSETFROM:-0600
TZOFFSETTO:-0500
TZNAME:CDT
DTSTART:20250309T080000
END:DAYLIGHT
BEGIN:STANDARD
TZOFFSETFROM:-0500
TZOFFSETTO:-0600
TZNAME:CST
DTSTART:20251102T070000
END:STANDARD
BEGIN:DAYLIGHT
TZOFFSETFROM:-0600
TZOFFSETTO:-0500
TZNAME:CDT
DTSTART:20260308T080000
END:DAYLIGHT
BEGIN:STANDARD
TZOFFSETFROM:-0500
TZOFFSETTO:-0600
TZNAME:CST
DTSTART:20261101T070000
END:STANDARD
END:VTIMEZONE
BEGIN:VEVENT
DTSTART;TZID=America/Chicago:20250524T110000
DTEND;TZID=America/Chicago:20250524T130000
DTSTAMP:20260423T074614
CREATED:20250514T152534Z
LAST-MODIFIED:20250514T152534Z
UID:48522-1748084400-1748091600@mschildrensmuseum.org
SUMMARY:Visiting Artist: Andrew Dillon
DESCRIPTION:Visting Artist: Andrew Dillon\nJoin us on May 24th for a music workshop with Andrew Dillon titled “The Family that Sings Together!” Dillon uses his talent to weave music into subjects like math\, science\, language arts\, history\, social studies\, and religion. \nWorkshop Time:\n\n11:00am – 1:00pm\n\nPurchase tickets to the museum\nThis project is supported in part by funding from the Mississippi Arts Commission\, a state agency\, and the National Endowment for the Arts\, a federal agency.
URL:https://mschildrensmuseum.org/event/visiting-artist-andrew-dillon/
LOCATION:Mississippi
CATEGORIES:Jackson
ATTACH;FMTTYPE=image/jpeg:https://mschildrensmuseum.org/wp-content/uploads/2023/01/6T4A8904-scaled.jpg
END:VEVENT
BEGIN:VEVENT
DTSTART;TZID=America/Chicago:20250531T080000
DTEND;TZID=America/Chicago:20250531T170000
DTSTAMP:20260423T074614
CREATED:20250530T144845Z
LAST-MODIFIED:20250530T144845Z
UID:48831-1748678400-1748710800@mschildrensmuseum.org
SUMMARY:Visiting Artist: Jerry Jenkins
DESCRIPTION:Visting Artist: Jerry Jenkins\nJoin us on Saturday\, May 31 for our Visiting Artist\, Jerry Jenkins! Jenkins is a versatile artist who shares the rich history and culture of West Africa through the rhythms of the djembe drum. \nWorkshop Time:\n\n10:00am – 12:00pm\n\nPurchase tickets to the museum\nThis project is supported in part by funding from the Mississippi Arts Commission\, a state agency\, and the National Endowment for the Arts\, a federal agency.
URL:https://mschildrensmuseum.org/event/visiting-artist-jerry-jenkins-3/
LOCATION:Mississippi Children’s Museum\, 2145 Museum Boulevard\, Jackson\, Mississippi\, 39202
CATEGORIES:Jackson
ATTACH;FMTTYPE=image/jpeg:https://mschildrensmuseum.org/wp-content/uploads/2025/05/jerry-scaled.jpeg
END:VEVENT
END:VCALENDAR