BEGIN:VCALENDAR
VERSION:2.0
PRODID:-//Mississippi Children&#039;s Museum - ECPv6.15.20//NONSGML v1.0//EN
CALSCALE:GREGORIAN
METHOD:PUBLISH
X-ORIGINAL-URL:https://mschildrensmuseum.org
X-WR-CALDESC:Events for Mississippi Children&#039;s Museum
REFRESH-INTERVAL;VALUE=DURATION:PT1H
X-Robots-Tag:noindex
X-PUBLISHED-TTL:PT1H
BEGIN:VTIMEZONE
TZID:America/Chicago
BEGIN:DAYLIGHT
TZOFFSETFROM:-0600
TZOFFSETTO:-0500
TZNAME:CDT
DTSTART:20220313T080000
END:DAYLIGHT
BEGIN:STANDARD
TZOFFSETFROM:-0500
TZOFFSETTO:-0600
TZNAME:CST
DTSTART:20221106T070000
END:STANDARD
BEGIN:DAYLIGHT
TZOFFSETFROM:-0600
TZOFFSETTO:-0500
TZNAME:CDT
DTSTART:20230312T080000
END:DAYLIGHT
BEGIN:STANDARD
TZOFFSETFROM:-0500
TZOFFSETTO:-0600
TZNAME:CST
DTSTART:20231105T070000
END:STANDARD
BEGIN:DAYLIGHT
TZOFFSETFROM:-0600
TZOFFSETTO:-0500
TZNAME:CDT
DTSTART:20240310T080000
END:DAYLIGHT
BEGIN:STANDARD
TZOFFSETFROM:-0500
TZOFFSETTO:-0600
TZNAME:CST
DTSTART:20241103T070000
END:STANDARD
END:VTIMEZONE
BEGIN:VEVENT
DTSTART;TZID=America/Chicago:20230715T110000
DTEND;TZID=America/Chicago:20230715T130000
DTSTAMP:20260423T013344
CREATED:20230614T151137Z
LAST-MODIFIED:20230630T180659Z
UID:33804-1689418800-1689426000@mschildrensmuseum.org
SUMMARY:Visiting Artist: Trina Bailey
DESCRIPTION:Visting Artist: Trina Bailey\nJoin us on July 15 and 29 from 11:00am – 1:00pm for our Visiting Artist: Trina Bailey! \nTrina is a Visual Artist from Memphis\, TN\, and works as an Artist and Photographer locally in Jackson. \nPurchase tickets to the museum\nThis project is supported in part by funding from the Mississippi Arts Commission\, a state agency\, and the National Endowment for the Arts\, a federal agency.
URL:https://mschildrensmuseum.org/event/visiting-artist-trina-bailey-2/2023-07-15/
CATEGORIES:Jackson
ATTACH;FMTTYPE=image/jpeg:https://mschildrensmuseum.org/wp-content/uploads/2021/09/MCM-2-scaled-e1632776500680.jpg
END:VEVENT
END:VCALENDAR