BEGIN:VCALENDAR
VERSION:2.0
PRODID:-//Mississippi Children&#039;s Museum - ECPv6.15.20//NONSGML v1.0//EN
CALSCALE:GREGORIAN
METHOD:PUBLISH
X-WR-CALNAME:Mississippi Children&#039;s Museum
X-ORIGINAL-URL:https://mschildrensmuseum.org
X-WR-CALDESC:Events for Mississippi Children&#039;s Museum
REFRESH-INTERVAL;VALUE=DURATION:PT1H
X-Robots-Tag:noindex
X-PUBLISHED-TTL:PT1H
BEGIN:VTIMEZONE
TZID:America/Chicago
BEGIN:DAYLIGHT
TZOFFSETFROM:-0600
TZOFFSETTO:-0500
TZNAME:CDT
DTSTART:20250309T080000
END:DAYLIGHT
BEGIN:STANDARD
TZOFFSETFROM:-0500
TZOFFSETTO:-0600
TZNAME:CST
DTSTART:20251102T070000
END:STANDARD
BEGIN:DAYLIGHT
TZOFFSETFROM:-0600
TZOFFSETTO:-0500
TZNAME:CDT
DTSTART:20260308T080000
END:DAYLIGHT
BEGIN:STANDARD
TZOFFSETFROM:-0500
TZOFFSETTO:-0600
TZNAME:CST
DTSTART:20261101T070000
END:STANDARD
BEGIN:DAYLIGHT
TZOFFSETFROM:-0600
TZOFFSETTO:-0500
TZNAME:CDT
DTSTART:20270314T080000
END:DAYLIGHT
BEGIN:STANDARD
TZOFFSETFROM:-0500
TZOFFSETTO:-0600
TZNAME:CST
DTSTART:20271107T070000
END:STANDARD
END:VTIMEZONE
BEGIN:VEVENT
DTSTART;TZID=America/Chicago:20260421T100000
DTEND;TZID=America/Chicago:20260421T103000
DTSTAMP:20260423T062822
CREATED:20220718T145401Z
LAST-MODIFIED:20260113T180539Z
UID:53446-1776765600-1776767400@mschildrensmuseum.org
SUMMARY:Rocky's Book Club
DESCRIPTION:Rocky’s Book Club\nHave you met the beloved Talk From the Start mascot and literacy advocate\, Rocky the Reader? He’s a jolly pup who loves to read\, play literacy games\, and travel! Join us every week for Rocky’s Book Club as we read some of Rocky’s favorite books for children 0-5+ years old. View program page. \nProgram Schedule: \n\nTuesday at 10:00am\n\nPurchase Tickets to the museum
URL:https://mschildrensmuseum.org/event/rockys-book-club-2/2026-04-21/
CATEGORIES:Jackson
ATTACH;FMTTYPE=image/jpeg:https://mschildrensmuseum.org/wp-content/uploads/2022/02/6T4A0987-1-scaled-e1645733081769.jpg
END:VEVENT
BEGIN:VEVENT
DTSTART;TZID=America/Chicago:20260414T100000
DTEND;TZID=America/Chicago:20260414T103000
DTSTAMP:20260423T062822
CREATED:20220718T145401Z
LAST-MODIFIED:20260113T180539Z
UID:53445-1776160800-1776162600@mschildrensmuseum.org
SUMMARY:Rocky's Book Club
DESCRIPTION:Rocky’s Book Club\nHave you met the beloved Talk From the Start mascot and literacy advocate\, Rocky the Reader? He’s a jolly pup who loves to read\, play literacy games\, and travel! Join us every week for Rocky’s Book Club as we read some of Rocky’s favorite books for children 0-5+ years old. View program page. \nProgram Schedule: \n\nTuesday at 10:00am\n\nPurchase Tickets to the museum
URL:https://mschildrensmuseum.org/event/rockys-book-club-2/2026-04-14/
CATEGORIES:Jackson
ATTACH;FMTTYPE=image/jpeg:https://mschildrensmuseum.org/wp-content/uploads/2022/02/6T4A0987-1-scaled-e1645733081769.jpg
END:VEVENT
BEGIN:VEVENT
DTSTART;TZID=America/Chicago:20260407T100000
DTEND;TZID=America/Chicago:20260407T103000
DTSTAMP:20260423T062822
CREATED:20220718T145401Z
LAST-MODIFIED:20260113T180538Z
UID:53444-1775556000-1775557800@mschildrensmuseum.org
SUMMARY:Rocky's Book Club
DESCRIPTION:Rocky’s Book Club\nHave you met the beloved Talk From the Start mascot and literacy advocate\, Rocky the Reader? He’s a jolly pup who loves to read\, play literacy games\, and travel! Join us every week for Rocky’s Book Club as we read some of Rocky’s favorite books for children 0-5+ years old. View program page. \nProgram Schedule: \n\nTuesday at 10:00am\n\nPurchase Tickets to the museum
URL:https://mschildrensmuseum.org/event/rockys-book-club-2/2026-04-07/
CATEGORIES:Jackson
ATTACH;FMTTYPE=image/jpeg:https://mschildrensmuseum.org/wp-content/uploads/2022/02/6T4A0987-1-scaled-e1645733081769.jpg
END:VEVENT
BEGIN:VEVENT
DTSTART;TZID=America/Chicago:20260331T100000
DTEND;TZID=America/Chicago:20260331T103000
DTSTAMP:20260423T062822
CREATED:20220718T145401Z
LAST-MODIFIED:20260113T180538Z
UID:53443-1774951200-1774953000@mschildrensmuseum.org
SUMMARY:Rocky's Book Club
DESCRIPTION:Rocky’s Book Club\nHave you met the beloved Talk From the Start mascot and literacy advocate\, Rocky the Reader? He’s a jolly pup who loves to read\, play literacy games\, and travel! Join us every week for Rocky’s Book Club as we read some of Rocky’s favorite books for children 0-5+ years old. View program page. \nProgram Schedule: \n\nTuesday at 10:00am\n\nPurchase Tickets to the museum
URL:https://mschildrensmuseum.org/event/rockys-book-club-2/2026-03-31/
CATEGORIES:Jackson
ATTACH;FMTTYPE=image/jpeg:https://mschildrensmuseum.org/wp-content/uploads/2022/02/6T4A0987-1-scaled-e1645733081769.jpg
END:VEVENT
BEGIN:VEVENT
DTSTART;TZID=America/Chicago:20260324T100000
DTEND;TZID=America/Chicago:20260324T103000
DTSTAMP:20260423T062822
CREATED:20220718T145401Z
LAST-MODIFIED:20260113T180538Z
UID:53442-1774346400-1774348200@mschildrensmuseum.org
SUMMARY:Rocky's Book Club
DESCRIPTION:Rocky’s Book Club\nHave you met the beloved Talk From the Start mascot and literacy advocate\, Rocky the Reader? He’s a jolly pup who loves to read\, play literacy games\, and travel! Join us every week for Rocky’s Book Club as we read some of Rocky’s favorite books for children 0-5+ years old. View program page. \nProgram Schedule: \n\nTuesday at 10:00am\n\nPurchase Tickets to the museum
URL:https://mschildrensmuseum.org/event/rockys-book-club-2/2026-03-24/
CATEGORIES:Jackson
ATTACH;FMTTYPE=image/jpeg:https://mschildrensmuseum.org/wp-content/uploads/2022/02/6T4A0987-1-scaled-e1645733081769.jpg
END:VEVENT
BEGIN:VEVENT
DTSTART;TZID=America/Chicago:20260317T100000
DTEND;TZID=America/Chicago:20260317T103000
DTSTAMP:20260423T062822
CREATED:20220718T145401Z
LAST-MODIFIED:20260113T180537Z
UID:53441-1773741600-1773743400@mschildrensmuseum.org
SUMMARY:Rocky's Book Club
DESCRIPTION:Rocky’s Book Club\nHave you met the beloved Talk From the Start mascot and literacy advocate\, Rocky the Reader? He’s a jolly pup who loves to read\, play literacy games\, and travel! Join us every week for Rocky’s Book Club as we read some of Rocky’s favorite books for children 0-5+ years old. View program page. \nProgram Schedule: \n\nTuesday at 10:00am\n\nPurchase Tickets to the museum
URL:https://mschildrensmuseum.org/event/rockys-book-club-2/2026-03-17/
CATEGORIES:Jackson
ATTACH;FMTTYPE=image/jpeg:https://mschildrensmuseum.org/wp-content/uploads/2022/02/6T4A0987-1-scaled-e1645733081769.jpg
END:VEVENT
BEGIN:VEVENT
DTSTART;TZID=America/Chicago:20260310T100000
DTEND;TZID=America/Chicago:20260310T103000
DTSTAMP:20260423T062822
CREATED:20220718T145401Z
LAST-MODIFIED:20260113T180533Z
UID:53440-1773136800-1773138600@mschildrensmuseum.org
SUMMARY:Rocky's Book Club
DESCRIPTION:Rocky’s Book Club\nHave you met the beloved Talk From the Start mascot and literacy advocate\, Rocky the Reader? He’s a jolly pup who loves to read\, play literacy games\, and travel! Join us every week for Rocky’s Book Club as we read some of Rocky’s favorite books for children 0-5+ years old. View program page. \nProgram Schedule: \n\nTuesday at 10:00am\n\nPurchase Tickets to the museum
URL:https://mschildrensmuseum.org/event/rockys-book-club-2/2026-03-10/
CATEGORIES:Jackson
ATTACH;FMTTYPE=image/jpeg:https://mschildrensmuseum.org/wp-content/uploads/2022/02/6T4A0987-1-scaled-e1645733081769.jpg
END:VEVENT
BEGIN:VEVENT
DTSTART;TZID=America/Chicago:20260303T100000
DTEND;TZID=America/Chicago:20260303T103000
DTSTAMP:20260423T062822
CREATED:20220718T145401Z
LAST-MODIFIED:20260113T180533Z
UID:53439-1772532000-1772533800@mschildrensmuseum.org
SUMMARY:Rocky's Book Club
DESCRIPTION:Rocky’s Book Club\nHave you met the beloved Talk From the Start mascot and literacy advocate\, Rocky the Reader? He’s a jolly pup who loves to read\, play literacy games\, and travel! Join us every week for Rocky’s Book Club as we read some of Rocky’s favorite books for children 0-5+ years old. View program page. \nProgram Schedule: \n\nTuesday at 10:00am\n\nPurchase Tickets to the museum
URL:https://mschildrensmuseum.org/event/rockys-book-club-2/2026-03-03/
CATEGORIES:Jackson
ATTACH;FMTTYPE=image/jpeg:https://mschildrensmuseum.org/wp-content/uploads/2022/02/6T4A0987-1-scaled-e1645733081769.jpg
END:VEVENT
BEGIN:VEVENT
DTSTART;TZID=America/Chicago:20260224T100000
DTEND;TZID=America/Chicago:20260224T103000
DTSTAMP:20260423T062822
CREATED:20220718T145401Z
LAST-MODIFIED:20260113T180532Z
UID:53438-1771927200-1771929000@mschildrensmuseum.org
SUMMARY:Rocky's Book Club
DESCRIPTION:Rocky’s Book Club\nHave you met the beloved Talk From the Start mascot and literacy advocate\, Rocky the Reader? He’s a jolly pup who loves to read\, play literacy games\, and travel! Join us every week for Rocky’s Book Club as we read some of Rocky’s favorite books for children 0-5+ years old. View program page. \nProgram Schedule: \n\nTuesday at 10:00am\n\nPurchase Tickets to the museum
URL:https://mschildrensmuseum.org/event/rockys-book-club-2/2026-02-24/
CATEGORIES:Jackson
ATTACH;FMTTYPE=image/jpeg:https://mschildrensmuseum.org/wp-content/uploads/2022/02/6T4A0987-1-scaled-e1645733081769.jpg
END:VEVENT
BEGIN:VEVENT
DTSTART;TZID=America/Chicago:20260217T100000
DTEND;TZID=America/Chicago:20260217T103000
DTSTAMP:20260423T062822
CREATED:20220718T145401Z
LAST-MODIFIED:20260113T180532Z
UID:53437-1771322400-1771324200@mschildrensmuseum.org
SUMMARY:Rocky's Book Club
DESCRIPTION:Rocky’s Book Club\nHave you met the beloved Talk From the Start mascot and literacy advocate\, Rocky the Reader? He’s a jolly pup who loves to read\, play literacy games\, and travel! Join us every week for Rocky’s Book Club as we read some of Rocky’s favorite books for children 0-5+ years old. View program page. \nProgram Schedule: \n\nTuesday at 10:00am\n\nPurchase Tickets to the museum
URL:https://mschildrensmuseum.org/event/rockys-book-club-2/2026-02-17/
CATEGORIES:Jackson
ATTACH;FMTTYPE=image/jpeg:https://mschildrensmuseum.org/wp-content/uploads/2022/02/6T4A0987-1-scaled-e1645733081769.jpg
END:VEVENT
BEGIN:VEVENT
DTSTART;TZID=America/Chicago:20260210T100000
DTEND;TZID=America/Chicago:20260210T103000
DTSTAMP:20260423T062822
CREATED:20220718T145401Z
LAST-MODIFIED:20260113T180532Z
UID:53436-1770717600-1770719400@mschildrensmuseum.org
SUMMARY:Rocky's Book Club
DESCRIPTION:Rocky’s Book Club\nHave you met the beloved Talk From the Start mascot and literacy advocate\, Rocky the Reader? He’s a jolly pup who loves to read\, play literacy games\, and travel! Join us every week for Rocky’s Book Club as we read some of Rocky’s favorite books for children 0-5+ years old. View program page. \nProgram Schedule: \n\nTuesday at 10:00am\n\nPurchase Tickets to the museum
URL:https://mschildrensmuseum.org/event/rockys-book-club-2/2026-02-10/
CATEGORIES:Jackson
ATTACH;FMTTYPE=image/jpeg:https://mschildrensmuseum.org/wp-content/uploads/2022/02/6T4A0987-1-scaled-e1645733081769.jpg
END:VEVENT
BEGIN:VEVENT
DTSTART;TZID=America/Chicago:20260203T100000
DTEND;TZID=America/Chicago:20260203T103000
DTSTAMP:20260423T062822
CREATED:20220718T145401Z
LAST-MODIFIED:20260113T180531Z
UID:53435-1770112800-1770114600@mschildrensmuseum.org
SUMMARY:Rocky's Book Club
DESCRIPTION:Rocky’s Book Club\nHave you met the beloved Talk From the Start mascot and literacy advocate\, Rocky the Reader? He’s a jolly pup who loves to read\, play literacy games\, and travel! Join us every week for Rocky’s Book Club as we read some of Rocky’s favorite books for children 0-5+ years old. View program page. \nProgram Schedule: \n\nTuesday at 10:00am\n\nPurchase Tickets to the museum
URL:https://mschildrensmuseum.org/event/rockys-book-club-2/2026-02-03/
CATEGORIES:Jackson
ATTACH;FMTTYPE=image/jpeg:https://mschildrensmuseum.org/wp-content/uploads/2022/02/6T4A0987-1-scaled-e1645733081769.jpg
END:VEVENT
BEGIN:VEVENT
DTSTART;TZID=America/Chicago:20260127T100000
DTEND;TZID=America/Chicago:20260127T103000
DTSTAMP:20260423T062822
CREATED:20220718T145401Z
LAST-MODIFIED:20260113T180531Z
UID:53434-1769508000-1769509800@mschildrensmuseum.org
SUMMARY:Rocky's Book Club
DESCRIPTION:Rocky’s Book Club\nHave you met the beloved Talk From the Start mascot and literacy advocate\, Rocky the Reader? He’s a jolly pup who loves to read\, play literacy games\, and travel! Join us every week for Rocky’s Book Club as we read some of Rocky’s favorite books for children 0-5+ years old. View program page. \nProgram Schedule: \n\nTuesday at 10:00am\n\nPurchase Tickets to the museum
URL:https://mschildrensmuseum.org/event/rockys-book-club-2/2026-01-27/
CATEGORIES:Jackson
ATTACH;FMTTYPE=image/jpeg:https://mschildrensmuseum.org/wp-content/uploads/2022/02/6T4A0987-1-scaled-e1645733081769.jpg
END:VEVENT
BEGIN:VEVENT
DTSTART;TZID=America/Chicago:20260120T100000
DTEND;TZID=America/Chicago:20260120T103000
DTSTAMP:20260423T062822
CREATED:20220718T145401Z
LAST-MODIFIED:20260113T180530Z
UID:53433-1768903200-1768905000@mschildrensmuseum.org
SUMMARY:Rocky's Book Club
DESCRIPTION:Rocky’s Book Club\nHave you met the beloved Talk From the Start mascot and literacy advocate\, Rocky the Reader? He’s a jolly pup who loves to read\, play literacy games\, and travel! Join us every week for Rocky’s Book Club as we read some of Rocky’s favorite books for children 0-5+ years old. View program page. \nProgram Schedule: \n\nTuesday at 10:00am\n\nPurchase Tickets to the museum
URL:https://mschildrensmuseum.org/event/rockys-book-club-2/2026-01-20/
CATEGORIES:Jackson
ATTACH;FMTTYPE=image/jpeg:https://mschildrensmuseum.org/wp-content/uploads/2022/02/6T4A0987-1-scaled-e1645733081769.jpg
END:VEVENT
BEGIN:VEVENT
DTSTART;TZID=America/Chicago:20260113T100000
DTEND;TZID=America/Chicago:20260113T103000
DTSTAMP:20260423T062822
CREATED:20220718T145401Z
LAST-MODIFIED:20260113T180530Z
UID:53432-1768298400-1768300200@mschildrensmuseum.org
SUMMARY:Rocky's Book Club
DESCRIPTION:Rocky’s Book Club\nHave you met the beloved Talk From the Start mascot and literacy advocate\, Rocky the Reader? He’s a jolly pup who loves to read\, play literacy games\, and travel! Join us every week for Rocky’s Book Club as we read some of Rocky’s favorite books for children 0-5+ years old. View program page. \nProgram Schedule: \n\nTuesday at 10:00am\n\nPurchase Tickets to the museum
URL:https://mschildrensmuseum.org/event/rockys-book-club-2/2026-01-13/
CATEGORIES:Jackson
ATTACH;FMTTYPE=image/jpeg:https://mschildrensmuseum.org/wp-content/uploads/2022/02/6T4A0987-1-scaled-e1645733081769.jpg
END:VEVENT
BEGIN:VEVENT
DTSTART;TZID=America/Chicago:20260106T100000
DTEND;TZID=America/Chicago:20260106T103000
DTSTAMP:20260423T062822
CREATED:20220718T145401Z
LAST-MODIFIED:20260113T180530Z
UID:27154-1767693600-1767695400@mschildrensmuseum.org
SUMMARY:Rocky's Book Club
DESCRIPTION:Rocky’s Book Club\nHave you met the beloved Talk From the Start mascot and literacy advocate\, Rocky the Reader? He’s a jolly pup who loves to read\, play literacy games\, and travel! Join us every week for Rocky’s Book Club as we read some of Rocky’s favorite books for children 0-5+ years old. View program page. \nProgram Schedule: \n\nTuesday at 10:00am\n\nPurchase Tickets to the museum
URL:https://mschildrensmuseum.org/event/rockys-book-club-2/2026-01-06/
CATEGORIES:Jackson
ATTACH;FMTTYPE=image/jpeg:https://mschildrensmuseum.org/wp-content/uploads/2022/02/6T4A0987-1-scaled-e1645733081769.jpg
END:VEVENT
END:VCALENDAR