BEGIN:VCALENDAR
VERSION:2.0
PRODID:-//Mississippi Children&#039;s Museum - ECPv6.15.20//NONSGML v1.0//EN
CALSCALE:GREGORIAN
METHOD:PUBLISH
X-WR-CALNAME:Mississippi Children&#039;s Museum
X-ORIGINAL-URL:https://mschildrensmuseum.org
X-WR-CALDESC:Events for Mississippi Children&#039;s Museum
REFRESH-INTERVAL;VALUE=DURATION:PT1H
X-Robots-Tag:noindex
X-PUBLISHED-TTL:PT1H
BEGIN:VTIMEZONE
TZID:America/Chicago
BEGIN:DAYLIGHT
TZOFFSETFROM:-0600
TZOFFSETTO:-0500
TZNAME:CDT
DTSTART:20200308T080000
END:DAYLIGHT
BEGIN:STANDARD
TZOFFSETFROM:-0500
TZOFFSETTO:-0600
TZNAME:CST
DTSTART:20201101T070000
END:STANDARD
BEGIN:DAYLIGHT
TZOFFSETFROM:-0600
TZOFFSETTO:-0500
TZNAME:CDT
DTSTART:20210314T080000
END:DAYLIGHT
BEGIN:STANDARD
TZOFFSETFROM:-0500
TZOFFSETTO:-0600
TZNAME:CST
DTSTART:20211107T070000
END:STANDARD
BEGIN:DAYLIGHT
TZOFFSETFROM:-0600
TZOFFSETTO:-0500
TZNAME:CDT
DTSTART:20220313T080000
END:DAYLIGHT
BEGIN:STANDARD
TZOFFSETFROM:-0500
TZOFFSETTO:-0600
TZNAME:CST
DTSTART:20221106T070000
END:STANDARD
BEGIN:DAYLIGHT
TZOFFSETFROM:-0600
TZOFFSETTO:-0500
TZNAME:CDT
DTSTART:20230312T080000
END:DAYLIGHT
BEGIN:STANDARD
TZOFFSETFROM:-0500
TZOFFSETTO:-0600
TZNAME:CST
DTSTART:20231105T070000
END:STANDARD
END:VTIMEZONE
BEGIN:VEVENT
DTSTART;TZID=America/Chicago:20220601T100000
DTEND;TZID=America/Chicago:20220601T120000
DTSTAMP:20260422T035346
CREATED:20220429T202807Z
LAST-MODIFIED:20220524T211612Z
UID:25220-1654077600-1654084800@mschildrensmuseum.org
SUMMARY:Dino Days with MPB
DESCRIPTION:Dino Days\nJoin us every Wednesday in June and July from 10:00am-12:00pm for “Dino Days” with Mississippi Public Broadcasting! During this program\, children will explore science\, the history of dinosaurs\, and more! \nProgram brought to you by: \n \n  \nPurchase tickets to the museum
URL:https://mschildrensmuseum.org/event/dinosaur-train-program/2022-06-01/
CATEGORIES:Jackson
ATTACH;FMTTYPE=image/jpeg:https://mschildrensmuseum.org/wp-content/uploads/2021/02/24055169698_9e4c4a99a2_b.jpg
END:VEVENT
BEGIN:VEVENT
DTSTART;TZID=America/Chicago:20210726T090000
DTEND;TZID=America/Chicago:20210726T170000
DTSTAMP:20260422T035346
CREATED:20210504T192708Z
LAST-MODIFIED:20220524T201445Z
UID:10605-1627290000-1627318800@mschildrensmuseum.org
SUMMARY:Magic Monday: Christmas in July
DESCRIPTION:Magic Monday: Christmas in July\nJoin us at the museum on July 26th for our special Magic Monday: Christmas in July! This day will consist of festive programming such as snowflake and ornament making\, storytime\, and a special Santa photo opportunity from 11:00am-1:00pm! \nPurchase tickets to the museum
URL:https://mschildrensmuseum.org/event/magic-monday-christmas-in-july/
CATEGORIES:Jackson
ATTACH;FMTTYPE=image/jpeg:https://mschildrensmuseum.org/wp-content/uploads/2021/05/6T4A9918-scaled-e1620156698430.jpg
END:VEVENT
BEGIN:VEVENT
DTSTART;TZID=America/Chicago:20210719T090000
DTEND;TZID=America/Chicago:20210719T170000
DTSTAMP:20260422T035346
CREATED:20210504T190829Z
LAST-MODIFIED:20210517T185655Z
UID:10587-1626685200-1626714000@mschildrensmuseum.org
SUMMARY:Magic Monday: Space Day
DESCRIPTION:Magic Monday: Space Day\nJoin us at the museum on July 19th for out of this world programming! This Magic Monday will be inspired by NASA and all things space. \nPurchase tickets to the museum
URL:https://mschildrensmuseum.org/event/magic-monday-space-day/2021-07-19/
CATEGORIES:Jackson
ATTACH;FMTTYPE=image/jpeg:https://mschildrensmuseum.org/wp-content/uploads/2021/05/NASA2-copy-e1620155504536.jpg
END:VEVENT
BEGIN:VEVENT
DTSTART;TZID=America/Chicago:20210712T090000
DTEND;TZID=America/Chicago:20210712T170000
DTSTAMP:20260422T035346
CREATED:20210504T190519Z
LAST-MODIFIED:20210701T163734Z
UID:10577-1626080400-1626109200@mschildrensmuseum.org
SUMMARY:Magic Monday: Summer Splash Day
DESCRIPTION:Magic Monday: Summer Splash Day\nJoin us at the museum on July 12th and be ready for some fun in the sun! MCM will offer splashtastic summer programming that is sure to help beat the heat this July\, such as the science of bubbles\, boat making\, and much more! \nPurchase tickets to the museum
URL:https://mschildrensmuseum.org/event/magic-monday-summer-splash-day/2021-07-12/
CATEGORIES:Jackson
ATTACH;FMTTYPE=image/jpeg:https://mschildrensmuseum.org/wp-content/uploads/2021/05/bubbles-3-e1625157346500.jpg
END:VEVENT
BEGIN:VEVENT
DTSTART;TZID=America/Chicago:20210705T153000
DTEND;TZID=America/Chicago:20210705T160000
DTSTAMP:20260422T035346
CREATED:20210504T181516Z
LAST-MODIFIED:20210624T144456Z
UID:10270-1625499000-1625500800@mschildrensmuseum.org
SUMMARY:Habla Español
DESCRIPTION:Habla Español\nThis program is help every Monday at 3:30pm\, and is a Spanish language learning course for little English speakers! Through play-based learning\, children will be able to learn practical Spanish\, as well as be inspired to continue additional language learning away from MCM. \nPurchase tickets to the museum
URL:https://mschildrensmuseum.org/event/habla-espanol/2021-07-05/
CATEGORIES:Jackson
ATTACH;FMTTYPE=image/jpeg:https://mschildrensmuseum.org/wp-content/uploads/2021/04/20170712_volunteerslideshow_1-e1618949674730.jpg
END:VEVENT
END:VCALENDAR