BEGIN:VCALENDAR
VERSION:2.0
PRODID:-//Mississippi Children&#039;s Museum - ECPv6.15.20//NONSGML v1.0//EN
CALSCALE:GREGORIAN
METHOD:PUBLISH
X-ORIGINAL-URL:https://mschildrensmuseum.org
X-WR-CALDESC:Events for Mississippi Children&#039;s Museum
REFRESH-INTERVAL;VALUE=DURATION:PT1H
X-Robots-Tag:noindex
X-PUBLISHED-TTL:PT1H
BEGIN:VTIMEZONE
TZID:America/Chicago
BEGIN:DAYLIGHT
TZOFFSETFROM:-0600
TZOFFSETTO:-0500
TZNAME:CDT
DTSTART:20250309T080000
END:DAYLIGHT
BEGIN:STANDARD
TZOFFSETFROM:-0500
TZOFFSETTO:-0600
TZNAME:CST
DTSTART:20251102T070000
END:STANDARD
BEGIN:DAYLIGHT
TZOFFSETFROM:-0600
TZOFFSETTO:-0500
TZNAME:CDT
DTSTART:20260308T080000
END:DAYLIGHT
BEGIN:STANDARD
TZOFFSETFROM:-0500
TZOFFSETTO:-0600
TZNAME:CST
DTSTART:20261101T070000
END:STANDARD
BEGIN:DAYLIGHT
TZOFFSETFROM:-0600
TZOFFSETTO:-0500
TZNAME:CDT
DTSTART:20270314T080000
END:DAYLIGHT
BEGIN:STANDARD
TZOFFSETFROM:-0500
TZOFFSETTO:-0600
TZNAME:CST
DTSTART:20271107T070000
END:STANDARD
END:VTIMEZONE
BEGIN:VEVENT
DTSTART;TZID=America/Chicago:20260605T153000
DTEND;TZID=America/Chicago:20260605T160000
DTSTAMP:20260422T064507
CREATED:20220610T135940Z
LAST-MODIFIED:20260410T143150Z
UID:26131-1780673400-1780675200@mschildrensmuseum.org
SUMMARY:Fun Friday
DESCRIPTION:Fun Friday\nTGIF! Come kick off your weekend this summer every Friday at 3:30pm with a fun activity! \nPurchase tickets to the museum
URL:https://mschildrensmuseum.org/event/fun-friday/2026-06-05/
CATEGORIES:Jackson
ATTACH;FMTTYPE=image/jpeg:https://mschildrensmuseum.org/wp-content/uploads/2025/04/20240920-PawnsNPJsQuick-7-e1746037040610.jpg
END:VEVENT
BEGIN:VEVENT
DTSTART;TZID=America/Chicago:20260606T140000
DTEND;TZID=America/Chicago:20260606T143000
DTSTAMP:20260422T064507
CREATED:20220608T152238Z
LAST-MODIFIED:20260410T143030Z
UID:26051-1780754400-1780756200@mschildrensmuseum.org
SUMMARY:Science of Bubbles
DESCRIPTION:Science of Bubbles\nHave you ever wondered how a bubble gets its iridescent color and how they are formed? Learn all about the Science of Bubbles on Saturdays at 2:00pm this summer! \nPurchase Tickets to the Museum
URL:https://mschildrensmuseum.org/event/science-of-bubbles/2026-06-06/
CATEGORIES:Jackson
ATTACH;FMTTYPE=image/jpeg:https://mschildrensmuseum.org/wp-content/uploads/2022/06/20211002_DiscoveryNight_188-scaled.jpg
END:VEVENT
BEGIN:VEVENT
DTSTART;TZID=America/Chicago:20260612T153000
DTEND;TZID=America/Chicago:20260612T160000
DTSTAMP:20260422T064507
CREATED:20220610T135940Z
LAST-MODIFIED:20260410T143151Z
UID:55466-1781278200-1781280000@mschildrensmuseum.org
SUMMARY:Fun Friday
DESCRIPTION:Fun Friday\nTGIF! Come kick off your weekend this summer every Friday at 3:30pm with a fun activity! \nPurchase tickets to the museum
URL:https://mschildrensmuseum.org/event/fun-friday/2026-06-12/
CATEGORIES:Jackson
ATTACH;FMTTYPE=image/jpeg:https://mschildrensmuseum.org/wp-content/uploads/2025/04/20240920-PawnsNPJsQuick-7-e1746037040610.jpg
END:VEVENT
BEGIN:VEVENT
DTSTART;TZID=America/Chicago:20260613T140000
DTEND;TZID=America/Chicago:20260613T143000
DTSTAMP:20260422T064507
CREATED:20220608T152238Z
LAST-MODIFIED:20260410T143030Z
UID:55448-1781359200-1781361000@mschildrensmuseum.org
SUMMARY:Science of Bubbles
DESCRIPTION:Science of Bubbles\nHave you ever wondered how a bubble gets its iridescent color and how they are formed? Learn all about the Science of Bubbles on Saturdays at 2:00pm this summer! \nPurchase Tickets to the Museum
URL:https://mschildrensmuseum.org/event/science-of-bubbles/2026-06-13/
CATEGORIES:Jackson
ATTACH;FMTTYPE=image/jpeg:https://mschildrensmuseum.org/wp-content/uploads/2022/06/20211002_DiscoveryNight_188-scaled.jpg
END:VEVENT
BEGIN:VEVENT
DTSTART;TZID=America/Chicago:20260619T153000
DTEND;TZID=America/Chicago:20260619T160000
DTSTAMP:20260422T064507
CREATED:20220610T135940Z
LAST-MODIFIED:20260410T143151Z
UID:55467-1781883000-1781884800@mschildrensmuseum.org
SUMMARY:Fun Friday
DESCRIPTION:Fun Friday\nTGIF! Come kick off your weekend this summer every Friday at 3:30pm with a fun activity! \nPurchase tickets to the museum
URL:https://mschildrensmuseum.org/event/fun-friday/2026-06-19/
CATEGORIES:Jackson
ATTACH;FMTTYPE=image/jpeg:https://mschildrensmuseum.org/wp-content/uploads/2025/04/20240920-PawnsNPJsQuick-7-e1746037040610.jpg
END:VEVENT
BEGIN:VEVENT
DTSTART;TZID=America/Chicago:20260620T140000
DTEND;TZID=America/Chicago:20260620T143000
DTSTAMP:20260422T064507
CREATED:20220608T152238Z
LAST-MODIFIED:20260410T143030Z
UID:55449-1781964000-1781965800@mschildrensmuseum.org
SUMMARY:Science of Bubbles
DESCRIPTION:Science of Bubbles\nHave you ever wondered how a bubble gets its iridescent color and how they are formed? Learn all about the Science of Bubbles on Saturdays at 2:00pm this summer! \nPurchase Tickets to the Museum
URL:https://mschildrensmuseum.org/event/science-of-bubbles/2026-06-20/
CATEGORIES:Jackson
ATTACH;FMTTYPE=image/jpeg:https://mschildrensmuseum.org/wp-content/uploads/2022/06/20211002_DiscoveryNight_188-scaled.jpg
END:VEVENT
BEGIN:VEVENT
DTSTART;TZID=America/Chicago:20260626T153000
DTEND;TZID=America/Chicago:20260626T160000
DTSTAMP:20260422T064507
CREATED:20220610T135940Z
LAST-MODIFIED:20260410T143151Z
UID:55468-1782487800-1782489600@mschildrensmuseum.org
SUMMARY:Fun Friday
DESCRIPTION:Fun Friday\nTGIF! Come kick off your weekend this summer every Friday at 3:30pm with a fun activity! \nPurchase tickets to the museum
URL:https://mschildrensmuseum.org/event/fun-friday/2026-06-26/
CATEGORIES:Jackson
ATTACH;FMTTYPE=image/jpeg:https://mschildrensmuseum.org/wp-content/uploads/2025/04/20240920-PawnsNPJsQuick-7-e1746037040610.jpg
END:VEVENT
BEGIN:VEVENT
DTSTART;TZID=America/Chicago:20260627T140000
DTEND;TZID=America/Chicago:20260627T143000
DTSTAMP:20260422T064507
CREATED:20220608T152238Z
LAST-MODIFIED:20260410T143031Z
UID:55450-1782568800-1782570600@mschildrensmuseum.org
SUMMARY:Science of Bubbles
DESCRIPTION:Science of Bubbles\nHave you ever wondered how a bubble gets its iridescent color and how they are formed? Learn all about the Science of Bubbles on Saturdays at 2:00pm this summer! \nPurchase Tickets to the Museum
URL:https://mschildrensmuseum.org/event/science-of-bubbles/2026-06-27/
CATEGORIES:Jackson
ATTACH;FMTTYPE=image/jpeg:https://mschildrensmuseum.org/wp-content/uploads/2022/06/20211002_DiscoveryNight_188-scaled.jpg
END:VEVENT
END:VCALENDAR