BEGIN:VCALENDAR
VERSION:2.0
PRODID:-//Mississippi Children&#039;s Museum - ECPv6.15.20//NONSGML v1.0//EN
CALSCALE:GREGORIAN
METHOD:PUBLISH
X-WR-CALNAME:Mississippi Children&#039;s Museum
X-ORIGINAL-URL:https://mschildrensmuseum.org
X-WR-CALDESC:Events for Mississippi Children&#039;s Museum
REFRESH-INTERVAL;VALUE=DURATION:PT1H
X-Robots-Tag:noindex
X-PUBLISHED-TTL:PT1H
BEGIN:VTIMEZONE
TZID:America/Chicago
BEGIN:DAYLIGHT
TZOFFSETFROM:-0600
TZOFFSETTO:-0500
TZNAME:CDT
DTSTART:20240310T080000
END:DAYLIGHT
BEGIN:STANDARD
TZOFFSETFROM:-0500
TZOFFSETTO:-0600
TZNAME:CST
DTSTART:20241103T070000
END:STANDARD
BEGIN:DAYLIGHT
TZOFFSETFROM:-0600
TZOFFSETTO:-0500
TZNAME:CDT
DTSTART:20250309T080000
END:DAYLIGHT
BEGIN:STANDARD
TZOFFSETFROM:-0500
TZOFFSETTO:-0600
TZNAME:CST
DTSTART:20251102T070000
END:STANDARD
BEGIN:DAYLIGHT
TZOFFSETFROM:-0600
TZOFFSETTO:-0500
TZNAME:CDT
DTSTART:20260308T080000
END:DAYLIGHT
BEGIN:STANDARD
TZOFFSETFROM:-0500
TZOFFSETTO:-0600
TZNAME:CST
DTSTART:20261101T070000
END:STANDARD
END:VTIMEZONE
BEGIN:VEVENT
DTSTART;VALUE=DATE:20250524
DTEND;VALUE=DATE:20250908
DTSTAMP:20260422T170954
CREATED:20250421T182227Z
LAST-MODIFIED:20250603T160528Z
UID:47043-1748044800-1757289599@mschildrensmuseum.org
SUMMARY:Measurement Rules Summer Exhibit
DESCRIPTION:Measurement Rules\nSUMMER EXHIBIT\nOpen May 24 – Sept. 7 \nGauge height\, distance\, volume\, and more at the Mississippi Children’s Museum’s summer exhibit in Jackson\, Measurement Rules\, opening May 24\, 2024! This immersive exhibit invites children and families to explore the concepts of length\, time\, volume\, and weight in a variety of hands-on\, fun ways! \nThe museum will be closed on May 26 and July 4. \n\nFree for Members | $13/Person for Non-Members\nTickets Available Online or At the Door\nAccess to Summer Exhibit is included in General Admission Ticket\n\nSPECIAL EVENTS\n\nMay 23: Member Preview Night\nJune 7: Special Event\nJuly 12: Double Day\nAugust 9: Musical Measures\n\nLearn More about this Exhibit\nPurchase Tickets to the Museum\nExhibit Sponsored by: \n   
URL:https://mschildrensmuseum.org/event/measurement-rules/
LOCATION:Mississippi Children’s Museum\, 2145 Museum Boulevard\, Jackson\, Mississippi\, 39202
CATEGORIES:Jackson
ATTACH;FMTTYPE=image/jpeg:https://mschildrensmuseum.org/wp-content/uploads/2025/03/170417_ChildrensMuseum_Measure_041-scaled.jpg
END:VEVENT
END:VCALENDAR