BEGIN:VCALENDAR
VERSION:2.0
PRODID:-//Mississippi Children&#039;s Museum - ECPv6.15.20//NONSGML v1.0//EN
CALSCALE:GREGORIAN
METHOD:PUBLISH
X-WR-CALNAME:Mississippi Children&#039;s Museum
X-ORIGINAL-URL:https://mschildrensmuseum.org
X-WR-CALDESC:Events for Mississippi Children&#039;s Museum
REFRESH-INTERVAL;VALUE=DURATION:PT1H
X-Robots-Tag:noindex
X-PUBLISHED-TTL:PT1H
BEGIN:VTIMEZONE
TZID:America/Chicago
BEGIN:DAYLIGHT
TZOFFSETFROM:-0600
TZOFFSETTO:-0500
TZNAME:CDT
DTSTART:20230312T080000
END:DAYLIGHT
BEGIN:STANDARD
TZOFFSETFROM:-0500
TZOFFSETTO:-0600
TZNAME:CST
DTSTART:20231105T070000
END:STANDARD
BEGIN:DAYLIGHT
TZOFFSETFROM:-0600
TZOFFSETTO:-0500
TZNAME:CDT
DTSTART:20240310T080000
END:DAYLIGHT
BEGIN:STANDARD
TZOFFSETFROM:-0500
TZOFFSETTO:-0600
TZNAME:CST
DTSTART:20241103T070000
END:STANDARD
BEGIN:DAYLIGHT
TZOFFSETFROM:-0600
TZOFFSETTO:-0500
TZNAME:CDT
DTSTART:20250309T080000
END:DAYLIGHT
BEGIN:STANDARD
TZOFFSETFROM:-0500
TZOFFSETTO:-0600
TZNAME:CST
DTSTART:20251102T070000
END:STANDARD
END:VTIMEZONE
BEGIN:VEVENT
DTSTART;VALUE=DATE:20240511
DTEND;VALUE=DATE:20240909
DTSTAMP:20260423T191044
CREATED:20240301T214753Z
LAST-MODIFIED:20240514T204720Z
UID:39968-1715385600-1725839999@mschildrensmuseum.org
SUMMARY:PAW Patrol: Adventure Play Summer Exhibit
DESCRIPTION:PAW Patrol: Adventure Play\nSUMMER EXHIBIT\nOpen May 11 – Sept. 8 \nSave the day through hands-on play at the Mississippi Children’s Museum’s summer exhibit in Jackson\, PAW Patrol: Adventure Play\, opening May 11\, 2024! Based on the hit series\, PAW Patrol\, this immersive exhibit invites children and families to embark on daring rescue missions and work together to overcome challenges. \nThe museum will be closed on May 27 and July 4. \n\nFree for Members | $13/Person for Non-Members\nTickets Available Online or At the Door\nAccess to Summer Exhibit is included in General Admission Ticket\n\nLearn More about this Exhibit\nPurchase Tickets to the Museum\nExhibit Locally Sponsored by: \n   
URL:https://mschildrensmuseum.org/event/paw-patrol-adventure-play/
LOCATION:Mississippi Children’s Museum\, 2145 Museum Boulevard\, Jackson\, Mississippi\, 39202
CATEGORIES:Jackson
ATTACH;FMTTYPE=image/jpeg:https://mschildrensmuseum.org/wp-content/uploads/2024/05/068A4626-scaled.jpg
END:VEVENT
BEGIN:VEVENT
DTSTART;VALUE=DATE:20240603
DTEND;VALUE=DATE:20240801
DTSTAMP:20260423T191044
CREATED:20240516T181600Z
LAST-MODIFIED:20240516T184351Z
UID:41596-1717372800-1722470399@mschildrensmuseum.org
SUMMARY:Celebrations: Asian Culture Summer Exhibit
DESCRIPTION:Celebrations: Asian Culture Exhibit\nJUNE 3 – JULY 31 \n(Closed July 4) \nExplore our summer traveling exhibit\, Celebrations: Asian Culture! \nCelebrations: Asian Culture is an exhibit designed to bring children and families together to explore the culture and New Year celebrations in South Korea\, China\, and Vietnam through the imagery of fireworks\, lanterns\, lotuses\, and kites. \nChildren can participate in activities such as drumming\, dancing\, and storytelling. From telling the Nian Monster story in a small theater to discovering different dishes served for breakfast as an eye spy game\, children will be captivated by the rich history\, beauty\, and fun of these Asian New Year festivals. \nLearn More about This Exhibit\n\nUpcoming Events:\n\nJune 3: Exhibit Opens for Magic Monday: Celebrate Asian Culture\n\nMore Details:\n\nFree for Members\n$10/Person for Non-Members\nTickets Available Online or At the Door\nAccess to Summer Exhibit is included in General Admission Ticket\n\n\nPurchase Museum Tickets\nCelebrations: Asian Culture is made possible by the Association of Children’s Museums and the Freeman Foundation.
URL:https://mschildrensmuseum.org/event/celebrations-asian-culture-summ-exhibit/
LOCATION:MCM-Meridian\, 403 22nd Avenue\, Meridian\, MS\, 39301\, United States
CATEGORIES:Meridian
ATTACH;FMTTYPE=image/jpeg:https://mschildrensmuseum.org/wp-content/uploads/2023/12/068A6626-scaled.jpg
END:VEVENT
END:VCALENDAR