BEGIN:VCALENDAR
VERSION:2.0
PRODID:-//Mississippi Children&#039;s Museum - ECPv6.15.20//NONSGML v1.0//EN
CALSCALE:GREGORIAN
METHOD:PUBLISH
X-WR-CALNAME:Mississippi Children&#039;s Museum
X-ORIGINAL-URL:https://mschildrensmuseum.org
X-WR-CALDESC:Events for Mississippi Children&#039;s Museum
REFRESH-INTERVAL;VALUE=DURATION:PT1H
X-Robots-Tag:noindex
X-PUBLISHED-TTL:PT1H
BEGIN:VTIMEZONE
TZID:America/Chicago
BEGIN:DAYLIGHT
TZOFFSETFROM:-0600
TZOFFSETTO:-0500
TZNAME:CDT
DTSTART:20200308T080000
END:DAYLIGHT
BEGIN:STANDARD
TZOFFSETFROM:-0500
TZOFFSETTO:-0600
TZNAME:CST
DTSTART:20201101T070000
END:STANDARD
BEGIN:DAYLIGHT
TZOFFSETFROM:-0600
TZOFFSETTO:-0500
TZNAME:CDT
DTSTART:20210314T080000
END:DAYLIGHT
BEGIN:STANDARD
TZOFFSETFROM:-0500
TZOFFSETTO:-0600
TZNAME:CST
DTSTART:20211107T070000
END:STANDARD
BEGIN:DAYLIGHT
TZOFFSETFROM:-0600
TZOFFSETTO:-0500
TZNAME:CDT
DTSTART:20220313T080000
END:DAYLIGHT
BEGIN:STANDARD
TZOFFSETFROM:-0500
TZOFFSETTO:-0600
TZNAME:CST
DTSTART:20221106T070000
END:STANDARD
BEGIN:DAYLIGHT
TZOFFSETFROM:-0600
TZOFFSETTO:-0500
TZNAME:CDT
DTSTART:20230312T080000
END:DAYLIGHT
BEGIN:STANDARD
TZOFFSETFROM:-0500
TZOFFSETTO:-0600
TZNAME:CST
DTSTART:20231105T070000
END:STANDARD
END:VTIMEZONE
BEGIN:VEVENT
DTSTART;TZID=America/Chicago:20220716T100000
DTEND;TZID=America/Chicago:20220716T140000
DTSTAMP:20260422T085347
CREATED:20220407T202328Z
LAST-MODIFIED:20220608T165022Z
UID:24194-1657965600-1657980000@mschildrensmuseum.org
SUMMARY:STEAM & Transportation Day
DESCRIPTION:STEAM & Transportation Day\nJoin us on July 16 from 10:00am-2:00pm for a day where children can explore STEAM and Transportation during our Dinosaur Train summer exhibit! This day will feature exhibitors such as MDOT\, MEMA and more for an educational day of hands-on learning. Activities will include… \n\nPteranodon Gliders\nLocomotion: Electric Train Experiment\nDino Dash using Dash robots\nWalk like a Dinosaur game\n3D Printing: Explore Gears\n\nFree for Members | $10 for Non-Members | Entry to exhibit included with admission price \nLearn More about Dinosaur Train
URL:https://mschildrensmuseum.org/event/steam-transportation-day/
CATEGORIES:Jackson
ATTACH;FMTTYPE=image/jpeg:https://mschildrensmuseum.org/wp-content/uploads/2022/04/6T4A1896-scaled-e1654707016737.jpg
END:VEVENT
BEGIN:VEVENT
DTSTART;TZID=America/Chicago:20210706T150000
DTEND;TZID=America/Chicago:20210706T160000
DTSTAMP:20260422T085347
CREATED:20210630T132612Z
LAST-MODIFIED:20210630T132612Z
UID:12765-1625583600-1625587200@mschildrensmuseum.org
SUMMARY:Tech Tuesday
DESCRIPTION:Step into the WonderBox exhibit for Tech Tuesdays at 3 pm!\nThis facilitated pop-up program allows children to interact with our little blue robots\, Dot and Dash\, to learn the basics of robotics and coding.
URL:https://mschildrensmuseum.org/event/tech-tuesday/2021-07-06/
LOCATION:MCM-Meridian\, 403 22nd Avenue\, Meridian\, MS\, 39301\, United States
CATEGORIES:Meridian
ATTACH;FMTTYPE=image/jpeg:https://mschildrensmuseum.org/wp-content/uploads/2021/06/6T4A3041-X2.jpg
END:VEVENT
END:VCALENDAR