BEGIN:VCALENDAR
VERSION:2.0
PRODID:-//Mississippi Children&#039;s Museum - ECPv6.15.20//NONSGML v1.0//EN
CALSCALE:GREGORIAN
METHOD:PUBLISH
X-WR-CALNAME:Mississippi Children&#039;s Museum
X-ORIGINAL-URL:https://mschildrensmuseum.org
X-WR-CALDESC:Events for Mississippi Children&#039;s Museum
REFRESH-INTERVAL;VALUE=DURATION:PT1H
X-Robots-Tag:noindex
X-PUBLISHED-TTL:PT1H
BEGIN:VTIMEZONE
TZID:America/Chicago
BEGIN:DAYLIGHT
TZOFFSETFROM:-0600
TZOFFSETTO:-0500
TZNAME:CDT
DTSTART:20250309T080000
END:DAYLIGHT
BEGIN:STANDARD
TZOFFSETFROM:-0500
TZOFFSETTO:-0600
TZNAME:CST
DTSTART:20251102T070000
END:STANDARD
BEGIN:DAYLIGHT
TZOFFSETFROM:-0600
TZOFFSETTO:-0500
TZNAME:CDT
DTSTART:20260308T080000
END:DAYLIGHT
BEGIN:STANDARD
TZOFFSETFROM:-0500
TZOFFSETTO:-0600
TZNAME:CST
DTSTART:20261101T070000
END:STANDARD
BEGIN:DAYLIGHT
TZOFFSETFROM:-0600
TZOFFSETTO:-0500
TZNAME:CDT
DTSTART:20270314T080000
END:DAYLIGHT
BEGIN:STANDARD
TZOFFSETFROM:-0500
TZOFFSETTO:-0600
TZNAME:CST
DTSTART:20271107T070000
END:STANDARD
END:VTIMEZONE
BEGIN:VEVENT
DTSTART;TZID=America/Chicago:20260426T110000
DTEND;TZID=America/Chicago:20260426T130000
DTSTAMP:20260423T181503
CREATED:20240102T163552Z
LAST-MODIFIED:20251227T031624Z
UID:49267-1777201200-1777208400@mschildrensmuseum.org
SUMMARY:Sensory Friendly Hours
DESCRIPTION:Sensory Friendly Hours\nJoin the Mississippi Children’s Museum for Sensory Friendly Hours on the 4th Sunday of every month from 11am – 1pm! This is an exclusive time designed for children with sensory difficulties. Children and their caregivers can experience the museum in a new light with reduced stimuli and Sensory Inclusive Certified staff. \nDuring your visit\, you can expect:\n\nReduced crowds\, lighting\, and sounds\nSensory Kits & maps to help you navigate potentially over-stimulating exhibits\nSensory Inclusive Certified staff by KultureCity\n\nPlease contact MCM’s Director of Education and Programs\, Monique Ealey\, at monique@mcm.ms to learn more. \nPurchase Tickets
URL:https://mschildrensmuseum.org/event/sensory-friendly-hours-2/2026-04-26/
LOCATION:Mississippi Children’s Museum\, 2145 Museum Boulevard\, Jackson\, Mississippi\, 39202
CATEGORIES:Jackson
ATTACH;FMTTYPE=image/jpeg:https://mschildrensmuseum.org/wp-content/uploads/2023/06/068A9655-scaled.jpg
END:VEVENT
BEGIN:VEVENT
DTSTART;TZID=America/Chicago:20260524T110000
DTEND;TZID=America/Chicago:20260524T130000
DTSTAMP:20260423T181503
CREATED:20240102T163552Z
LAST-MODIFIED:20251227T031626Z
UID:49268-1779620400-1779627600@mschildrensmuseum.org
SUMMARY:Sensory Friendly Hours
DESCRIPTION:Sensory Friendly Hours\nJoin the Mississippi Children’s Museum for Sensory Friendly Hours on the 4th Sunday of every month from 11am – 1pm! This is an exclusive time designed for children with sensory difficulties. Children and their caregivers can experience the museum in a new light with reduced stimuli and Sensory Inclusive Certified staff. \nDuring your visit\, you can expect:\n\nReduced crowds\, lighting\, and sounds\nSensory Kits & maps to help you navigate potentially over-stimulating exhibits\nSensory Inclusive Certified staff by KultureCity\n\nPlease contact MCM’s Director of Education and Programs\, Monique Ealey\, at monique@mcm.ms to learn more. \nPurchase Tickets
URL:https://mschildrensmuseum.org/event/sensory-friendly-hours-2/2026-05-24/
LOCATION:Mississippi Children’s Museum\, 2145 Museum Boulevard\, Jackson\, Mississippi\, 39202
CATEGORIES:Jackson
ATTACH;FMTTYPE=image/jpeg:https://mschildrensmuseum.org/wp-content/uploads/2023/06/068A9655-scaled.jpg
END:VEVENT
BEGIN:VEVENT
DTSTART;TZID=America/Chicago:20260628T110000
DTEND;TZID=America/Chicago:20260628T130000
DTSTAMP:20260423T181503
CREATED:20240102T163552Z
LAST-MODIFIED:20251227T031626Z
UID:49270-1782644400-1782651600@mschildrensmuseum.org
SUMMARY:Sensory Friendly Hours
DESCRIPTION:Sensory Friendly Hours\nJoin the Mississippi Children’s Museum for Sensory Friendly Hours on the 4th Sunday of every month from 11am – 1pm! This is an exclusive time designed for children with sensory difficulties. Children and their caregivers can experience the museum in a new light with reduced stimuli and Sensory Inclusive Certified staff. \nDuring your visit\, you can expect:\n\nReduced crowds\, lighting\, and sounds\nSensory Kits & maps to help you navigate potentially over-stimulating exhibits\nSensory Inclusive Certified staff by KultureCity\n\nPlease contact MCM’s Director of Education and Programs\, Monique Ealey\, at monique@mcm.ms to learn more. \nPurchase Tickets
URL:https://mschildrensmuseum.org/event/sensory-friendly-hours-2/2026-06-28/
LOCATION:Mississippi Children’s Museum\, 2145 Museum Boulevard\, Jackson\, Mississippi\, 39202
CATEGORIES:Jackson
ATTACH;FMTTYPE=image/jpeg:https://mschildrensmuseum.org/wp-content/uploads/2023/06/068A9655-scaled.jpg
END:VEVENT
BEGIN:VEVENT
DTSTART;TZID=America/Chicago:20260726T110000
DTEND;TZID=America/Chicago:20260726T130000
DTSTAMP:20260423T181503
CREATED:20240102T163552Z
LAST-MODIFIED:20251227T031626Z
UID:49684-1785063600-1785070800@mschildrensmuseum.org
SUMMARY:Sensory Friendly Hours
DESCRIPTION:Sensory Friendly Hours\nJoin the Mississippi Children’s Museum for Sensory Friendly Hours on the 4th Sunday of every month from 11am – 1pm! This is an exclusive time designed for children with sensory difficulties. Children and their caregivers can experience the museum in a new light with reduced stimuli and Sensory Inclusive Certified staff. \nDuring your visit\, you can expect:\n\nReduced crowds\, lighting\, and sounds\nSensory Kits & maps to help you navigate potentially over-stimulating exhibits\nSensory Inclusive Certified staff by KultureCity\n\nPlease contact MCM’s Director of Education and Programs\, Monique Ealey\, at monique@mcm.ms to learn more. \nPurchase Tickets
URL:https://mschildrensmuseum.org/event/sensory-friendly-hours-2/2026-07-26/
LOCATION:Mississippi Children’s Museum\, 2145 Museum Boulevard\, Jackson\, Mississippi\, 39202
CATEGORIES:Jackson
ATTACH;FMTTYPE=image/jpeg:https://mschildrensmuseum.org/wp-content/uploads/2023/06/068A9655-scaled.jpg
END:VEVENT
BEGIN:VEVENT
DTSTART;TZID=America/Chicago:20260823T110000
DTEND;TZID=America/Chicago:20260823T130000
DTSTAMP:20260423T181503
CREATED:20240102T163552Z
LAST-MODIFIED:20240102T163552Z
UID:53164-1787482800-1787490000@mschildrensmuseum.org
SUMMARY:Sensory Friendly Hours
DESCRIPTION:Sensory Friendly Hours\nJoin the Mississippi Children’s Museum for Sensory Friendly Hours on the 4th Sunday of every month from 11am – 1pm! This is an exclusive time designed for children with sensory difficulties. Children and their caregivers can experience the museum in a new light with reduced stimuli and Sensory Inclusive Certified staff. \nDuring your visit\, you can expect:\n\nReduced crowds\, lighting\, and sounds\nSensory Kits & maps to help you navigate potentially over-stimulating exhibits\nSensory Inclusive Certified staff by KultureCity\n\nPlease contact MCM’s Director of Education and Programs\, Monique Ealey\, at monique@mcm.ms to learn more. \nPurchase Tickets
URL:https://mschildrensmuseum.org/event/sensory-friendly-hours-2/2026-08-23/
LOCATION:Mississippi Children’s Museum\, 2145 Museum Boulevard\, Jackson\, Mississippi\, 39202
CATEGORIES:Jackson
ATTACH;FMTTYPE=image/jpeg:https://mschildrensmuseum.org/wp-content/uploads/2023/06/068A9655-scaled.jpg
END:VEVENT
BEGIN:VEVENT
DTSTART;TZID=America/Chicago:20260927T110000
DTEND;TZID=America/Chicago:20260927T130000
DTSTAMP:20260423T181503
CREATED:20240102T163552Z
LAST-MODIFIED:20240102T163552Z
UID:53165-1790506800-1790514000@mschildrensmuseum.org
SUMMARY:Sensory Friendly Hours
DESCRIPTION:Sensory Friendly Hours\nJoin the Mississippi Children’s Museum for Sensory Friendly Hours on the 4th Sunday of every month from 11am – 1pm! This is an exclusive time designed for children with sensory difficulties. Children and their caregivers can experience the museum in a new light with reduced stimuli and Sensory Inclusive Certified staff. \nDuring your visit\, you can expect:\n\nReduced crowds\, lighting\, and sounds\nSensory Kits & maps to help you navigate potentially over-stimulating exhibits\nSensory Inclusive Certified staff by KultureCity\n\nPlease contact MCM’s Director of Education and Programs\, Monique Ealey\, at monique@mcm.ms to learn more. \nPurchase Tickets
URL:https://mschildrensmuseum.org/event/sensory-friendly-hours-2/2026-09-27/
LOCATION:Mississippi Children’s Museum\, 2145 Museum Boulevard\, Jackson\, Mississippi\, 39202
CATEGORIES:Jackson
ATTACH;FMTTYPE=image/jpeg:https://mschildrensmuseum.org/wp-content/uploads/2023/06/068A9655-scaled.jpg
END:VEVENT
BEGIN:VEVENT
DTSTART;TZID=America/Chicago:20261025T110000
DTEND;TZID=America/Chicago:20261025T130000
DTSTAMP:20260423T181503
CREATED:20240102T163552Z
LAST-MODIFIED:20240102T163552Z
UID:53166-1792926000-1792933200@mschildrensmuseum.org
SUMMARY:Sensory Friendly Hours
DESCRIPTION:Sensory Friendly Hours\nJoin the Mississippi Children’s Museum for Sensory Friendly Hours on the 4th Sunday of every month from 11am – 1pm! This is an exclusive time designed for children with sensory difficulties. Children and their caregivers can experience the museum in a new light with reduced stimuli and Sensory Inclusive Certified staff. \nDuring your visit\, you can expect:\n\nReduced crowds\, lighting\, and sounds\nSensory Kits & maps to help you navigate potentially over-stimulating exhibits\nSensory Inclusive Certified staff by KultureCity\n\nPlease contact MCM’s Director of Education and Programs\, Monique Ealey\, at monique@mcm.ms to learn more. \nPurchase Tickets
URL:https://mschildrensmuseum.org/event/sensory-friendly-hours-2/2026-10-25/
LOCATION:Mississippi Children’s Museum\, 2145 Museum Boulevard\, Jackson\, Mississippi\, 39202
CATEGORIES:Jackson
ATTACH;FMTTYPE=image/jpeg:https://mschildrensmuseum.org/wp-content/uploads/2023/06/068A9655-scaled.jpg
END:VEVENT
BEGIN:VEVENT
DTSTART;TZID=America/Chicago:20261122T110000
DTEND;TZID=America/Chicago:20261122T130000
DTSTAMP:20260423T181503
CREATED:20240102T163552Z
LAST-MODIFIED:20240102T163552Z
UID:53167-1795345200-1795352400@mschildrensmuseum.org
SUMMARY:Sensory Friendly Hours
DESCRIPTION:Sensory Friendly Hours\nJoin the Mississippi Children’s Museum for Sensory Friendly Hours on the 4th Sunday of every month from 11am – 1pm! This is an exclusive time designed for children with sensory difficulties. Children and their caregivers can experience the museum in a new light with reduced stimuli and Sensory Inclusive Certified staff. \nDuring your visit\, you can expect:\n\nReduced crowds\, lighting\, and sounds\nSensory Kits & maps to help you navigate potentially over-stimulating exhibits\nSensory Inclusive Certified staff by KultureCity\n\nPlease contact MCM’s Director of Education and Programs\, Monique Ealey\, at monique@mcm.ms to learn more. \nPurchase Tickets
URL:https://mschildrensmuseum.org/event/sensory-friendly-hours-2/2026-11-22/
LOCATION:Mississippi Children’s Museum\, 2145 Museum Boulevard\, Jackson\, Mississippi\, 39202
CATEGORIES:Jackson
ATTACH;FMTTYPE=image/jpeg:https://mschildrensmuseum.org/wp-content/uploads/2023/06/068A9655-scaled.jpg
END:VEVENT
END:VCALENDAR