BEGIN:VCALENDAR
VERSION:2.0
PRODID:-//Mississippi Children&#039;s Museum - ECPv6.15.20//NONSGML v1.0//EN
CALSCALE:GREGORIAN
METHOD:PUBLISH
X-ORIGINAL-URL:https://mschildrensmuseum.org
X-WR-CALDESC:Events for Mississippi Children&#039;s Museum
REFRESH-INTERVAL;VALUE=DURATION:PT1H
X-Robots-Tag:noindex
X-PUBLISHED-TTL:PT1H
BEGIN:VTIMEZONE
TZID:America/Chicago
BEGIN:DAYLIGHT
TZOFFSETFROM:-0600
TZOFFSETTO:-0500
TZNAME:CDT
DTSTART:20230312T080000
END:DAYLIGHT
BEGIN:STANDARD
TZOFFSETFROM:-0500
TZOFFSETTO:-0600
TZNAME:CST
DTSTART:20231105T070000
END:STANDARD
BEGIN:DAYLIGHT
TZOFFSETFROM:-0600
TZOFFSETTO:-0500
TZNAME:CDT
DTSTART:20240310T080000
END:DAYLIGHT
BEGIN:STANDARD
TZOFFSETFROM:-0500
TZOFFSETTO:-0600
TZNAME:CST
DTSTART:20241103T070000
END:STANDARD
BEGIN:DAYLIGHT
TZOFFSETFROM:-0600
TZOFFSETTO:-0500
TZNAME:CDT
DTSTART:20250309T080000
END:DAYLIGHT
BEGIN:STANDARD
TZOFFSETFROM:-0500
TZOFFSETTO:-0600
TZNAME:CST
DTSTART:20251102T070000
END:STANDARD
END:VTIMEZONE
BEGIN:VEVENT
DTSTART;TZID=America/Chicago:20240914T080000
DTEND;TZID=America/Chicago:20240914T170000
DTSTAMP:20260423T155302
CREATED:20240808T184909Z
LAST-MODIFIED:20240808T194542Z
UID:43556-1726300800-1726333200@mschildrensmuseum.org
SUMMARY:Scratch Day
DESCRIPTION:Scratch Day\n\nKick off the Mississippi Science Fest at Scratch Day on September 14\, 2024! This is a day dedicated to exposing children and families to hands-on coding and STEM programming. During this event\, guests will engage in learning with light up foam animals\, a robot playground and an opportunity to create a unique digital family banner using Scratch coding system!  \n\nThanks to the C Spire Foundation\, the first 300 registrants of Scratch Day will receive free entry to the museum!\nThis event is free and open to the public.\n\nIn partnership with Mississippi State University Center for Cyber Education \n\nRegister for Scratch Day\nLearn More about Mississippi Science Fest
URL:https://mschildrensmuseum.org/event/scratch-day/
LOCATION:Mississippi Children’s Museum\, 2145 Museum Boulevard\, Jackson\, Mississippi\, 39202
CATEGORIES:Jackson
ATTACH;FMTTYPE=image/jpeg:https://mschildrensmuseum.org/wp-content/uploads/2024/08/6T4A9738-2.jpg
END:VEVENT
END:VCALENDAR