BEGIN:VCALENDAR
VERSION:2.0
PRODID:-//Mississippi Children&#039;s Museum - ECPv6.15.20//NONSGML v1.0//EN
CALSCALE:GREGORIAN
METHOD:PUBLISH
X-ORIGINAL-URL:https://mschildrensmuseum.org
X-WR-CALDESC:Events for Mississippi Children&#039;s Museum
REFRESH-INTERVAL;VALUE=DURATION:PT1H
X-Robots-Tag:noindex
X-PUBLISHED-TTL:PT1H
BEGIN:VTIMEZONE
TZID:America/Chicago
BEGIN:DAYLIGHT
TZOFFSETFROM:-0600
TZOFFSETTO:-0500
TZNAME:CDT
DTSTART:20230312T080000
END:DAYLIGHT
BEGIN:STANDARD
TZOFFSETFROM:-0500
TZOFFSETTO:-0600
TZNAME:CST
DTSTART:20231105T070000
END:STANDARD
BEGIN:DAYLIGHT
TZOFFSETFROM:-0600
TZOFFSETTO:-0500
TZNAME:CDT
DTSTART:20240310T080000
END:DAYLIGHT
BEGIN:STANDARD
TZOFFSETFROM:-0500
TZOFFSETTO:-0600
TZNAME:CST
DTSTART:20241103T070000
END:STANDARD
BEGIN:DAYLIGHT
TZOFFSETFROM:-0600
TZOFFSETTO:-0500
TZNAME:CDT
DTSTART:20250309T080000
END:DAYLIGHT
BEGIN:STANDARD
TZOFFSETFROM:-0500
TZOFFSETTO:-0600
TZNAME:CST
DTSTART:20251102T070000
END:STANDARD
END:VTIMEZONE
BEGIN:VEVENT
DTSTART;TZID=America/Chicago:20240725T090000
DTEND;TZID=America/Chicago:20240725T170000
DTSTAMP:20260423T002555
CREATED:20220418T185634Z
LAST-MODIFIED:20240712T132536Z
UID:24800-1721898000-1721926800@mschildrensmuseum.org
SUMMARY:Christmas in July
DESCRIPTION:Christmas in July\nJoin us on July 25 at the museum as we celebrate Christmas in July! On this special day\, guests can get snap their photo with Santa and get a head start on their holiday shopping. This day will include festive holiday programming\, MCM Trading Post sales\, and more! \nPrograms & Activities:\n\n10:00am – 2:00pm: Photo Opportunity with Santa and Mrs. Clause\n“Sandman” Building Contests\nBaking Soda Snow\nBalloon Snowball Fight\nIce Block Excavation\n\nWatermelon Christmas Trees\n\n\nGet your Christmas shopping done early! For a limited time only\, enjoy 25% off select merchandise at MCM’s Trading Post. \nPurchase Tickets to the Museum
URL:https://mschildrensmuseum.org/event/christmas-in-july-2/
CATEGORIES:Jackson
ATTACH;FMTTYPE=image/jpeg:https://mschildrensmuseum.org/wp-content/uploads/2022/04/6T4A4671-scaled.jpg
END:VEVENT
END:VCALENDAR