BEGIN:VCALENDAR
VERSION:2.0
PRODID:-//Mississippi Children&#039;s Museum - ECPv6.15.20//NONSGML v1.0//EN
CALSCALE:GREGORIAN
METHOD:PUBLISH
X-ORIGINAL-URL:https://mschildrensmuseum.org
X-WR-CALDESC:Events for Mississippi Children&#039;s Museum
REFRESH-INTERVAL;VALUE=DURATION:PT1H
X-Robots-Tag:noindex
X-PUBLISHED-TTL:PT1H
BEGIN:VTIMEZONE
TZID:America/Chicago
BEGIN:DAYLIGHT
TZOFFSETFROM:-0600
TZOFFSETTO:-0500
TZNAME:CDT
DTSTART:20250309T080000
END:DAYLIGHT
BEGIN:STANDARD
TZOFFSETFROM:-0500
TZOFFSETTO:-0600
TZNAME:CST
DTSTART:20251102T070000
END:STANDARD
BEGIN:DAYLIGHT
TZOFFSETFROM:-0600
TZOFFSETTO:-0500
TZNAME:CDT
DTSTART:20260308T080000
END:DAYLIGHT
BEGIN:STANDARD
TZOFFSETFROM:-0500
TZOFFSETTO:-0600
TZNAME:CST
DTSTART:20261101T070000
END:STANDARD
BEGIN:DAYLIGHT
TZOFFSETFROM:-0600
TZOFFSETTO:-0500
TZNAME:CDT
DTSTART:20270314T080000
END:DAYLIGHT
BEGIN:STANDARD
TZOFFSETFROM:-0500
TZOFFSETTO:-0600
TZNAME:CST
DTSTART:20271107T070000
END:STANDARD
END:VTIMEZONE
BEGIN:VEVENT
DTSTART;TZID=America/Chicago:20260422T100000
DTEND;TZID=America/Chicago:20260422T100000
DTSTAMP:20260421T161605
CREATED:20220413T134837Z
LAST-MODIFIED:20260330T153732Z
UID:52498-1776852000-1776852000@mschildrensmuseum.org
SUMMARY:Rocky's Book Club
DESCRIPTION:Rocky’s Book Club\n\n\n\nHave you met the beloved Talk From the Start mascot and literacy advocate\, Rocky the Reader? He’s a jolly pup who loves to read\, play literacy games\, and travel! Join us every morning\, Wednesday – Sunday\, for Rocky’s Book Club as we read some of Rocky’s favorite books for children 0-5+ years old.
URL:https://mschildrensmuseum.org/event/storytime-2022-06-30/2026-04-22/
LOCATION:MCM-Meridian\, 403 22nd Avenue\, Meridian\, MS\, 39301\, United States
CATEGORIES:Meridian
ATTACH;FMTTYPE=image/jpeg:https://mschildrensmuseum.org/wp-content/uploads/2022/04/IMG_8993-scaled.jpg
END:VEVENT
BEGIN:VEVENT
DTSTART;TZID=America/Chicago:20260423T100000
DTEND;TZID=America/Chicago:20260423T100000
DTSTAMP:20260421T161605
CREATED:20220413T134837Z
LAST-MODIFIED:20260330T153732Z
UID:52499-1776938400-1776938400@mschildrensmuseum.org
SUMMARY:Rocky's Book Club
DESCRIPTION:Rocky’s Book Club\n\n\n\nHave you met the beloved Talk From the Start mascot and literacy advocate\, Rocky the Reader? He’s a jolly pup who loves to read\, play literacy games\, and travel! Join us every morning\, Wednesday – Sunday\, for Rocky’s Book Club as we read some of Rocky’s favorite books for children 0-5+ years old.
URL:https://mschildrensmuseum.org/event/storytime-2022-06-30/2026-04-23/
LOCATION:MCM-Meridian\, 403 22nd Avenue\, Meridian\, MS\, 39301\, United States
CATEGORIES:Meridian
ATTACH;FMTTYPE=image/jpeg:https://mschildrensmuseum.org/wp-content/uploads/2022/04/IMG_8993-scaled.jpg
END:VEVENT
BEGIN:VEVENT
DTSTART;TZID=America/Chicago:20260424T100000
DTEND;TZID=America/Chicago:20260424T100000
DTSTAMP:20260421T161605
CREATED:20220413T134837Z
LAST-MODIFIED:20260330T153732Z
UID:52500-1777024800-1777024800@mschildrensmuseum.org
SUMMARY:Rocky's Book Club
DESCRIPTION:Rocky’s Book Club\n\n\n\nHave you met the beloved Talk From the Start mascot and literacy advocate\, Rocky the Reader? He’s a jolly pup who loves to read\, play literacy games\, and travel! Join us every morning\, Wednesday – Sunday\, for Rocky’s Book Club as we read some of Rocky’s favorite books for children 0-5+ years old.
URL:https://mschildrensmuseum.org/event/storytime-2022-06-30/2026-04-24/
LOCATION:MCM-Meridian\, 403 22nd Avenue\, Meridian\, MS\, 39301\, United States
CATEGORIES:Meridian
ATTACH;FMTTYPE=image/jpeg:https://mschildrensmuseum.org/wp-content/uploads/2022/04/IMG_8993-scaled.jpg
END:VEVENT
BEGIN:VEVENT
DTSTART;TZID=America/Chicago:20260425T110000
DTEND;TZID=America/Chicago:20260425T113000
DTSTAMP:20260421T161605
CREATED:20220413T134837Z
LAST-MODIFIED:20260330T153734Z
UID:54105-1777114800-1777116600@mschildrensmuseum.org
SUMMARY:Rocky's Book Club
DESCRIPTION:Rocky’s Book Club\n\n\n\nHave you met the beloved Talk From the Start mascot and literacy advocate\, Rocky the Reader? He’s a jolly pup who loves to read\, play literacy games\, and travel! Join us every morning\, Wednesday – Sunday\, for Rocky’s Book Club as we read some of Rocky’s favorite books for children 0-5+ years old.
URL:https://mschildrensmuseum.org/event/storytime-2022-06-30/2026-04-25/
LOCATION:MCM-Meridian\, 403 22nd Avenue\, Meridian\, MS\, 39301\, United States
CATEGORIES:Meridian
ATTACH;FMTTYPE=image/jpeg:https://mschildrensmuseum.org/wp-content/uploads/2022/04/IMG_8993-scaled.jpg
END:VEVENT
BEGIN:VEVENT
DTSTART;TZID=America/Chicago:20260426T140000
DTEND;TZID=America/Chicago:20260426T143000
DTSTAMP:20260421T161605
CREATED:20220413T134837Z
LAST-MODIFIED:20260330T153735Z
UID:54106-1777212000-1777213800@mschildrensmuseum.org
SUMMARY:Rocky's Book Club
DESCRIPTION:Rocky’s Book Club\n\n\n\nHave you met the beloved Talk From the Start mascot and literacy advocate\, Rocky the Reader? He’s a jolly pup who loves to read\, play literacy games\, and travel! Join us every morning\, Wednesday – Sunday\, for Rocky’s Book Club as we read some of Rocky’s favorite books for children 0-5+ years old.
URL:https://mschildrensmuseum.org/event/storytime-2022-06-30/2026-04-26/
LOCATION:MCM-Meridian\, 403 22nd Avenue\, Meridian\, MS\, 39301\, United States
CATEGORIES:Meridian
ATTACH;FMTTYPE=image/jpeg:https://mschildrensmuseum.org/wp-content/uploads/2022/04/IMG_8993-scaled.jpg
END:VEVENT
BEGIN:VEVENT
DTSTART;TZID=America/Chicago:20260429T100000
DTEND;TZID=America/Chicago:20260429T100000
DTSTAMP:20260421T161605
CREATED:20220413T134837Z
LAST-MODIFIED:20260330T153735Z
UID:52501-1777456800-1777456800@mschildrensmuseum.org
SUMMARY:Rocky's Book Club
DESCRIPTION:Rocky’s Book Club\n\n\n\nHave you met the beloved Talk From the Start mascot and literacy advocate\, Rocky the Reader? He’s a jolly pup who loves to read\, play literacy games\, and travel! Join us every morning\, Wednesday – Sunday\, for Rocky’s Book Club as we read some of Rocky’s favorite books for children 0-5+ years old.
URL:https://mschildrensmuseum.org/event/storytime-2022-06-30/2026-04-29/
LOCATION:MCM-Meridian\, 403 22nd Avenue\, Meridian\, MS\, 39301\, United States
CATEGORIES:Meridian
ATTACH;FMTTYPE=image/jpeg:https://mschildrensmuseum.org/wp-content/uploads/2022/04/IMG_8993-scaled.jpg
END:VEVENT
BEGIN:VEVENT
DTSTART;TZID=America/Chicago:20260430T100000
DTEND;TZID=America/Chicago:20260430T100000
DTSTAMP:20260421T161605
CREATED:20220413T134837Z
LAST-MODIFIED:20260330T153735Z
UID:52502-1777543200-1777543200@mschildrensmuseum.org
SUMMARY:Rocky's Book Club
DESCRIPTION:Rocky’s Book Club\n\n\n\nHave you met the beloved Talk From the Start mascot and literacy advocate\, Rocky the Reader? He’s a jolly pup who loves to read\, play literacy games\, and travel! Join us every morning\, Wednesday – Sunday\, for Rocky’s Book Club as we read some of Rocky’s favorite books for children 0-5+ years old.
URL:https://mschildrensmuseum.org/event/storytime-2022-06-30/2026-04-30/
LOCATION:MCM-Meridian\, 403 22nd Avenue\, Meridian\, MS\, 39301\, United States
CATEGORIES:Meridian
ATTACH;FMTTYPE=image/jpeg:https://mschildrensmuseum.org/wp-content/uploads/2022/04/IMG_8993-scaled.jpg
END:VEVENT
BEGIN:VEVENT
DTSTART;TZID=America/Chicago:20260501T100000
DTEND;TZID=America/Chicago:20260501T100000
DTSTAMP:20260421T161605
CREATED:20220413T134837Z
LAST-MODIFIED:20260330T153735Z
UID:52503-1777629600-1777629600@mschildrensmuseum.org
SUMMARY:Rocky's Book Club
DESCRIPTION:Rocky’s Book Club\n\n\n\nHave you met the beloved Talk From the Start mascot and literacy advocate\, Rocky the Reader? He’s a jolly pup who loves to read\, play literacy games\, and travel! Join us every morning\, Wednesday – Sunday\, for Rocky’s Book Club as we read some of Rocky’s favorite books for children 0-5+ years old.
URL:https://mschildrensmuseum.org/event/storytime-2022-06-30/2026-05-01/
LOCATION:MCM-Meridian\, 403 22nd Avenue\, Meridian\, MS\, 39301\, United States
CATEGORIES:Meridian
ATTACH;FMTTYPE=image/jpeg:https://mschildrensmuseum.org/wp-content/uploads/2022/04/IMG_8993-scaled.jpg
END:VEVENT
BEGIN:VEVENT
DTSTART;TZID=America/Chicago:20260502T110000
DTEND;TZID=America/Chicago:20260502T113000
DTSTAMP:20260421T161605
CREATED:20220413T134837Z
LAST-MODIFIED:20260330T153735Z
UID:54107-1777719600-1777721400@mschildrensmuseum.org
SUMMARY:Rocky's Book Club
DESCRIPTION:Rocky’s Book Club\n\n\n\nHave you met the beloved Talk From the Start mascot and literacy advocate\, Rocky the Reader? He’s a jolly pup who loves to read\, play literacy games\, and travel! Join us every morning\, Wednesday – Sunday\, for Rocky’s Book Club as we read some of Rocky’s favorite books for children 0-5+ years old.
URL:https://mschildrensmuseum.org/event/storytime-2022-06-30/2026-05-02/
LOCATION:MCM-Meridian\, 403 22nd Avenue\, Meridian\, MS\, 39301\, United States
CATEGORIES:Meridian
ATTACH;FMTTYPE=image/jpeg:https://mschildrensmuseum.org/wp-content/uploads/2022/04/IMG_8993-scaled.jpg
END:VEVENT
BEGIN:VEVENT
DTSTART;TZID=America/Chicago:20260503T140000
DTEND;TZID=America/Chicago:20260503T143000
DTSTAMP:20260421T161605
CREATED:20220413T134837Z
LAST-MODIFIED:20260330T153736Z
UID:54108-1777816800-1777818600@mschildrensmuseum.org
SUMMARY:Rocky's Book Club
DESCRIPTION:Rocky’s Book Club\n\n\n\nHave you met the beloved Talk From the Start mascot and literacy advocate\, Rocky the Reader? He’s a jolly pup who loves to read\, play literacy games\, and travel! Join us every morning\, Wednesday – Sunday\, for Rocky’s Book Club as we read some of Rocky’s favorite books for children 0-5+ years old.
URL:https://mschildrensmuseum.org/event/storytime-2022-06-30/2026-05-03/
LOCATION:MCM-Meridian\, 403 22nd Avenue\, Meridian\, MS\, 39301\, United States
CATEGORIES:Meridian
ATTACH;FMTTYPE=image/jpeg:https://mschildrensmuseum.org/wp-content/uploads/2022/04/IMG_8993-scaled.jpg
END:VEVENT
BEGIN:VEVENT
DTSTART;TZID=America/Chicago:20260506T100000
DTEND;TZID=America/Chicago:20260506T100000
DTSTAMP:20260421T161605
CREATED:20220413T134837Z
LAST-MODIFIED:20260330T153736Z
UID:52504-1778061600-1778061600@mschildrensmuseum.org
SUMMARY:Rocky's Book Club
DESCRIPTION:Rocky’s Book Club\n\n\n\nHave you met the beloved Talk From the Start mascot and literacy advocate\, Rocky the Reader? He’s a jolly pup who loves to read\, play literacy games\, and travel! Join us every morning\, Wednesday – Sunday\, for Rocky’s Book Club as we read some of Rocky’s favorite books for children 0-5+ years old.
URL:https://mschildrensmuseum.org/event/storytime-2022-06-30/2026-05-06/
LOCATION:MCM-Meridian\, 403 22nd Avenue\, Meridian\, MS\, 39301\, United States
CATEGORIES:Meridian
ATTACH;FMTTYPE=image/jpeg:https://mschildrensmuseum.org/wp-content/uploads/2022/04/IMG_8993-scaled.jpg
END:VEVENT
BEGIN:VEVENT
DTSTART;TZID=America/Chicago:20260507T100000
DTEND;TZID=America/Chicago:20260507T100000
DTSTAMP:20260421T161605
CREATED:20220413T134837Z
LAST-MODIFIED:20260330T153736Z
UID:52505-1778148000-1778148000@mschildrensmuseum.org
SUMMARY:Rocky's Book Club
DESCRIPTION:Rocky’s Book Club\n\n\n\nHave you met the beloved Talk From the Start mascot and literacy advocate\, Rocky the Reader? He’s a jolly pup who loves to read\, play literacy games\, and travel! Join us every morning\, Wednesday – Sunday\, for Rocky’s Book Club as we read some of Rocky’s favorite books for children 0-5+ years old.
URL:https://mschildrensmuseum.org/event/storytime-2022-06-30/2026-05-07/
LOCATION:MCM-Meridian\, 403 22nd Avenue\, Meridian\, MS\, 39301\, United States
CATEGORIES:Meridian
ATTACH;FMTTYPE=image/jpeg:https://mschildrensmuseum.org/wp-content/uploads/2022/04/IMG_8993-scaled.jpg
END:VEVENT
BEGIN:VEVENT
DTSTART;TZID=America/Chicago:20260508T100000
DTEND;TZID=America/Chicago:20260508T100000
DTSTAMP:20260421T161605
CREATED:20220413T134837Z
LAST-MODIFIED:20260330T153736Z
UID:52506-1778234400-1778234400@mschildrensmuseum.org
SUMMARY:Rocky's Book Club
DESCRIPTION:Rocky’s Book Club\n\n\n\nHave you met the beloved Talk From the Start mascot and literacy advocate\, Rocky the Reader? He’s a jolly pup who loves to read\, play literacy games\, and travel! Join us every morning\, Wednesday – Sunday\, for Rocky’s Book Club as we read some of Rocky’s favorite books for children 0-5+ years old.
URL:https://mschildrensmuseum.org/event/storytime-2022-06-30/2026-05-08/
LOCATION:MCM-Meridian\, 403 22nd Avenue\, Meridian\, MS\, 39301\, United States
CATEGORIES:Meridian
ATTACH;FMTTYPE=image/jpeg:https://mschildrensmuseum.org/wp-content/uploads/2022/04/IMG_8993-scaled.jpg
END:VEVENT
BEGIN:VEVENT
DTSTART;TZID=America/Chicago:20260509T110000
DTEND;TZID=America/Chicago:20260509T113000
DTSTAMP:20260421T161605
CREATED:20220413T134837Z
LAST-MODIFIED:20260330T153738Z
UID:54109-1778324400-1778326200@mschildrensmuseum.org
SUMMARY:Rocky's Book Club
DESCRIPTION:Rocky’s Book Club\n\n\n\nHave you met the beloved Talk From the Start mascot and literacy advocate\, Rocky the Reader? He’s a jolly pup who loves to read\, play literacy games\, and travel! Join us every morning\, Wednesday – Sunday\, for Rocky’s Book Club as we read some of Rocky’s favorite books for children 0-5+ years old.
URL:https://mschildrensmuseum.org/event/storytime-2022-06-30/2026-05-09/
LOCATION:MCM-Meridian\, 403 22nd Avenue\, Meridian\, MS\, 39301\, United States
CATEGORIES:Meridian
ATTACH;FMTTYPE=image/jpeg:https://mschildrensmuseum.org/wp-content/uploads/2022/04/IMG_8993-scaled.jpg
END:VEVENT
BEGIN:VEVENT
DTSTART;TZID=America/Chicago:20260510T140000
DTEND;TZID=America/Chicago:20260510T143000
DTSTAMP:20260421T161605
CREATED:20220413T134837Z
LAST-MODIFIED:20260330T153739Z
UID:54110-1778421600-1778423400@mschildrensmuseum.org
SUMMARY:Rocky's Book Club
DESCRIPTION:Rocky’s Book Club\n\n\n\nHave you met the beloved Talk From the Start mascot and literacy advocate\, Rocky the Reader? He’s a jolly pup who loves to read\, play literacy games\, and travel! Join us every morning\, Wednesday – Sunday\, for Rocky’s Book Club as we read some of Rocky’s favorite books for children 0-5+ years old.
URL:https://mschildrensmuseum.org/event/storytime-2022-06-30/2026-05-10/
LOCATION:MCM-Meridian\, 403 22nd Avenue\, Meridian\, MS\, 39301\, United States
CATEGORIES:Meridian
ATTACH;FMTTYPE=image/jpeg:https://mschildrensmuseum.org/wp-content/uploads/2022/04/IMG_8993-scaled.jpg
END:VEVENT
BEGIN:VEVENT
DTSTART;TZID=America/Chicago:20260513T100000
DTEND;TZID=America/Chicago:20260513T100000
DTSTAMP:20260421T161605
CREATED:20220413T134837Z
LAST-MODIFIED:20260330T153739Z
UID:52507-1778666400-1778666400@mschildrensmuseum.org
SUMMARY:Rocky's Book Club
DESCRIPTION:Rocky’s Book Club\n\n\n\nHave you met the beloved Talk From the Start mascot and literacy advocate\, Rocky the Reader? He’s a jolly pup who loves to read\, play literacy games\, and travel! Join us every morning\, Wednesday – Sunday\, for Rocky’s Book Club as we read some of Rocky’s favorite books for children 0-5+ years old.
URL:https://mschildrensmuseum.org/event/storytime-2022-06-30/2026-05-13/
LOCATION:MCM-Meridian\, 403 22nd Avenue\, Meridian\, MS\, 39301\, United States
CATEGORIES:Meridian
ATTACH;FMTTYPE=image/jpeg:https://mschildrensmuseum.org/wp-content/uploads/2022/04/IMG_8993-scaled.jpg
END:VEVENT
BEGIN:VEVENT
DTSTART;TZID=America/Chicago:20260514T100000
DTEND;TZID=America/Chicago:20260514T100000
DTSTAMP:20260421T161605
CREATED:20220413T134837Z
LAST-MODIFIED:20260330T153739Z
UID:52508-1778752800-1778752800@mschildrensmuseum.org
SUMMARY:Rocky's Book Club
DESCRIPTION:Rocky’s Book Club\n\n\n\nHave you met the beloved Talk From the Start mascot and literacy advocate\, Rocky the Reader? He’s a jolly pup who loves to read\, play literacy games\, and travel! Join us every morning\, Wednesday – Sunday\, for Rocky’s Book Club as we read some of Rocky’s favorite books for children 0-5+ years old.
URL:https://mschildrensmuseum.org/event/storytime-2022-06-30/2026-05-14/
LOCATION:MCM-Meridian\, 403 22nd Avenue\, Meridian\, MS\, 39301\, United States
CATEGORIES:Meridian
ATTACH;FMTTYPE=image/jpeg:https://mschildrensmuseum.org/wp-content/uploads/2022/04/IMG_8993-scaled.jpg
END:VEVENT
BEGIN:VEVENT
DTSTART;TZID=America/Chicago:20260515T100000
DTEND;TZID=America/Chicago:20260515T100000
DTSTAMP:20260421T161605
CREATED:20220413T134837Z
LAST-MODIFIED:20260330T153739Z
UID:52509-1778839200-1778839200@mschildrensmuseum.org
SUMMARY:Rocky's Book Club
DESCRIPTION:Rocky’s Book Club\n\n\n\nHave you met the beloved Talk From the Start mascot and literacy advocate\, Rocky the Reader? He’s a jolly pup who loves to read\, play literacy games\, and travel! Join us every morning\, Wednesday – Sunday\, for Rocky’s Book Club as we read some of Rocky’s favorite books for children 0-5+ years old.
URL:https://mschildrensmuseum.org/event/storytime-2022-06-30/2026-05-15/
LOCATION:MCM-Meridian\, 403 22nd Avenue\, Meridian\, MS\, 39301\, United States
CATEGORIES:Meridian
ATTACH;FMTTYPE=image/jpeg:https://mschildrensmuseum.org/wp-content/uploads/2022/04/IMG_8993-scaled.jpg
END:VEVENT
BEGIN:VEVENT
DTSTART;TZID=America/Chicago:20260516T110000
DTEND;TZID=America/Chicago:20260516T113000
DTSTAMP:20260421T161605
CREATED:20220413T134837Z
LAST-MODIFIED:20260330T153739Z
UID:54111-1778929200-1778931000@mschildrensmuseum.org
SUMMARY:Rocky's Book Club
DESCRIPTION:Rocky’s Book Club\n\n\n\nHave you met the beloved Talk From the Start mascot and literacy advocate\, Rocky the Reader? He’s a jolly pup who loves to read\, play literacy games\, and travel! Join us every morning\, Wednesday – Sunday\, for Rocky’s Book Club as we read some of Rocky’s favorite books for children 0-5+ years old.
URL:https://mschildrensmuseum.org/event/storytime-2022-06-30/2026-05-16/
LOCATION:MCM-Meridian\, 403 22nd Avenue\, Meridian\, MS\, 39301\, United States
CATEGORIES:Meridian
ATTACH;FMTTYPE=image/jpeg:https://mschildrensmuseum.org/wp-content/uploads/2022/04/IMG_8993-scaled.jpg
END:VEVENT
BEGIN:VEVENT
DTSTART;TZID=America/Chicago:20260517T140000
DTEND;TZID=America/Chicago:20260517T143000
DTSTAMP:20260421T161605
CREATED:20220413T134837Z
LAST-MODIFIED:20260330T153740Z
UID:54112-1779026400-1779028200@mschildrensmuseum.org
SUMMARY:Rocky's Book Club
DESCRIPTION:Rocky’s Book Club\n\n\n\nHave you met the beloved Talk From the Start mascot and literacy advocate\, Rocky the Reader? He’s a jolly pup who loves to read\, play literacy games\, and travel! Join us every morning\, Wednesday – Sunday\, for Rocky’s Book Club as we read some of Rocky’s favorite books for children 0-5+ years old.
URL:https://mschildrensmuseum.org/event/storytime-2022-06-30/2026-05-17/
LOCATION:MCM-Meridian\, 403 22nd Avenue\, Meridian\, MS\, 39301\, United States
CATEGORIES:Meridian
ATTACH;FMTTYPE=image/jpeg:https://mschildrensmuseum.org/wp-content/uploads/2022/04/IMG_8993-scaled.jpg
END:VEVENT
BEGIN:VEVENT
DTSTART;TZID=America/Chicago:20260520T100000
DTEND;TZID=America/Chicago:20260520T100000
DTSTAMP:20260421T161605
CREATED:20220413T134837Z
LAST-MODIFIED:20260330T153740Z
UID:52510-1779271200-1779271200@mschildrensmuseum.org
SUMMARY:Rocky's Book Club
DESCRIPTION:Rocky’s Book Club\n\n\n\nHave you met the beloved Talk From the Start mascot and literacy advocate\, Rocky the Reader? He’s a jolly pup who loves to read\, play literacy games\, and travel! Join us every morning\, Wednesday – Sunday\, for Rocky’s Book Club as we read some of Rocky’s favorite books for children 0-5+ years old.
URL:https://mschildrensmuseum.org/event/storytime-2022-06-30/2026-05-20/
LOCATION:MCM-Meridian\, 403 22nd Avenue\, Meridian\, MS\, 39301\, United States
CATEGORIES:Meridian
ATTACH;FMTTYPE=image/jpeg:https://mschildrensmuseum.org/wp-content/uploads/2022/04/IMG_8993-scaled.jpg
END:VEVENT
BEGIN:VEVENT
DTSTART;TZID=America/Chicago:20260521T100000
DTEND;TZID=America/Chicago:20260521T100000
DTSTAMP:20260421T161605
CREATED:20220413T134837Z
LAST-MODIFIED:20260330T153740Z
UID:52511-1779357600-1779357600@mschildrensmuseum.org
SUMMARY:Rocky's Book Club
DESCRIPTION:Rocky’s Book Club\n\n\n\nHave you met the beloved Talk From the Start mascot and literacy advocate\, Rocky the Reader? He’s a jolly pup who loves to read\, play literacy games\, and travel! Join us every morning\, Wednesday – Sunday\, for Rocky’s Book Club as we read some of Rocky’s favorite books for children 0-5+ years old.
URL:https://mschildrensmuseum.org/event/storytime-2022-06-30/2026-05-21/
LOCATION:MCM-Meridian\, 403 22nd Avenue\, Meridian\, MS\, 39301\, United States
CATEGORIES:Meridian
ATTACH;FMTTYPE=image/jpeg:https://mschildrensmuseum.org/wp-content/uploads/2022/04/IMG_8993-scaled.jpg
END:VEVENT
BEGIN:VEVENT
DTSTART;TZID=America/Chicago:20260522T100000
DTEND;TZID=America/Chicago:20260522T100000
DTSTAMP:20260421T161605
CREATED:20220413T134837Z
LAST-MODIFIED:20260330T153740Z
UID:52512-1779444000-1779444000@mschildrensmuseum.org
SUMMARY:Rocky's Book Club
DESCRIPTION:Rocky’s Book Club\n\n\n\nHave you met the beloved Talk From the Start mascot and literacy advocate\, Rocky the Reader? He’s a jolly pup who loves to read\, play literacy games\, and travel! Join us every morning\, Wednesday – Sunday\, for Rocky’s Book Club as we read some of Rocky’s favorite books for children 0-5+ years old.
URL:https://mschildrensmuseum.org/event/storytime-2022-06-30/2026-05-22/
LOCATION:MCM-Meridian\, 403 22nd Avenue\, Meridian\, MS\, 39301\, United States
CATEGORIES:Meridian
ATTACH;FMTTYPE=image/jpeg:https://mschildrensmuseum.org/wp-content/uploads/2022/04/IMG_8993-scaled.jpg
END:VEVENT
BEGIN:VEVENT
DTSTART;TZID=America/Chicago:20260523T110000
DTEND;TZID=America/Chicago:20260523T113000
DTSTAMP:20260421T161605
CREATED:20220413T134837Z
LAST-MODIFIED:20260330T153742Z
UID:54113-1779534000-1779535800@mschildrensmuseum.org
SUMMARY:Rocky's Book Club
DESCRIPTION:Rocky’s Book Club\n\n\n\nHave you met the beloved Talk From the Start mascot and literacy advocate\, Rocky the Reader? He’s a jolly pup who loves to read\, play literacy games\, and travel! Join us every morning\, Wednesday – Sunday\, for Rocky’s Book Club as we read some of Rocky’s favorite books for children 0-5+ years old.
URL:https://mschildrensmuseum.org/event/storytime-2022-06-30/2026-05-23/
LOCATION:MCM-Meridian\, 403 22nd Avenue\, Meridian\, MS\, 39301\, United States
CATEGORIES:Meridian
ATTACH;FMTTYPE=image/jpeg:https://mschildrensmuseum.org/wp-content/uploads/2022/04/IMG_8993-scaled.jpg
END:VEVENT
BEGIN:VEVENT
DTSTART;TZID=America/Chicago:20260524T140000
DTEND;TZID=America/Chicago:20260524T143000
DTSTAMP:20260421T161605
CREATED:20220413T134837Z
LAST-MODIFIED:20260330T153743Z
UID:54114-1779631200-1779633000@mschildrensmuseum.org
SUMMARY:Rocky's Book Club
DESCRIPTION:Rocky’s Book Club\n\n\n\nHave you met the beloved Talk From the Start mascot and literacy advocate\, Rocky the Reader? He’s a jolly pup who loves to read\, play literacy games\, and travel! Join us every morning\, Wednesday – Sunday\, for Rocky’s Book Club as we read some of Rocky’s favorite books for children 0-5+ years old.
URL:https://mschildrensmuseum.org/event/storytime-2022-06-30/2026-05-24/
LOCATION:MCM-Meridian\, 403 22nd Avenue\, Meridian\, MS\, 39301\, United States
CATEGORIES:Meridian
ATTACH;FMTTYPE=image/jpeg:https://mschildrensmuseum.org/wp-content/uploads/2022/04/IMG_8993-scaled.jpg
END:VEVENT
BEGIN:VEVENT
DTSTART;TZID=America/Chicago:20260527T100000
DTEND;TZID=America/Chicago:20260527T100000
DTSTAMP:20260421T161605
CREATED:20220413T134837Z
LAST-MODIFIED:20260330T153743Z
UID:52513-1779876000-1779876000@mschildrensmuseum.org
SUMMARY:Rocky's Book Club
DESCRIPTION:Rocky’s Book Club\n\n\n\nHave you met the beloved Talk From the Start mascot and literacy advocate\, Rocky the Reader? He’s a jolly pup who loves to read\, play literacy games\, and travel! Join us every morning\, Wednesday – Sunday\, for Rocky’s Book Club as we read some of Rocky’s favorite books for children 0-5+ years old.
URL:https://mschildrensmuseum.org/event/storytime-2022-06-30/2026-05-27/
LOCATION:MCM-Meridian\, 403 22nd Avenue\, Meridian\, MS\, 39301\, United States
CATEGORIES:Meridian
ATTACH;FMTTYPE=image/jpeg:https://mschildrensmuseum.org/wp-content/uploads/2022/04/IMG_8993-scaled.jpg
END:VEVENT
BEGIN:VEVENT
DTSTART;TZID=America/Chicago:20260528T100000
DTEND;TZID=America/Chicago:20260528T100000
DTSTAMP:20260421T161605
CREATED:20220413T134837Z
LAST-MODIFIED:20260330T153743Z
UID:52514-1779962400-1779962400@mschildrensmuseum.org
SUMMARY:Rocky's Book Club
DESCRIPTION:Rocky’s Book Club\n\n\n\nHave you met the beloved Talk From the Start mascot and literacy advocate\, Rocky the Reader? He’s a jolly pup who loves to read\, play literacy games\, and travel! Join us every morning\, Wednesday – Sunday\, for Rocky’s Book Club as we read some of Rocky’s favorite books for children 0-5+ years old.
URL:https://mschildrensmuseum.org/event/storytime-2022-06-30/2026-05-28/
LOCATION:MCM-Meridian\, 403 22nd Avenue\, Meridian\, MS\, 39301\, United States
CATEGORIES:Meridian
ATTACH;FMTTYPE=image/jpeg:https://mschildrensmuseum.org/wp-content/uploads/2022/04/IMG_8993-scaled.jpg
END:VEVENT
BEGIN:VEVENT
DTSTART;TZID=America/Chicago:20260529T100000
DTEND;TZID=America/Chicago:20260529T100000
DTSTAMP:20260421T161605
CREATED:20220413T134837Z
LAST-MODIFIED:20260330T153743Z
UID:52515-1780048800-1780048800@mschildrensmuseum.org
SUMMARY:Rocky's Book Club
DESCRIPTION:Rocky’s Book Club\n\n\n\nHave you met the beloved Talk From the Start mascot and literacy advocate\, Rocky the Reader? He’s a jolly pup who loves to read\, play literacy games\, and travel! Join us every morning\, Wednesday – Sunday\, for Rocky’s Book Club as we read some of Rocky’s favorite books for children 0-5+ years old.
URL:https://mschildrensmuseum.org/event/storytime-2022-06-30/2026-05-29/
LOCATION:MCM-Meridian\, 403 22nd Avenue\, Meridian\, MS\, 39301\, United States
CATEGORIES:Meridian
ATTACH;FMTTYPE=image/jpeg:https://mschildrensmuseum.org/wp-content/uploads/2022/04/IMG_8993-scaled.jpg
END:VEVENT
BEGIN:VEVENT
DTSTART;TZID=America/Chicago:20260530T110000
DTEND;TZID=America/Chicago:20260530T113000
DTSTAMP:20260421T161605
CREATED:20220413T134837Z
LAST-MODIFIED:20260330T153744Z
UID:54115-1780138800-1780140600@mschildrensmuseum.org
SUMMARY:Rocky's Book Club
DESCRIPTION:Rocky’s Book Club\n\n\n\nHave you met the beloved Talk From the Start mascot and literacy advocate\, Rocky the Reader? He’s a jolly pup who loves to read\, play literacy games\, and travel! Join us every morning\, Wednesday – Sunday\, for Rocky’s Book Club as we read some of Rocky’s favorite books for children 0-5+ years old.
URL:https://mschildrensmuseum.org/event/storytime-2022-06-30/2026-05-30/
LOCATION:MCM-Meridian\, 403 22nd Avenue\, Meridian\, MS\, 39301\, United States
CATEGORIES:Meridian
ATTACH;FMTTYPE=image/jpeg:https://mschildrensmuseum.org/wp-content/uploads/2022/04/IMG_8993-scaled.jpg
END:VEVENT
BEGIN:VEVENT
DTSTART;TZID=America/Chicago:20260531T140000
DTEND;TZID=America/Chicago:20260531T143000
DTSTAMP:20260421T161605
CREATED:20220413T134837Z
LAST-MODIFIED:20260330T153744Z
UID:54116-1780236000-1780237800@mschildrensmuseum.org
SUMMARY:Rocky's Book Club
DESCRIPTION:Rocky’s Book Club\n\n\n\nHave you met the beloved Talk From the Start mascot and literacy advocate\, Rocky the Reader? He’s a jolly pup who loves to read\, play literacy games\, and travel! Join us every morning\, Wednesday – Sunday\, for Rocky’s Book Club as we read some of Rocky’s favorite books for children 0-5+ years old.
URL:https://mschildrensmuseum.org/event/storytime-2022-06-30/2026-05-31/
LOCATION:MCM-Meridian\, 403 22nd Avenue\, Meridian\, MS\, 39301\, United States
CATEGORIES:Meridian
ATTACH;FMTTYPE=image/jpeg:https://mschildrensmuseum.org/wp-content/uploads/2022/04/IMG_8993-scaled.jpg
END:VEVENT
END:VCALENDAR