BEGIN:VCALENDAR
VERSION:2.0
PRODID:-//Mississippi Children&#039;s Museum - ECPv6.15.20//NONSGML v1.0//EN
CALSCALE:GREGORIAN
METHOD:PUBLISH
X-WR-CALNAME:Mississippi Children&#039;s Museum
X-ORIGINAL-URL:https://mschildrensmuseum.org
X-WR-CALDESC:Events for Mississippi Children&#039;s Museum
REFRESH-INTERVAL;VALUE=DURATION:PT1H
X-Robots-Tag:noindex
X-PUBLISHED-TTL:PT1H
BEGIN:VTIMEZONE
TZID:America/Chicago
BEGIN:DAYLIGHT
TZOFFSETFROM:-0600
TZOFFSETTO:-0500
TZNAME:CDT
DTSTART:20240310T080000
END:DAYLIGHT
BEGIN:STANDARD
TZOFFSETFROM:-0500
TZOFFSETTO:-0600
TZNAME:CST
DTSTART:20241103T070000
END:STANDARD
BEGIN:DAYLIGHT
TZOFFSETFROM:-0600
TZOFFSETTO:-0500
TZNAME:CDT
DTSTART:20250309T080000
END:DAYLIGHT
BEGIN:STANDARD
TZOFFSETFROM:-0500
TZOFFSETTO:-0600
TZNAME:CST
DTSTART:20251102T070000
END:STANDARD
BEGIN:DAYLIGHT
TZOFFSETFROM:-0600
TZOFFSETTO:-0500
TZNAME:CDT
DTSTART:20260308T080000
END:DAYLIGHT
BEGIN:STANDARD
TZOFFSETFROM:-0500
TZOFFSETTO:-0600
TZNAME:CST
DTSTART:20261101T070000
END:STANDARD
END:VTIMEZONE
BEGIN:VEVENT
DTSTART;TZID=America/Chicago:20251203T100000
DTEND;TZID=America/Chicago:20251203T100000
DTSTAMP:20260421T190738
CREATED:20220413T134837Z
LAST-MODIFIED:20260330T153651Z
UID:52439-1764756000-1764756000@mschildrensmuseum.org
SUMMARY:Rocky's Book Club
DESCRIPTION:Rocky’s Book Club\n\n\n\nHave you met the beloved Talk From the Start mascot and literacy advocate\, Rocky the Reader? He’s a jolly pup who loves to read\, play literacy games\, and travel! Join us every morning\, Wednesday – Sunday\, for Rocky’s Book Club as we read some of Rocky’s favorite books for children 0-5+ years old.
URL:https://mschildrensmuseum.org/event/storytime-2022-06-30/2025-12-03/
LOCATION:MCM-Meridian\, 403 22nd Avenue\, Meridian\, MS\, 39301\, United States
CATEGORIES:Meridian
ATTACH;FMTTYPE=image/jpeg:https://mschildrensmuseum.org/wp-content/uploads/2022/04/IMG_8993-scaled.jpg
END:VEVENT
BEGIN:VEVENT
DTSTART;TZID=America/Chicago:20251204T100000
DTEND;TZID=America/Chicago:20251204T100000
DTSTAMP:20260421T190738
CREATED:20220413T134837Z
LAST-MODIFIED:20260330T153653Z
UID:52440-1764842400-1764842400@mschildrensmuseum.org
SUMMARY:Rocky's Book Club
DESCRIPTION:Rocky’s Book Club\n\n\n\nHave you met the beloved Talk From the Start mascot and literacy advocate\, Rocky the Reader? He’s a jolly pup who loves to read\, play literacy games\, and travel! Join us every morning\, Wednesday – Sunday\, for Rocky’s Book Club as we read some of Rocky’s favorite books for children 0-5+ years old.
URL:https://mschildrensmuseum.org/event/storytime-2022-06-30/2025-12-04/
LOCATION:MCM-Meridian\, 403 22nd Avenue\, Meridian\, MS\, 39301\, United States
CATEGORIES:Meridian
ATTACH;FMTTYPE=image/jpeg:https://mschildrensmuseum.org/wp-content/uploads/2022/04/IMG_8993-scaled.jpg
END:VEVENT
BEGIN:VEVENT
DTSTART;TZID=America/Chicago:20251205T100000
DTEND;TZID=America/Chicago:20251205T100000
DTSTAMP:20260421T190738
CREATED:20220413T134837Z
LAST-MODIFIED:20260330T153653Z
UID:52441-1764928800-1764928800@mschildrensmuseum.org
SUMMARY:Rocky's Book Club
DESCRIPTION:Rocky’s Book Club\n\n\n\nHave you met the beloved Talk From the Start mascot and literacy advocate\, Rocky the Reader? He’s a jolly pup who loves to read\, play literacy games\, and travel! Join us every morning\, Wednesday – Sunday\, for Rocky’s Book Club as we read some of Rocky’s favorite books for children 0-5+ years old.
URL:https://mschildrensmuseum.org/event/storytime-2022-06-30/2025-12-05/
LOCATION:MCM-Meridian\, 403 22nd Avenue\, Meridian\, MS\, 39301\, United States
CATEGORIES:Meridian
ATTACH;FMTTYPE=image/jpeg:https://mschildrensmuseum.org/wp-content/uploads/2022/04/IMG_8993-scaled.jpg
END:VEVENT
BEGIN:VEVENT
DTSTART;TZID=America/Chicago:20251206T110000
DTEND;TZID=America/Chicago:20251206T113000
DTSTAMP:20260421T190738
CREATED:20220413T134837Z
LAST-MODIFIED:20260330T153653Z
UID:54065-1765018800-1765020600@mschildrensmuseum.org
SUMMARY:Rocky's Book Club
DESCRIPTION:Rocky’s Book Club\n\n\n\nHave you met the beloved Talk From the Start mascot and literacy advocate\, Rocky the Reader? He’s a jolly pup who loves to read\, play literacy games\, and travel! Join us every morning\, Wednesday – Sunday\, for Rocky’s Book Club as we read some of Rocky’s favorite books for children 0-5+ years old.
URL:https://mschildrensmuseum.org/event/storytime-2022-06-30/2025-12-06/
LOCATION:MCM-Meridian\, 403 22nd Avenue\, Meridian\, MS\, 39301\, United States
CATEGORIES:Meridian
ATTACH;FMTTYPE=image/jpeg:https://mschildrensmuseum.org/wp-content/uploads/2022/04/IMG_8993-scaled.jpg
END:VEVENT
BEGIN:VEVENT
DTSTART;TZID=America/Chicago:20251207T140000
DTEND;TZID=America/Chicago:20251207T143000
DTSTAMP:20260421T190738
CREATED:20220413T134837Z
LAST-MODIFIED:20260330T153653Z
UID:54066-1765116000-1765117800@mschildrensmuseum.org
SUMMARY:Rocky's Book Club
DESCRIPTION:Rocky’s Book Club\n\n\n\nHave you met the beloved Talk From the Start mascot and literacy advocate\, Rocky the Reader? He’s a jolly pup who loves to read\, play literacy games\, and travel! Join us every morning\, Wednesday – Sunday\, for Rocky’s Book Club as we read some of Rocky’s favorite books for children 0-5+ years old.
URL:https://mschildrensmuseum.org/event/storytime-2022-06-30/2025-12-07/
LOCATION:MCM-Meridian\, 403 22nd Avenue\, Meridian\, MS\, 39301\, United States
CATEGORIES:Meridian
ATTACH;FMTTYPE=image/jpeg:https://mschildrensmuseum.org/wp-content/uploads/2022/04/IMG_8993-scaled.jpg
END:VEVENT
BEGIN:VEVENT
DTSTART;TZID=America/Chicago:20251210T100000
DTEND;TZID=America/Chicago:20251210T100000
DTSTAMP:20260421T190738
CREATED:20220413T134837Z
LAST-MODIFIED:20260330T153654Z
UID:52442-1765360800-1765360800@mschildrensmuseum.org
SUMMARY:Rocky's Book Club
DESCRIPTION:Rocky’s Book Club\n\n\n\nHave you met the beloved Talk From the Start mascot and literacy advocate\, Rocky the Reader? He’s a jolly pup who loves to read\, play literacy games\, and travel! Join us every morning\, Wednesday – Sunday\, for Rocky’s Book Club as we read some of Rocky’s favorite books for children 0-5+ years old.
URL:https://mschildrensmuseum.org/event/storytime-2022-06-30/2025-12-10/
LOCATION:MCM-Meridian\, 403 22nd Avenue\, Meridian\, MS\, 39301\, United States
CATEGORIES:Meridian
ATTACH;FMTTYPE=image/jpeg:https://mschildrensmuseum.org/wp-content/uploads/2022/04/IMG_8993-scaled.jpg
END:VEVENT
BEGIN:VEVENT
DTSTART;TZID=America/Chicago:20251211T100000
DTEND;TZID=America/Chicago:20251211T100000
DTSTAMP:20260421T190738
CREATED:20220413T134837Z
LAST-MODIFIED:20260330T153654Z
UID:52443-1765447200-1765447200@mschildrensmuseum.org
SUMMARY:Rocky's Book Club
DESCRIPTION:Rocky’s Book Club\n\n\n\nHave you met the beloved Talk From the Start mascot and literacy advocate\, Rocky the Reader? He’s a jolly pup who loves to read\, play literacy games\, and travel! Join us every morning\, Wednesday – Sunday\, for Rocky’s Book Club as we read some of Rocky’s favorite books for children 0-5+ years old.
URL:https://mschildrensmuseum.org/event/storytime-2022-06-30/2025-12-11/
LOCATION:MCM-Meridian\, 403 22nd Avenue\, Meridian\, MS\, 39301\, United States
CATEGORIES:Meridian
ATTACH;FMTTYPE=image/jpeg:https://mschildrensmuseum.org/wp-content/uploads/2022/04/IMG_8993-scaled.jpg
END:VEVENT
BEGIN:VEVENT
DTSTART;TZID=America/Chicago:20251212T100000
DTEND;TZID=America/Chicago:20251212T100000
DTSTAMP:20260421T190738
CREATED:20220413T134837Z
LAST-MODIFIED:20260330T153654Z
UID:52444-1765533600-1765533600@mschildrensmuseum.org
SUMMARY:Rocky's Book Club
DESCRIPTION:Rocky’s Book Club\n\n\n\nHave you met the beloved Talk From the Start mascot and literacy advocate\, Rocky the Reader? He’s a jolly pup who loves to read\, play literacy games\, and travel! Join us every morning\, Wednesday – Sunday\, for Rocky’s Book Club as we read some of Rocky’s favorite books for children 0-5+ years old.
URL:https://mschildrensmuseum.org/event/storytime-2022-06-30/2025-12-12/
LOCATION:MCM-Meridian\, 403 22nd Avenue\, Meridian\, MS\, 39301\, United States
CATEGORIES:Meridian
ATTACH;FMTTYPE=image/jpeg:https://mschildrensmuseum.org/wp-content/uploads/2022/04/IMG_8993-scaled.jpg
END:VEVENT
BEGIN:VEVENT
DTSTART;TZID=America/Chicago:20251213T110000
DTEND;TZID=America/Chicago:20251213T113000
DTSTAMP:20260421T190738
CREATED:20220413T134837Z
LAST-MODIFIED:20260330T153654Z
UID:54067-1765623600-1765625400@mschildrensmuseum.org
SUMMARY:Rocky's Book Club
DESCRIPTION:Rocky’s Book Club\n\n\n\nHave you met the beloved Talk From the Start mascot and literacy advocate\, Rocky the Reader? He’s a jolly pup who loves to read\, play literacy games\, and travel! Join us every morning\, Wednesday – Sunday\, for Rocky’s Book Club as we read some of Rocky’s favorite books for children 0-5+ years old.
URL:https://mschildrensmuseum.org/event/storytime-2022-06-30/2025-12-13/
LOCATION:MCM-Meridian\, 403 22nd Avenue\, Meridian\, MS\, 39301\, United States
CATEGORIES:Meridian
ATTACH;FMTTYPE=image/jpeg:https://mschildrensmuseum.org/wp-content/uploads/2022/04/IMG_8993-scaled.jpg
END:VEVENT
BEGIN:VEVENT
DTSTART;TZID=America/Chicago:20251214T140000
DTEND;TZID=America/Chicago:20251214T143000
DTSTAMP:20260421T190738
CREATED:20220413T134837Z
LAST-MODIFIED:20260330T153655Z
UID:54068-1765720800-1765722600@mschildrensmuseum.org
SUMMARY:Rocky's Book Club
DESCRIPTION:Rocky’s Book Club\n\n\n\nHave you met the beloved Talk From the Start mascot and literacy advocate\, Rocky the Reader? He’s a jolly pup who loves to read\, play literacy games\, and travel! Join us every morning\, Wednesday – Sunday\, for Rocky’s Book Club as we read some of Rocky’s favorite books for children 0-5+ years old.
URL:https://mschildrensmuseum.org/event/storytime-2022-06-30/2025-12-14/
LOCATION:MCM-Meridian\, 403 22nd Avenue\, Meridian\, MS\, 39301\, United States
CATEGORIES:Meridian
ATTACH;FMTTYPE=image/jpeg:https://mschildrensmuseum.org/wp-content/uploads/2022/04/IMG_8993-scaled.jpg
END:VEVENT
BEGIN:VEVENT
DTSTART;TZID=America/Chicago:20251217T100000
DTEND;TZID=America/Chicago:20251217T100000
DTSTAMP:20260421T190738
CREATED:20220413T134837Z
LAST-MODIFIED:20260330T153655Z
UID:52445-1765965600-1765965600@mschildrensmuseum.org
SUMMARY:Rocky's Book Club
DESCRIPTION:Rocky’s Book Club\n\n\n\nHave you met the beloved Talk From the Start mascot and literacy advocate\, Rocky the Reader? He’s a jolly pup who loves to read\, play literacy games\, and travel! Join us every morning\, Wednesday – Sunday\, for Rocky’s Book Club as we read some of Rocky’s favorite books for children 0-5+ years old.
URL:https://mschildrensmuseum.org/event/storytime-2022-06-30/2025-12-17/
LOCATION:MCM-Meridian\, 403 22nd Avenue\, Meridian\, MS\, 39301\, United States
CATEGORIES:Meridian
ATTACH;FMTTYPE=image/jpeg:https://mschildrensmuseum.org/wp-content/uploads/2022/04/IMG_8993-scaled.jpg
END:VEVENT
BEGIN:VEVENT
DTSTART;TZID=America/Chicago:20251218T100000
DTEND;TZID=America/Chicago:20251218T100000
DTSTAMP:20260421T190738
CREATED:20220413T134837Z
LAST-MODIFIED:20260330T153657Z
UID:52446-1766052000-1766052000@mschildrensmuseum.org
SUMMARY:Rocky's Book Club
DESCRIPTION:Rocky’s Book Club\n\n\n\nHave you met the beloved Talk From the Start mascot and literacy advocate\, Rocky the Reader? He’s a jolly pup who loves to read\, play literacy games\, and travel! Join us every morning\, Wednesday – Sunday\, for Rocky’s Book Club as we read some of Rocky’s favorite books for children 0-5+ years old.
URL:https://mschildrensmuseum.org/event/storytime-2022-06-30/2025-12-18/
LOCATION:MCM-Meridian\, 403 22nd Avenue\, Meridian\, MS\, 39301\, United States
CATEGORIES:Meridian
ATTACH;FMTTYPE=image/jpeg:https://mschildrensmuseum.org/wp-content/uploads/2022/04/IMG_8993-scaled.jpg
END:VEVENT
BEGIN:VEVENT
DTSTART;TZID=America/Chicago:20251219T100000
DTEND;TZID=America/Chicago:20251219T100000
DTSTAMP:20260421T190738
CREATED:20220413T134837Z
LAST-MODIFIED:20260330T153657Z
UID:52447-1766138400-1766138400@mschildrensmuseum.org
SUMMARY:Rocky's Book Club
DESCRIPTION:Rocky’s Book Club\n\n\n\nHave you met the beloved Talk From the Start mascot and literacy advocate\, Rocky the Reader? He’s a jolly pup who loves to read\, play literacy games\, and travel! Join us every morning\, Wednesday – Sunday\, for Rocky’s Book Club as we read some of Rocky’s favorite books for children 0-5+ years old.
URL:https://mschildrensmuseum.org/event/storytime-2022-06-30/2025-12-19/
LOCATION:MCM-Meridian\, 403 22nd Avenue\, Meridian\, MS\, 39301\, United States
CATEGORIES:Meridian
ATTACH;FMTTYPE=image/jpeg:https://mschildrensmuseum.org/wp-content/uploads/2022/04/IMG_8993-scaled.jpg
END:VEVENT
BEGIN:VEVENT
DTSTART;TZID=America/Chicago:20251220T110000
DTEND;TZID=America/Chicago:20251220T113000
DTSTAMP:20260421T190738
CREATED:20220413T134837Z
LAST-MODIFIED:20260330T153657Z
UID:54069-1766228400-1766230200@mschildrensmuseum.org
SUMMARY:Rocky's Book Club
DESCRIPTION:Rocky’s Book Club\n\n\n\nHave you met the beloved Talk From the Start mascot and literacy advocate\, Rocky the Reader? He’s a jolly pup who loves to read\, play literacy games\, and travel! Join us every morning\, Wednesday – Sunday\, for Rocky’s Book Club as we read some of Rocky’s favorite books for children 0-5+ years old.
URL:https://mschildrensmuseum.org/event/storytime-2022-06-30/2025-12-20/
LOCATION:MCM-Meridian\, 403 22nd Avenue\, Meridian\, MS\, 39301\, United States
CATEGORIES:Meridian
ATTACH;FMTTYPE=image/jpeg:https://mschildrensmuseum.org/wp-content/uploads/2022/04/IMG_8993-scaled.jpg
END:VEVENT
BEGIN:VEVENT
DTSTART;TZID=America/Chicago:20251221T140000
DTEND;TZID=America/Chicago:20251221T143000
DTSTAMP:20260421T190738
CREATED:20220413T134837Z
LAST-MODIFIED:20260330T153657Z
UID:54070-1766325600-1766327400@mschildrensmuseum.org
SUMMARY:Rocky's Book Club
DESCRIPTION:Rocky’s Book Club\n\n\n\nHave you met the beloved Talk From the Start mascot and literacy advocate\, Rocky the Reader? He’s a jolly pup who loves to read\, play literacy games\, and travel! Join us every morning\, Wednesday – Sunday\, for Rocky’s Book Club as we read some of Rocky’s favorite books for children 0-5+ years old.
URL:https://mschildrensmuseum.org/event/storytime-2022-06-30/2025-12-21/
LOCATION:MCM-Meridian\, 403 22nd Avenue\, Meridian\, MS\, 39301\, United States
CATEGORIES:Meridian
ATTACH;FMTTYPE=image/jpeg:https://mschildrensmuseum.org/wp-content/uploads/2022/04/IMG_8993-scaled.jpg
END:VEVENT
BEGIN:VEVENT
DTSTART;TZID=America/Chicago:20251224T100000
DTEND;TZID=America/Chicago:20251224T100000
DTSTAMP:20260421T190738
CREATED:20220413T134837Z
LAST-MODIFIED:20260330T153658Z
UID:52448-1766570400-1766570400@mschildrensmuseum.org
SUMMARY:Rocky's Book Club
DESCRIPTION:Rocky’s Book Club\n\n\n\nHave you met the beloved Talk From the Start mascot and literacy advocate\, Rocky the Reader? He’s a jolly pup who loves to read\, play literacy games\, and travel! Join us every morning\, Wednesday – Sunday\, for Rocky’s Book Club as we read some of Rocky’s favorite books for children 0-5+ years old.
URL:https://mschildrensmuseum.org/event/storytime-2022-06-30/2025-12-24/
LOCATION:MCM-Meridian\, 403 22nd Avenue\, Meridian\, MS\, 39301\, United States
CATEGORIES:Meridian
ATTACH;FMTTYPE=image/jpeg:https://mschildrensmuseum.org/wp-content/uploads/2022/04/IMG_8993-scaled.jpg
END:VEVENT
BEGIN:VEVENT
DTSTART;TZID=America/Chicago:20251225T100000
DTEND;TZID=America/Chicago:20251225T100000
DTSTAMP:20260421T190738
CREATED:20220413T134837Z
LAST-MODIFIED:20260330T153658Z
UID:52449-1766656800-1766656800@mschildrensmuseum.org
SUMMARY:Rocky's Book Club
DESCRIPTION:Rocky’s Book Club\n\n\n\nHave you met the beloved Talk From the Start mascot and literacy advocate\, Rocky the Reader? He’s a jolly pup who loves to read\, play literacy games\, and travel! Join us every morning\, Wednesday – Sunday\, for Rocky’s Book Club as we read some of Rocky’s favorite books for children 0-5+ years old.
URL:https://mschildrensmuseum.org/event/storytime-2022-06-30/2025-12-25/
LOCATION:MCM-Meridian\, 403 22nd Avenue\, Meridian\, MS\, 39301\, United States
CATEGORIES:Meridian
ATTACH;FMTTYPE=image/jpeg:https://mschildrensmuseum.org/wp-content/uploads/2022/04/IMG_8993-scaled.jpg
END:VEVENT
BEGIN:VEVENT
DTSTART;TZID=America/Chicago:20251226T100000
DTEND;TZID=America/Chicago:20251226T100000
DTSTAMP:20260421T190738
CREATED:20220413T134837Z
LAST-MODIFIED:20260330T153658Z
UID:52450-1766743200-1766743200@mschildrensmuseum.org
SUMMARY:Rocky's Book Club
DESCRIPTION:Rocky’s Book Club\n\n\n\nHave you met the beloved Talk From the Start mascot and literacy advocate\, Rocky the Reader? He’s a jolly pup who loves to read\, play literacy games\, and travel! Join us every morning\, Wednesday – Sunday\, for Rocky’s Book Club as we read some of Rocky’s favorite books for children 0-5+ years old.
URL:https://mschildrensmuseum.org/event/storytime-2022-06-30/2025-12-26/
LOCATION:MCM-Meridian\, 403 22nd Avenue\, Meridian\, MS\, 39301\, United States
CATEGORIES:Meridian
ATTACH;FMTTYPE=image/jpeg:https://mschildrensmuseum.org/wp-content/uploads/2022/04/IMG_8993-scaled.jpg
END:VEVENT
BEGIN:VEVENT
DTSTART;TZID=America/Chicago:20251227T110000
DTEND;TZID=America/Chicago:20251227T113000
DTSTAMP:20260421T190738
CREATED:20220413T134837Z
LAST-MODIFIED:20260330T153659Z
UID:54071-1766833200-1766835000@mschildrensmuseum.org
SUMMARY:Rocky's Book Club
DESCRIPTION:Rocky’s Book Club\n\n\n\nHave you met the beloved Talk From the Start mascot and literacy advocate\, Rocky the Reader? He’s a jolly pup who loves to read\, play literacy games\, and travel! Join us every morning\, Wednesday – Sunday\, for Rocky’s Book Club as we read some of Rocky’s favorite books for children 0-5+ years old.
URL:https://mschildrensmuseum.org/event/storytime-2022-06-30/2025-12-27/
LOCATION:MCM-Meridian\, 403 22nd Avenue\, Meridian\, MS\, 39301\, United States
CATEGORIES:Meridian
ATTACH;FMTTYPE=image/jpeg:https://mschildrensmuseum.org/wp-content/uploads/2022/04/IMG_8993-scaled.jpg
END:VEVENT
BEGIN:VEVENT
DTSTART;TZID=America/Chicago:20251228T140000
DTEND;TZID=America/Chicago:20251228T143000
DTSTAMP:20260421T190738
CREATED:20220413T134837Z
LAST-MODIFIED:20260330T153659Z
UID:54072-1766930400-1766932200@mschildrensmuseum.org
SUMMARY:Rocky's Book Club
DESCRIPTION:Rocky’s Book Club\n\n\n\nHave you met the beloved Talk From the Start mascot and literacy advocate\, Rocky the Reader? He’s a jolly pup who loves to read\, play literacy games\, and travel! Join us every morning\, Wednesday – Sunday\, for Rocky’s Book Club as we read some of Rocky’s favorite books for children 0-5+ years old.
URL:https://mschildrensmuseum.org/event/storytime-2022-06-30/2025-12-28/
LOCATION:MCM-Meridian\, 403 22nd Avenue\, Meridian\, MS\, 39301\, United States
CATEGORIES:Meridian
ATTACH;FMTTYPE=image/jpeg:https://mschildrensmuseum.org/wp-content/uploads/2022/04/IMG_8993-scaled.jpg
END:VEVENT
BEGIN:VEVENT
DTSTART;TZID=America/Chicago:20251231T100000
DTEND;TZID=America/Chicago:20251231T100000
DTSTAMP:20260421T190738
CREATED:20220413T134837Z
LAST-MODIFIED:20260330T153659Z
UID:52451-1767175200-1767175200@mschildrensmuseum.org
SUMMARY:Rocky's Book Club
DESCRIPTION:Rocky’s Book Club\n\n\n\nHave you met the beloved Talk From the Start mascot and literacy advocate\, Rocky the Reader? He’s a jolly pup who loves to read\, play literacy games\, and travel! Join us every morning\, Wednesday – Sunday\, for Rocky’s Book Club as we read some of Rocky’s favorite books for children 0-5+ years old.
URL:https://mschildrensmuseum.org/event/storytime-2022-06-30/2025-12-31/
LOCATION:MCM-Meridian\, 403 22nd Avenue\, Meridian\, MS\, 39301\, United States
CATEGORIES:Meridian
ATTACH;FMTTYPE=image/jpeg:https://mschildrensmuseum.org/wp-content/uploads/2022/04/IMG_8993-scaled.jpg
END:VEVENT
END:VCALENDAR