BEGIN:VCALENDAR
VERSION:2.0
PRODID:-//Mississippi Children&#039;s Museum - ECPv6.15.20//NONSGML v1.0//EN
CALSCALE:GREGORIAN
METHOD:PUBLISH
X-WR-CALNAME:Mississippi Children&#039;s Museum
X-ORIGINAL-URL:https://mschildrensmuseum.org
X-WR-CALDESC:Events for Mississippi Children&#039;s Museum
REFRESH-INTERVAL;VALUE=DURATION:PT1H
X-Robots-Tag:noindex
X-PUBLISHED-TTL:PT1H
BEGIN:VTIMEZONE
TZID:America/Chicago
BEGIN:DAYLIGHT
TZOFFSETFROM:-0600
TZOFFSETTO:-0500
TZNAME:CDT
DTSTART:20200308T080000
END:DAYLIGHT
BEGIN:STANDARD
TZOFFSETFROM:-0500
TZOFFSETTO:-0600
TZNAME:CST
DTSTART:20201101T070000
END:STANDARD
BEGIN:DAYLIGHT
TZOFFSETFROM:-0600
TZOFFSETTO:-0500
TZNAME:CDT
DTSTART:20210314T080000
END:DAYLIGHT
BEGIN:STANDARD
TZOFFSETFROM:-0500
TZOFFSETTO:-0600
TZNAME:CST
DTSTART:20211107T070000
END:STANDARD
BEGIN:DAYLIGHT
TZOFFSETFROM:-0600
TZOFFSETTO:-0500
TZNAME:CDT
DTSTART:20220313T080000
END:DAYLIGHT
BEGIN:STANDARD
TZOFFSETFROM:-0500
TZOFFSETTO:-0600
TZNAME:CST
DTSTART:20221106T070000
END:STANDARD
BEGIN:DAYLIGHT
TZOFFSETFROM:-0600
TZOFFSETTO:-0500
TZNAME:CDT
DTSTART:20230312T080000
END:DAYLIGHT
BEGIN:STANDARD
TZOFFSETFROM:-0500
TZOFFSETTO:-0600
TZNAME:CST
DTSTART:20231105T070000
END:STANDARD
END:VTIMEZONE
BEGIN:VEVENT
DTSTART;TZID=America/Chicago:20221115T090000
DTEND;TZID=America/Chicago:20221115T130000
DTSTAMP:20260423T055210
CREATED:20220124T164511Z
LAST-MODIFIED:20221107T161317Z
UID:20037-1668502800-1668517200@mschildrensmuseum.org
SUMMARY:Question It? Discover It!
DESCRIPTION:Question It? Discover It!\nFor this November’s Question It? Discover It!\, Mississippi SafeKids will be at the museum promoting the importance of healthy eating habits and physical activity! Mississippi SafeKids will be here from 9:00am-1:00pm on Tuesday\, November 15. \nNovember Video Resources:\n\nFit Food is Fun Food\nOutwit Empty Calories\nTasty Tips for Better Nutrition\nMove and Groove\n\nQuestion It? Discover It! is sponsored by University of Mississippi Medical Center \n \n\n\n 
URL:https://mschildrensmuseum.org/event/question-it-discover-it-4/
CATEGORIES:Jackson
ATTACH;FMTTYPE=image/jpeg:https://mschildrensmuseum.org/wp-content/uploads/2022/01/20171021_QIDI_16-scaled-e1641421444507.jpg
END:VEVENT
BEGIN:VEVENT
DTSTART;TZID=America/Chicago:20210605T090000
DTEND;TZID=America/Chicago:20210605T170000
DTSTAMP:20260423T055210
CREATED:20210524T212501Z
LAST-MODIFIED:20210701T162019Z
UID:11223-1622883600-1622912400@mschildrensmuseum.org
SUMMARY:Doc Day
DESCRIPTION:Doc Day\nJoin us on June 5th and July 10th for “Doc Day” at the museum! Bring your own stuffed animal to “doctor” on\, and hear from real health professionals about life in the medical field. Enjoy hands on activities and information for children and families\, and experience the magical world of Doc McStuffins! \nPurchase Tickets
URL:https://mschildrensmuseum.org/event/doc-day/
CATEGORIES:Jackson
ATTACH;FMTTYPE=image/jpeg:https://mschildrensmuseum.org/wp-content/uploads/2021/05/6T4A8711-scaled-e1621891686515.jpg
END:VEVENT
END:VCALENDAR