BEGIN:VCALENDAR
VERSION:2.0
PRODID:-//Mississippi Children&#039;s Museum - ECPv6.15.20//NONSGML v1.0//EN
CALSCALE:GREGORIAN
METHOD:PUBLISH
X-WR-CALNAME:Mississippi Children&#039;s Museum
X-ORIGINAL-URL:https://mschildrensmuseum.org
X-WR-CALDESC:Events for Mississippi Children&#039;s Museum
REFRESH-INTERVAL;VALUE=DURATION:PT1H
X-Robots-Tag:noindex
X-PUBLISHED-TTL:PT1H
BEGIN:VTIMEZONE
TZID:America/Chicago
BEGIN:DAYLIGHT
TZOFFSETFROM:-0600
TZOFFSETTO:-0500
TZNAME:CDT
DTSTART:20250309T080000
END:DAYLIGHT
BEGIN:STANDARD
TZOFFSETFROM:-0500
TZOFFSETTO:-0600
TZNAME:CST
DTSTART:20251102T070000
END:STANDARD
BEGIN:DAYLIGHT
TZOFFSETFROM:-0600
TZOFFSETTO:-0500
TZNAME:CDT
DTSTART:20260308T080000
END:DAYLIGHT
BEGIN:STANDARD
TZOFFSETFROM:-0500
TZOFFSETTO:-0600
TZNAME:CST
DTSTART:20261101T070000
END:STANDARD
BEGIN:DAYLIGHT
TZOFFSETFROM:-0600
TZOFFSETTO:-0500
TZNAME:CDT
DTSTART:20270314T080000
END:DAYLIGHT
BEGIN:STANDARD
TZOFFSETFROM:-0500
TZOFFSETTO:-0600
TZNAME:CST
DTSTART:20271107T070000
END:STANDARD
END:VTIMEZONE
BEGIN:VEVENT
DTSTART;TZID=America/Chicago:20260502T100000
DTEND;TZID=America/Chicago:20260502T103000
DTSTAMP:20260421T121917
CREATED:20210202T183542Z
LAST-MODIFIED:20260401T182114Z
UID:49769-1777716000-1777717800@mschildrensmuseum.org
SUMMARY:Know to Grow
DESCRIPTION:Know to Grow\nJoin us in the Enchanted Land of Story every Saturday at 10:00am for Know to Grow! This program incorporates our STEAM\, literacy\, and health initiatives to create a multi-disciplinary program where children will make connections between reading\, science and the aspects of the natural world. Each week we will read a garden-related story and work together to complete a hands-on gardening activity! \nPurchase Tickets to the Museum\nKnow to Grow is sponsored by Feild CoOp Association
URL:https://mschildrensmuseum.org/event/know-to-grow/2026-05-02/
LOCATION:MCM\, 2145 Museum Boulevard\, Jackson\, MS\, 39202\, United States
CATEGORIES:Jackson
ATTACH;FMTTYPE=image/jpeg:https://mschildrensmuseum.org/wp-content/uploads/2021/01/know-to-grow-hero.jpg
END:VEVENT
END:VCALENDAR