BEGIN:VCALENDAR
VERSION:2.0
PRODID:-//Mississippi Children&#039;s Museum - ECPv6.15.20//NONSGML v1.0//EN
CALSCALE:GREGORIAN
METHOD:PUBLISH
X-WR-CALNAME:Mississippi Children&#039;s Museum
X-ORIGINAL-URL:https://mschildrensmuseum.org
X-WR-CALDESC:Events for Mississippi Children&#039;s Museum
REFRESH-INTERVAL;VALUE=DURATION:PT1H
X-Robots-Tag:noindex
X-PUBLISHED-TTL:PT1H
BEGIN:VTIMEZONE
TZID:America/Chicago
BEGIN:DAYLIGHT
TZOFFSETFROM:-0600
TZOFFSETTO:-0500
TZNAME:CDT
DTSTART:20240310T080000
END:DAYLIGHT
BEGIN:STANDARD
TZOFFSETFROM:-0500
TZOFFSETTO:-0600
TZNAME:CST
DTSTART:20241103T070000
END:STANDARD
BEGIN:DAYLIGHT
TZOFFSETFROM:-0600
TZOFFSETTO:-0500
TZNAME:CDT
DTSTART:20250309T080000
END:DAYLIGHT
BEGIN:STANDARD
TZOFFSETFROM:-0500
TZOFFSETTO:-0600
TZNAME:CST
DTSTART:20251102T070000
END:STANDARD
BEGIN:DAYLIGHT
TZOFFSETFROM:-0600
TZOFFSETTO:-0500
TZNAME:CDT
DTSTART:20260308T080000
END:DAYLIGHT
BEGIN:STANDARD
TZOFFSETFROM:-0500
TZOFFSETTO:-0600
TZNAME:CST
DTSTART:20261101T070000
END:STANDARD
END:VTIMEZONE
BEGIN:VEVENT
DTSTART;TZID=America/Chicago:20251203T100000
DTEND;TZID=America/Chicago:20251203T103000
DTSTAMP:20260421T171547
CREATED:20210202T181241Z
LAST-MODIFIED:20260113T180649Z
UID:48433-1764756000-1764757800@mschildrensmuseum.org
SUMMARY:ABC Come Play With Me
DESCRIPTION:ABC Come Play With Me\nABC Come Play with Me is our program designed specifically for infants\, toddlers\, and their caregivers. Give your little one a jump start on the ABCs and 123s with this program every Wednesday at 10:00am. We will start the morning with the alphabet song\, a story\, and either an art project or sensory experience. \nPurchase tickets to the museum\nABC Come Play with Me is sponsored by International Paper.
URL:https://mschildrensmuseum.org/event/abc-come-play-with-me/2025-12-03/
CATEGORIES:Jackson
ATTACH;FMTTYPE=image/jpeg:https://mschildrensmuseum.org/wp-content/uploads/2025/08/wonderbox-scaled.jpeg
END:VEVENT
BEGIN:VEVENT
DTSTART;TZID=America/Chicago:20251204T110000
DTEND;TZID=America/Chicago:20251204T113000
DTSTAMP:20260421T171547
CREATED:20210202T181827Z
LAST-MODIFIED:20251215T203440Z
UID:50473-1764846000-1764847800@mschildrensmuseum.org
SUMMARY:Mindful Mornings
DESCRIPTION:Mindful Mornings\nMindfulness (noun): the practice of being completely present and in the moment. To slow down and be aware of your surroundings while embracing your senses and feelings. \nMindful Mornings uses a holistic approach to health. It equips both children and their caregivers with the ability to explore new wellness techniques. Join on the first Thursday of every month at 11:00am as we care for the mind\, body\, and soul. \nPurchase tickets to the museum\nMindful Mornings is sponsored by Hinds Behavioral Health Services
URL:https://mschildrensmuseum.org/event/mindful-mornings/2025-12-04/
LOCATION:MCM\, 2145 Museum Boulevard\, Jackson\, MS\, 39202\, United States
CATEGORIES:Jackson
ATTACH;FMTTYPE=image/jpeg:https://mschildrensmuseum.org/wp-content/uploads/2021/01/068A9424-scaled.jpg
END:VEVENT
BEGIN:VEVENT
DTSTART;TZID=America/Chicago:20251205T100000
DTEND;TZID=America/Chicago:20251205T103000
DTSTAMP:20260421T171547
CREATED:20210202T182534Z
LAST-MODIFIED:20210202T182534Z
UID:46783-1764928800-1764930600@mschildrensmuseum.org
SUMMARY:Farm Bureau Spotlight
DESCRIPTION:Farm Bureau Spotlight\nFarm Bureau Spotlight is a multi-disciplinary\, inquiry-based program that is designed to educate visitors about the broad industry of agriculture. Join us every Friday at 10:00am as we learn about the many career fields within agriculture and the important role it plays in our daily lives. Each week we will explore a different aspect of agriculture while incorporating our STEAM\, Mississippi heritage\, and health initiatives. We will cover beekeeping\, growing produce\, the chemistry of food\, veterinary medicine\, farming\, irrigation\, the water cycle\, forestry\, fishing\, and much more! \nDon’t miss out on Farm Bureau Friday! Every Friday\, Farm Bureau Members receive $5 admission by showing their valid membership card at the front desk! This offer is provided exclusively to members of Mississippi Farm Bureau Federation at our JACKSON location. \nPurchase tickets to the museum\nFarm Bureau Spotlight is sponsored by Farm Bureau of Mississippi
URL:https://mschildrensmuseum.org/event/farm-bureau-spotlight/2025-12-05/
LOCATION:MCM\, 2145 Museum Boulevard\, Jackson\, MS\, 39202\, United States
CATEGORIES:Jackson
ATTACH;FMTTYPE=image/jpeg:https://mschildrensmuseum.org/wp-content/uploads/2021/02/068A8777-scaled.jpg
END:VEVENT
BEGIN:VEVENT
DTSTART;TZID=America/Chicago:20251206T100000
DTEND;TZID=America/Chicago:20251206T103000
DTSTAMP:20260421T171547
CREATED:20210202T183542Z
LAST-MODIFIED:20260401T182107Z
UID:49748-1765015200-1765017000@mschildrensmuseum.org
SUMMARY:Know to Grow
DESCRIPTION:Know to Grow\nJoin us in the Enchanted Land of Story every Saturday at 10:00am for Know to Grow! This program incorporates our STEAM\, literacy\, and health initiatives to create a multi-disciplinary program where children will make connections between reading\, science and the aspects of the natural world. Each week we will read a garden-related story and work together to complete a hands-on gardening activity! \nPurchase Tickets to the Museum\nKnow to Grow is sponsored by Feild CoOp Association
URL:https://mschildrensmuseum.org/event/know-to-grow/2025-12-06/
LOCATION:MCM\, 2145 Museum Boulevard\, Jackson\, MS\, 39202\, United States
CATEGORIES:Jackson
ATTACH;FMTTYPE=image/jpeg:https://mschildrensmuseum.org/wp-content/uploads/2021/01/know-to-grow-hero.jpg
END:VEVENT
BEGIN:VEVENT
DTSTART;TZID=America/Chicago:20251207T140000
DTEND;TZID=America/Chicago:20251207T143000
DTSTAMP:20260421T171547
CREATED:20210202T183755Z
LAST-MODIFIED:20260121T160118Z
UID:46638-1765116000-1765117800@mschildrensmuseum.org
SUMMARY:Art Smart
DESCRIPTION:Art Smart\nBring your little artist to the museum every Sunday at 2:00pm for Art Smart! This program suctions as a mini art class\, where we will spend each week building onto the skills we learned in past programs. Join us as we break down the basics of sketching\, drawing\, painting\, color theory\, and more! \nPurchase tickets to the museum
URL:https://mschildrensmuseum.org/event/art-smart/2025-12-07/
LOCATION:MCM\, 2145 Museum Boulevard\, Jackson\, MS\, 39202\, United States
CATEGORIES:Jackson
ATTACH;FMTTYPE=image/jpeg:https://mschildrensmuseum.org/wp-content/uploads/2021/02/068A9429-scaled.jpg
END:VEVENT
BEGIN:VEVENT
DTSTART;TZID=America/Chicago:20251210T100000
DTEND;TZID=America/Chicago:20251210T103000
DTSTAMP:20260421T171547
CREATED:20210202T181241Z
LAST-MODIFIED:20260113T180649Z
UID:48434-1765360800-1765362600@mschildrensmuseum.org
SUMMARY:ABC Come Play With Me
DESCRIPTION:ABC Come Play With Me\nABC Come Play with Me is our program designed specifically for infants\, toddlers\, and their caregivers. Give your little one a jump start on the ABCs and 123s with this program every Wednesday at 10:00am. We will start the morning with the alphabet song\, a story\, and either an art project or sensory experience. \nPurchase tickets to the museum\nABC Come Play with Me is sponsored by International Paper.
URL:https://mschildrensmuseum.org/event/abc-come-play-with-me/2025-12-10/
CATEGORIES:Jackson
ATTACH;FMTTYPE=image/jpeg:https://mschildrensmuseum.org/wp-content/uploads/2025/08/wonderbox-scaled.jpeg
END:VEVENT
BEGIN:VEVENT
DTSTART;TZID=America/Chicago:20251212T100000
DTEND;TZID=America/Chicago:20251212T103000
DTSTAMP:20260421T171547
CREATED:20210202T182534Z
LAST-MODIFIED:20210202T182534Z
UID:46784-1765533600-1765535400@mschildrensmuseum.org
SUMMARY:Farm Bureau Spotlight
DESCRIPTION:Farm Bureau Spotlight\nFarm Bureau Spotlight is a multi-disciplinary\, inquiry-based program that is designed to educate visitors about the broad industry of agriculture. Join us every Friday at 10:00am as we learn about the many career fields within agriculture and the important role it plays in our daily lives. Each week we will explore a different aspect of agriculture while incorporating our STEAM\, Mississippi heritage\, and health initiatives. We will cover beekeeping\, growing produce\, the chemistry of food\, veterinary medicine\, farming\, irrigation\, the water cycle\, forestry\, fishing\, and much more! \nDon’t miss out on Farm Bureau Friday! Every Friday\, Farm Bureau Members receive $5 admission by showing their valid membership card at the front desk! This offer is provided exclusively to members of Mississippi Farm Bureau Federation at our JACKSON location. \nPurchase tickets to the museum\nFarm Bureau Spotlight is sponsored by Farm Bureau of Mississippi
URL:https://mschildrensmuseum.org/event/farm-bureau-spotlight/2025-12-12/
LOCATION:MCM\, 2145 Museum Boulevard\, Jackson\, MS\, 39202\, United States
CATEGORIES:Jackson
ATTACH;FMTTYPE=image/jpeg:https://mschildrensmuseum.org/wp-content/uploads/2021/02/068A8777-scaled.jpg
END:VEVENT
BEGIN:VEVENT
DTSTART;TZID=America/Chicago:20251213T100000
DTEND;TZID=America/Chicago:20251213T103000
DTSTAMP:20260421T171547
CREATED:20210202T183542Z
LAST-MODIFIED:20260401T182107Z
UID:49749-1765620000-1765621800@mschildrensmuseum.org
SUMMARY:Know to Grow
DESCRIPTION:Know to Grow\nJoin us in the Enchanted Land of Story every Saturday at 10:00am for Know to Grow! This program incorporates our STEAM\, literacy\, and health initiatives to create a multi-disciplinary program where children will make connections between reading\, science and the aspects of the natural world. Each week we will read a garden-related story and work together to complete a hands-on gardening activity! \nPurchase Tickets to the Museum\nKnow to Grow is sponsored by Feild CoOp Association
URL:https://mschildrensmuseum.org/event/know-to-grow/2025-12-13/
LOCATION:MCM\, 2145 Museum Boulevard\, Jackson\, MS\, 39202\, United States
CATEGORIES:Jackson
ATTACH;FMTTYPE=image/jpeg:https://mschildrensmuseum.org/wp-content/uploads/2021/01/know-to-grow-hero.jpg
END:VEVENT
BEGIN:VEVENT
DTSTART;TZID=America/Chicago:20251214T140000
DTEND;TZID=America/Chicago:20251214T143000
DTSTAMP:20260421T171547
CREATED:20210202T183755Z
LAST-MODIFIED:20260121T160120Z
UID:46639-1765720800-1765722600@mschildrensmuseum.org
SUMMARY:Art Smart
DESCRIPTION:Art Smart\nBring your little artist to the museum every Sunday at 2:00pm for Art Smart! This program suctions as a mini art class\, where we will spend each week building onto the skills we learned in past programs. Join us as we break down the basics of sketching\, drawing\, painting\, color theory\, and more! \nPurchase tickets to the museum
URL:https://mschildrensmuseum.org/event/art-smart/2025-12-14/
LOCATION:MCM\, 2145 Museum Boulevard\, Jackson\, MS\, 39202\, United States
CATEGORIES:Jackson
ATTACH;FMTTYPE=image/jpeg:https://mschildrensmuseum.org/wp-content/uploads/2021/02/068A9429-scaled.jpg
END:VEVENT
BEGIN:VEVENT
DTSTART;TZID=America/Chicago:20251217T100000
DTEND;TZID=America/Chicago:20251217T103000
DTSTAMP:20260421T171547
CREATED:20210202T181241Z
LAST-MODIFIED:20260113T180649Z
UID:48436-1765965600-1765967400@mschildrensmuseum.org
SUMMARY:ABC Come Play With Me
DESCRIPTION:ABC Come Play With Me\nABC Come Play with Me is our program designed specifically for infants\, toddlers\, and their caregivers. Give your little one a jump start on the ABCs and 123s with this program every Wednesday at 10:00am. We will start the morning with the alphabet song\, a story\, and either an art project or sensory experience. \nPurchase tickets to the museum\nABC Come Play with Me is sponsored by International Paper.
URL:https://mschildrensmuseum.org/event/abc-come-play-with-me/2025-12-17/
CATEGORIES:Jackson
ATTACH;FMTTYPE=image/jpeg:https://mschildrensmuseum.org/wp-content/uploads/2025/08/wonderbox-scaled.jpeg
END:VEVENT
BEGIN:VEVENT
DTSTART;TZID=America/Chicago:20251219T100000
DTEND;TZID=America/Chicago:20251219T103000
DTSTAMP:20260421T171547
CREATED:20210202T182534Z
LAST-MODIFIED:20210202T182534Z
UID:46785-1766138400-1766140200@mschildrensmuseum.org
SUMMARY:Farm Bureau Spotlight
DESCRIPTION:Farm Bureau Spotlight\nFarm Bureau Spotlight is a multi-disciplinary\, inquiry-based program that is designed to educate visitors about the broad industry of agriculture. Join us every Friday at 10:00am as we learn about the many career fields within agriculture and the important role it plays in our daily lives. Each week we will explore a different aspect of agriculture while incorporating our STEAM\, Mississippi heritage\, and health initiatives. We will cover beekeeping\, growing produce\, the chemistry of food\, veterinary medicine\, farming\, irrigation\, the water cycle\, forestry\, fishing\, and much more! \nDon’t miss out on Farm Bureau Friday! Every Friday\, Farm Bureau Members receive $5 admission by showing their valid membership card at the front desk! This offer is provided exclusively to members of Mississippi Farm Bureau Federation at our JACKSON location. \nPurchase tickets to the museum\nFarm Bureau Spotlight is sponsored by Farm Bureau of Mississippi
URL:https://mschildrensmuseum.org/event/farm-bureau-spotlight/2025-12-19/
LOCATION:MCM\, 2145 Museum Boulevard\, Jackson\, MS\, 39202\, United States
CATEGORIES:Jackson
ATTACH;FMTTYPE=image/jpeg:https://mschildrensmuseum.org/wp-content/uploads/2021/02/068A8777-scaled.jpg
END:VEVENT
BEGIN:VEVENT
DTSTART;TZID=America/Chicago:20251220T100000
DTEND;TZID=America/Chicago:20251220T103000
DTSTAMP:20260421T171547
CREATED:20210202T183542Z
LAST-MODIFIED:20260401T182107Z
UID:49750-1766224800-1766226600@mschildrensmuseum.org
SUMMARY:Know to Grow
DESCRIPTION:Know to Grow\nJoin us in the Enchanted Land of Story every Saturday at 10:00am for Know to Grow! This program incorporates our STEAM\, literacy\, and health initiatives to create a multi-disciplinary program where children will make connections between reading\, science and the aspects of the natural world. Each week we will read a garden-related story and work together to complete a hands-on gardening activity! \nPurchase Tickets to the Museum\nKnow to Grow is sponsored by Feild CoOp Association
URL:https://mschildrensmuseum.org/event/know-to-grow/2025-12-20/
LOCATION:MCM\, 2145 Museum Boulevard\, Jackson\, MS\, 39202\, United States
CATEGORIES:Jackson
ATTACH;FMTTYPE=image/jpeg:https://mschildrensmuseum.org/wp-content/uploads/2021/01/know-to-grow-hero.jpg
END:VEVENT
BEGIN:VEVENT
DTSTART;TZID=America/Chicago:20251221T140000
DTEND;TZID=America/Chicago:20251221T143000
DTSTAMP:20260421T171547
CREATED:20210202T183755Z
LAST-MODIFIED:20260121T160120Z
UID:46640-1766325600-1766327400@mschildrensmuseum.org
SUMMARY:Art Smart
DESCRIPTION:Art Smart\nBring your little artist to the museum every Sunday at 2:00pm for Art Smart! This program suctions as a mini art class\, where we will spend each week building onto the skills we learned in past programs. Join us as we break down the basics of sketching\, drawing\, painting\, color theory\, and more! \nPurchase tickets to the museum
URL:https://mschildrensmuseum.org/event/art-smart/2025-12-21/
LOCATION:MCM\, 2145 Museum Boulevard\, Jackson\, MS\, 39202\, United States
CATEGORIES:Jackson
ATTACH;FMTTYPE=image/jpeg:https://mschildrensmuseum.org/wp-content/uploads/2021/02/068A9429-scaled.jpg
END:VEVENT
BEGIN:VEVENT
DTSTART;TZID=America/Chicago:20251226T100000
DTEND;TZID=America/Chicago:20251226T103000
DTSTAMP:20260421T171547
CREATED:20210202T182534Z
LAST-MODIFIED:20210202T182534Z
UID:46786-1766743200-1766745000@mschildrensmuseum.org
SUMMARY:Farm Bureau Spotlight
DESCRIPTION:Farm Bureau Spotlight\nFarm Bureau Spotlight is a multi-disciplinary\, inquiry-based program that is designed to educate visitors about the broad industry of agriculture. Join us every Friday at 10:00am as we learn about the many career fields within agriculture and the important role it plays in our daily lives. Each week we will explore a different aspect of agriculture while incorporating our STEAM\, Mississippi heritage\, and health initiatives. We will cover beekeeping\, growing produce\, the chemistry of food\, veterinary medicine\, farming\, irrigation\, the water cycle\, forestry\, fishing\, and much more! \nDon’t miss out on Farm Bureau Friday! Every Friday\, Farm Bureau Members receive $5 admission by showing their valid membership card at the front desk! This offer is provided exclusively to members of Mississippi Farm Bureau Federation at our JACKSON location. \nPurchase tickets to the museum\nFarm Bureau Spotlight is sponsored by Farm Bureau of Mississippi
URL:https://mschildrensmuseum.org/event/farm-bureau-spotlight/2025-12-26/
LOCATION:MCM\, 2145 Museum Boulevard\, Jackson\, MS\, 39202\, United States
CATEGORIES:Jackson
ATTACH;FMTTYPE=image/jpeg:https://mschildrensmuseum.org/wp-content/uploads/2021/02/068A8777-scaled.jpg
END:VEVENT
BEGIN:VEVENT
DTSTART;TZID=America/Chicago:20251227T100000
DTEND;TZID=America/Chicago:20251227T103000
DTSTAMP:20260421T171547
CREATED:20210202T183542Z
LAST-MODIFIED:20260401T182108Z
UID:49751-1766829600-1766831400@mschildrensmuseum.org
SUMMARY:Know to Grow
DESCRIPTION:Know to Grow\nJoin us in the Enchanted Land of Story every Saturday at 10:00am for Know to Grow! This program incorporates our STEAM\, literacy\, and health initiatives to create a multi-disciplinary program where children will make connections between reading\, science and the aspects of the natural world. Each week we will read a garden-related story and work together to complete a hands-on gardening activity! \nPurchase Tickets to the Museum\nKnow to Grow is sponsored by Feild CoOp Association
URL:https://mschildrensmuseum.org/event/know-to-grow/2025-12-27/
LOCATION:MCM\, 2145 Museum Boulevard\, Jackson\, MS\, 39202\, United States
CATEGORIES:Jackson
ATTACH;FMTTYPE=image/jpeg:https://mschildrensmuseum.org/wp-content/uploads/2021/01/know-to-grow-hero.jpg
END:VEVENT
BEGIN:VEVENT
DTSTART;TZID=America/Chicago:20251228T140000
DTEND;TZID=America/Chicago:20251228T143000
DTSTAMP:20260421T171547
CREATED:20210202T183755Z
LAST-MODIFIED:20260121T160120Z
UID:46641-1766930400-1766932200@mschildrensmuseum.org
SUMMARY:Art Smart
DESCRIPTION:Art Smart\nBring your little artist to the museum every Sunday at 2:00pm for Art Smart! This program suctions as a mini art class\, where we will spend each week building onto the skills we learned in past programs. Join us as we break down the basics of sketching\, drawing\, painting\, color theory\, and more! \nPurchase tickets to the museum
URL:https://mschildrensmuseum.org/event/art-smart/2025-12-28/
LOCATION:MCM\, 2145 Museum Boulevard\, Jackson\, MS\, 39202\, United States
CATEGORIES:Jackson
ATTACH;FMTTYPE=image/jpeg:https://mschildrensmuseum.org/wp-content/uploads/2021/02/068A9429-scaled.jpg
END:VEVENT
BEGIN:VEVENT
DTSTART;TZID=America/Chicago:20251231T100000
DTEND;TZID=America/Chicago:20251231T103000
DTSTAMP:20260421T171547
CREATED:20210202T181241Z
LAST-MODIFIED:20260113T180650Z
UID:51578-1767175200-1767177000@mschildrensmuseum.org
SUMMARY:ABC Come Play With Me
DESCRIPTION:ABC Come Play With Me\nABC Come Play with Me is our program designed specifically for infants\, toddlers\, and their caregivers. Give your little one a jump start on the ABCs and 123s with this program every Wednesday at 10:00am. We will start the morning with the alphabet song\, a story\, and either an art project or sensory experience. \nPurchase tickets to the museum\nABC Come Play with Me is sponsored by International Paper.
URL:https://mschildrensmuseum.org/event/abc-come-play-with-me/2025-12-31/
CATEGORIES:Jackson
ATTACH;FMTTYPE=image/jpeg:https://mschildrensmuseum.org/wp-content/uploads/2025/08/wonderbox-scaled.jpeg
END:VEVENT
END:VCALENDAR