BEGIN:VCALENDAR
VERSION:2.0
PRODID:-//Mississippi Children&#039;s Museum - ECPv6.15.20//NONSGML v1.0//EN
CALSCALE:GREGORIAN
METHOD:PUBLISH
X-WR-CALNAME:Mississippi Children&#039;s Museum
X-ORIGINAL-URL:https://mschildrensmuseum.org
X-WR-CALDESC:Events for Mississippi Children&#039;s Museum
REFRESH-INTERVAL;VALUE=DURATION:PT1H
X-Robots-Tag:noindex
X-PUBLISHED-TTL:PT1H
BEGIN:VTIMEZONE
TZID:America/Chicago
BEGIN:DAYLIGHT
TZOFFSETFROM:-0600
TZOFFSETTO:-0500
TZNAME:CDT
DTSTART:20240310T080000
END:DAYLIGHT
BEGIN:STANDARD
TZOFFSETFROM:-0500
TZOFFSETTO:-0600
TZNAME:CST
DTSTART:20241103T070000
END:STANDARD
BEGIN:DAYLIGHT
TZOFFSETFROM:-0600
TZOFFSETTO:-0500
TZNAME:CDT
DTSTART:20250309T080000
END:DAYLIGHT
BEGIN:STANDARD
TZOFFSETFROM:-0500
TZOFFSETTO:-0600
TZNAME:CST
DTSTART:20251102T070000
END:STANDARD
BEGIN:DAYLIGHT
TZOFFSETFROM:-0600
TZOFFSETTO:-0500
TZNAME:CDT
DTSTART:20260308T080000
END:DAYLIGHT
BEGIN:STANDARD
TZOFFSETFROM:-0500
TZOFFSETTO:-0600
TZNAME:CST
DTSTART:20261101T070000
END:STANDARD
END:VTIMEZONE
BEGIN:VEVENT
DTSTART;TZID=America/Chicago:20250801T100000
DTEND;TZID=America/Chicago:20250801T103000
DTSTAMP:20260422T154113
CREATED:20210202T182534Z
LAST-MODIFIED:20210202T182534Z
UID:46765-1754042400-1754044200@mschildrensmuseum.org
SUMMARY:Farm Bureau Spotlight
DESCRIPTION:Farm Bureau Spotlight\nFarm Bureau Spotlight is a multi-disciplinary\, inquiry-based program that is designed to educate visitors about the broad industry of agriculture. Join us every Friday at 10:00am as we learn about the many career fields within agriculture and the important role it plays in our daily lives. Each week we will explore a different aspect of agriculture while incorporating our STEAM\, Mississippi heritage\, and health initiatives. We will cover beekeeping\, growing produce\, the chemistry of food\, veterinary medicine\, farming\, irrigation\, the water cycle\, forestry\, fishing\, and much more! \nDon’t miss out on Farm Bureau Friday! Every Friday\, Farm Bureau Members receive $5 admission by showing their valid membership card at the front desk! This offer is provided exclusively to members of Mississippi Farm Bureau Federation at our JACKSON location. \nPurchase tickets to the museum\nFarm Bureau Spotlight is sponsored by Farm Bureau of Mississippi
URL:https://mschildrensmuseum.org/event/farm-bureau-spotlight/2025-08-01/
LOCATION:MCM\, 2145 Museum Boulevard\, Jackson\, MS\, 39202\, United States
CATEGORIES:Jackson
ATTACH;FMTTYPE=image/jpeg:https://mschildrensmuseum.org/wp-content/uploads/2021/02/068A8777-scaled.jpg
END:VEVENT
BEGIN:VEVENT
DTSTART;TZID=America/Chicago:20250802T100000
DTEND;TZID=America/Chicago:20250802T103000
DTSTAMP:20260422T154113
CREATED:20210202T183542Z
LAST-MODIFIED:20260401T182046Z
UID:6009-1754128800-1754130600@mschildrensmuseum.org
SUMMARY:Know to Grow
DESCRIPTION:Know to Grow\nJoin us in the Enchanted Land of Story every Saturday at 10:00am for Know to Grow! This program incorporates our STEAM\, literacy\, and health initiatives to create a multi-disciplinary program where children will make connections between reading\, science and the aspects of the natural world. Each week we will read a garden-related story and work together to complete a hands-on gardening activity! \nPurchase Tickets to the Museum\nKnow to Grow is sponsored by Feild CoOp Association
URL:https://mschildrensmuseum.org/event/know-to-grow/2025-08-02/
LOCATION:MCM\, 2145 Museum Boulevard\, Jackson\, MS\, 39202\, United States
CATEGORIES:Jackson
ATTACH;FMTTYPE=image/jpeg:https://mschildrensmuseum.org/wp-content/uploads/2021/01/know-to-grow-hero.jpg
END:VEVENT
BEGIN:VEVENT
DTSTART;TZID=America/Chicago:20250803T140000
DTEND;TZID=America/Chicago:20250803T143000
DTSTAMP:20260422T154113
CREATED:20210202T183755Z
LAST-MODIFIED:20260121T160113Z
UID:46620-1754229600-1754231400@mschildrensmuseum.org
SUMMARY:Art Smart
DESCRIPTION:Art Smart\nBring your little artist to the museum every Sunday at 2:00pm for Art Smart! This program suctions as a mini art class\, where we will spend each week building onto the skills we learned in past programs. Join us as we break down the basics of sketching\, drawing\, painting\, color theory\, and more! \nPurchase tickets to the museum
URL:https://mschildrensmuseum.org/event/art-smart/2025-08-03/
LOCATION:MCM\, 2145 Museum Boulevard\, Jackson\, MS\, 39202\, United States
CATEGORIES:Jackson
ATTACH;FMTTYPE=image/jpeg:https://mschildrensmuseum.org/wp-content/uploads/2021/02/068A9429-scaled.jpg
END:VEVENT
BEGIN:VEVENT
DTSTART;TZID=America/Chicago:20250806T100000
DTEND;TZID=America/Chicago:20250806T103000
DTSTAMP:20260422T154113
CREATED:20210202T181241Z
LAST-MODIFIED:20260113T180645Z
UID:44210-1754474400-1754476200@mschildrensmuseum.org
SUMMARY:ABC Come Play With Me
DESCRIPTION:ABC Come Play With Me\nABC Come Play with Me is our program designed specifically for infants\, toddlers\, and their caregivers. Give your little one a jump start on the ABCs and 123s with this program every Wednesday at 10:00am. We will start the morning with the alphabet song\, a story\, and either an art project or sensory experience. \nPurchase tickets to the museum\nABC Come Play with Me is sponsored by International Paper.
URL:https://mschildrensmuseum.org/event/abc-come-play-with-me/2025-08-06/
CATEGORIES:Jackson
ATTACH;FMTTYPE=image/jpeg:https://mschildrensmuseum.org/wp-content/uploads/2025/08/wonderbox-scaled.jpeg
END:VEVENT
BEGIN:VEVENT
DTSTART;TZID=America/Chicago:20250808T100000
DTEND;TZID=America/Chicago:20250808T103000
DTSTAMP:20260422T154113
CREATED:20210202T182534Z
LAST-MODIFIED:20210202T182534Z
UID:46766-1754647200-1754649000@mschildrensmuseum.org
SUMMARY:Farm Bureau Spotlight
DESCRIPTION:Farm Bureau Spotlight\nFarm Bureau Spotlight is a multi-disciplinary\, inquiry-based program that is designed to educate visitors about the broad industry of agriculture. Join us every Friday at 10:00am as we learn about the many career fields within agriculture and the important role it plays in our daily lives. Each week we will explore a different aspect of agriculture while incorporating our STEAM\, Mississippi heritage\, and health initiatives. We will cover beekeeping\, growing produce\, the chemistry of food\, veterinary medicine\, farming\, irrigation\, the water cycle\, forestry\, fishing\, and much more! \nDon’t miss out on Farm Bureau Friday! Every Friday\, Farm Bureau Members receive $5 admission by showing their valid membership card at the front desk! This offer is provided exclusively to members of Mississippi Farm Bureau Federation at our JACKSON location. \nPurchase tickets to the museum\nFarm Bureau Spotlight is sponsored by Farm Bureau of Mississippi
URL:https://mschildrensmuseum.org/event/farm-bureau-spotlight/2025-08-08/
LOCATION:MCM\, 2145 Museum Boulevard\, Jackson\, MS\, 39202\, United States
CATEGORIES:Jackson
ATTACH;FMTTYPE=image/jpeg:https://mschildrensmuseum.org/wp-content/uploads/2021/02/068A8777-scaled.jpg
END:VEVENT
BEGIN:VEVENT
DTSTART;TZID=America/Chicago:20250809T100000
DTEND;TZID=America/Chicago:20250809T103000
DTSTAMP:20260422T154113
CREATED:20210202T183542Z
LAST-MODIFIED:20260401T182100Z
UID:49731-1754733600-1754735400@mschildrensmuseum.org
SUMMARY:Know to Grow
DESCRIPTION:Know to Grow\nJoin us in the Enchanted Land of Story every Saturday at 10:00am for Know to Grow! This program incorporates our STEAM\, literacy\, and health initiatives to create a multi-disciplinary program where children will make connections between reading\, science and the aspects of the natural world. Each week we will read a garden-related story and work together to complete a hands-on gardening activity! \nPurchase Tickets to the Museum\nKnow to Grow is sponsored by Feild CoOp Association
URL:https://mschildrensmuseum.org/event/know-to-grow/2025-08-09/
LOCATION:MCM\, 2145 Museum Boulevard\, Jackson\, MS\, 39202\, United States
CATEGORIES:Jackson
ATTACH;FMTTYPE=image/jpeg:https://mschildrensmuseum.org/wp-content/uploads/2021/01/know-to-grow-hero.jpg
END:VEVENT
BEGIN:VEVENT
DTSTART;TZID=America/Chicago:20250810T140000
DTEND;TZID=America/Chicago:20250810T143000
DTSTAMP:20260422T154113
CREATED:20210202T183755Z
LAST-MODIFIED:20260121T160114Z
UID:46621-1754834400-1754836200@mschildrensmuseum.org
SUMMARY:Art Smart
DESCRIPTION:Art Smart\nBring your little artist to the museum every Sunday at 2:00pm for Art Smart! This program suctions as a mini art class\, where we will spend each week building onto the skills we learned in past programs. Join us as we break down the basics of sketching\, drawing\, painting\, color theory\, and more! \nPurchase tickets to the museum
URL:https://mschildrensmuseum.org/event/art-smart/2025-08-10/
LOCATION:MCM\, 2145 Museum Boulevard\, Jackson\, MS\, 39202\, United States
CATEGORIES:Jackson
ATTACH;FMTTYPE=image/jpeg:https://mschildrensmuseum.org/wp-content/uploads/2021/02/068A9429-scaled.jpg
END:VEVENT
BEGIN:VEVENT
DTSTART;TZID=America/Chicago:20250813T100000
DTEND;TZID=America/Chicago:20250813T103000
DTSTAMP:20260422T154113
CREATED:20210202T181241Z
LAST-MODIFIED:20260113T180645Z
UID:44211-1755079200-1755081000@mschildrensmuseum.org
SUMMARY:ABC Come Play With Me
DESCRIPTION:ABC Come Play With Me\nABC Come Play with Me is our program designed specifically for infants\, toddlers\, and their caregivers. Give your little one a jump start on the ABCs and 123s with this program every Wednesday at 10:00am. We will start the morning with the alphabet song\, a story\, and either an art project or sensory experience. \nPurchase tickets to the museum\nABC Come Play with Me is sponsored by International Paper.
URL:https://mschildrensmuseum.org/event/abc-come-play-with-me/2025-08-13/
CATEGORIES:Jackson
ATTACH;FMTTYPE=image/jpeg:https://mschildrensmuseum.org/wp-content/uploads/2025/08/wonderbox-scaled.jpeg
END:VEVENT
BEGIN:VEVENT
DTSTART;TZID=America/Chicago:20250815T100000
DTEND;TZID=America/Chicago:20250815T103000
DTSTAMP:20260422T154113
CREATED:20210202T182534Z
LAST-MODIFIED:20210202T182534Z
UID:46767-1755252000-1755253800@mschildrensmuseum.org
SUMMARY:Farm Bureau Spotlight
DESCRIPTION:Farm Bureau Spotlight\nFarm Bureau Spotlight is a multi-disciplinary\, inquiry-based program that is designed to educate visitors about the broad industry of agriculture. Join us every Friday at 10:00am as we learn about the many career fields within agriculture and the important role it plays in our daily lives. Each week we will explore a different aspect of agriculture while incorporating our STEAM\, Mississippi heritage\, and health initiatives. We will cover beekeeping\, growing produce\, the chemistry of food\, veterinary medicine\, farming\, irrigation\, the water cycle\, forestry\, fishing\, and much more! \nDon’t miss out on Farm Bureau Friday! Every Friday\, Farm Bureau Members receive $5 admission by showing their valid membership card at the front desk! This offer is provided exclusively to members of Mississippi Farm Bureau Federation at our JACKSON location. \nPurchase tickets to the museum\nFarm Bureau Spotlight is sponsored by Farm Bureau of Mississippi
URL:https://mschildrensmuseum.org/event/farm-bureau-spotlight/2025-08-15/
LOCATION:MCM\, 2145 Museum Boulevard\, Jackson\, MS\, 39202\, United States
CATEGORIES:Jackson
ATTACH;FMTTYPE=image/jpeg:https://mschildrensmuseum.org/wp-content/uploads/2021/02/068A8777-scaled.jpg
END:VEVENT
BEGIN:VEVENT
DTSTART;TZID=America/Chicago:20250816T100000
DTEND;TZID=America/Chicago:20250816T103000
DTSTAMP:20260422T154113
CREATED:20210202T183542Z
LAST-MODIFIED:20260401T182100Z
UID:49732-1755338400-1755340200@mschildrensmuseum.org
SUMMARY:Know to Grow
DESCRIPTION:Know to Grow\nJoin us in the Enchanted Land of Story every Saturday at 10:00am for Know to Grow! This program incorporates our STEAM\, literacy\, and health initiatives to create a multi-disciplinary program where children will make connections between reading\, science and the aspects of the natural world. Each week we will read a garden-related story and work together to complete a hands-on gardening activity! \nPurchase Tickets to the Museum\nKnow to Grow is sponsored by Feild CoOp Association
URL:https://mschildrensmuseum.org/event/know-to-grow/2025-08-16/
LOCATION:MCM\, 2145 Museum Boulevard\, Jackson\, MS\, 39202\, United States
CATEGORIES:Jackson
ATTACH;FMTTYPE=image/jpeg:https://mschildrensmuseum.org/wp-content/uploads/2021/01/know-to-grow-hero.jpg
END:VEVENT
BEGIN:VEVENT
DTSTART;TZID=America/Chicago:20250817T140000
DTEND;TZID=America/Chicago:20250817T143000
DTSTAMP:20260422T154113
CREATED:20210202T183755Z
LAST-MODIFIED:20260121T160114Z
UID:46622-1755439200-1755441000@mschildrensmuseum.org
SUMMARY:Art Smart
DESCRIPTION:Art Smart\nBring your little artist to the museum every Sunday at 2:00pm for Art Smart! This program suctions as a mini art class\, where we will spend each week building onto the skills we learned in past programs. Join us as we break down the basics of sketching\, drawing\, painting\, color theory\, and more! \nPurchase tickets to the museum
URL:https://mschildrensmuseum.org/event/art-smart/2025-08-17/
LOCATION:MCM\, 2145 Museum Boulevard\, Jackson\, MS\, 39202\, United States
CATEGORIES:Jackson
ATTACH;FMTTYPE=image/jpeg:https://mschildrensmuseum.org/wp-content/uploads/2021/02/068A9429-scaled.jpg
END:VEVENT
BEGIN:VEVENT
DTSTART;TZID=America/Chicago:20250820T100000
DTEND;TZID=America/Chicago:20250820T103000
DTSTAMP:20260422T154113
CREATED:20210202T181241Z
LAST-MODIFIED:20260113T180645Z
UID:44212-1755684000-1755685800@mschildrensmuseum.org
SUMMARY:ABC Come Play With Me
DESCRIPTION:ABC Come Play With Me\nABC Come Play with Me is our program designed specifically for infants\, toddlers\, and their caregivers. Give your little one a jump start on the ABCs and 123s with this program every Wednesday at 10:00am. We will start the morning with the alphabet song\, a story\, and either an art project or sensory experience. \nPurchase tickets to the museum\nABC Come Play with Me is sponsored by International Paper.
URL:https://mschildrensmuseum.org/event/abc-come-play-with-me/2025-08-20/
CATEGORIES:Jackson
ATTACH;FMTTYPE=image/jpeg:https://mschildrensmuseum.org/wp-content/uploads/2025/08/wonderbox-scaled.jpeg
END:VEVENT
BEGIN:VEVENT
DTSTART;TZID=America/Chicago:20250822T100000
DTEND;TZID=America/Chicago:20250822T103000
DTSTAMP:20260422T154113
CREATED:20210202T182534Z
LAST-MODIFIED:20210202T182534Z
UID:46768-1755856800-1755858600@mschildrensmuseum.org
SUMMARY:Farm Bureau Spotlight
DESCRIPTION:Farm Bureau Spotlight\nFarm Bureau Spotlight is a multi-disciplinary\, inquiry-based program that is designed to educate visitors about the broad industry of agriculture. Join us every Friday at 10:00am as we learn about the many career fields within agriculture and the important role it plays in our daily lives. Each week we will explore a different aspect of agriculture while incorporating our STEAM\, Mississippi heritage\, and health initiatives. We will cover beekeeping\, growing produce\, the chemistry of food\, veterinary medicine\, farming\, irrigation\, the water cycle\, forestry\, fishing\, and much more! \nDon’t miss out on Farm Bureau Friday! Every Friday\, Farm Bureau Members receive $5 admission by showing their valid membership card at the front desk! This offer is provided exclusively to members of Mississippi Farm Bureau Federation at our JACKSON location. \nPurchase tickets to the museum\nFarm Bureau Spotlight is sponsored by Farm Bureau of Mississippi
URL:https://mschildrensmuseum.org/event/farm-bureau-spotlight/2025-08-22/
LOCATION:MCM\, 2145 Museum Boulevard\, Jackson\, MS\, 39202\, United States
CATEGORIES:Jackson
ATTACH;FMTTYPE=image/jpeg:https://mschildrensmuseum.org/wp-content/uploads/2021/02/068A8777-scaled.jpg
END:VEVENT
BEGIN:VEVENT
DTSTART;TZID=America/Chicago:20250823T100000
DTEND;TZID=America/Chicago:20250823T103000
DTSTAMP:20260422T154113
CREATED:20210202T183542Z
LAST-MODIFIED:20260401T182101Z
UID:49733-1755943200-1755945000@mschildrensmuseum.org
SUMMARY:Know to Grow
DESCRIPTION:Know to Grow\nJoin us in the Enchanted Land of Story every Saturday at 10:00am for Know to Grow! This program incorporates our STEAM\, literacy\, and health initiatives to create a multi-disciplinary program where children will make connections between reading\, science and the aspects of the natural world. Each week we will read a garden-related story and work together to complete a hands-on gardening activity! \nPurchase Tickets to the Museum\nKnow to Grow is sponsored by Feild CoOp Association
URL:https://mschildrensmuseum.org/event/know-to-grow/2025-08-23/
LOCATION:MCM\, 2145 Museum Boulevard\, Jackson\, MS\, 39202\, United States
CATEGORIES:Jackson
ATTACH;FMTTYPE=image/jpeg:https://mschildrensmuseum.org/wp-content/uploads/2021/01/know-to-grow-hero.jpg
END:VEVENT
BEGIN:VEVENT
DTSTART;TZID=America/Chicago:20250824T140000
DTEND;TZID=America/Chicago:20250824T143000
DTSTAMP:20260422T154113
CREATED:20210202T183755Z
LAST-MODIFIED:20260121T160114Z
UID:46623-1756044000-1756045800@mschildrensmuseum.org
SUMMARY:Art Smart
DESCRIPTION:Art Smart\nBring your little artist to the museum every Sunday at 2:00pm for Art Smart! This program suctions as a mini art class\, where we will spend each week building onto the skills we learned in past programs. Join us as we break down the basics of sketching\, drawing\, painting\, color theory\, and more! \nPurchase tickets to the museum
URL:https://mschildrensmuseum.org/event/art-smart/2025-08-24/
LOCATION:MCM\, 2145 Museum Boulevard\, Jackson\, MS\, 39202\, United States
CATEGORIES:Jackson
ATTACH;FMTTYPE=image/jpeg:https://mschildrensmuseum.org/wp-content/uploads/2021/02/068A9429-scaled.jpg
END:VEVENT
BEGIN:VEVENT
DTSTART;TZID=America/Chicago:20250827T100000
DTEND;TZID=America/Chicago:20250827T103000
DTSTAMP:20260422T154113
CREATED:20210202T181241Z
LAST-MODIFIED:20260113T180645Z
UID:44213-1756288800-1756290600@mschildrensmuseum.org
SUMMARY:ABC Come Play With Me
DESCRIPTION:ABC Come Play With Me\nABC Come Play with Me is our program designed specifically for infants\, toddlers\, and their caregivers. Give your little one a jump start on the ABCs and 123s with this program every Wednesday at 10:00am. We will start the morning with the alphabet song\, a story\, and either an art project or sensory experience. \nPurchase tickets to the museum\nABC Come Play with Me is sponsored by International Paper.
URL:https://mschildrensmuseum.org/event/abc-come-play-with-me/2025-08-27/
CATEGORIES:Jackson
ATTACH;FMTTYPE=image/jpeg:https://mschildrensmuseum.org/wp-content/uploads/2025/08/wonderbox-scaled.jpeg
END:VEVENT
BEGIN:VEVENT
DTSTART;TZID=America/Chicago:20250829T100000
DTEND;TZID=America/Chicago:20250829T103000
DTSTAMP:20260422T154113
CREATED:20210202T182534Z
LAST-MODIFIED:20210202T182534Z
UID:46769-1756461600-1756463400@mschildrensmuseum.org
SUMMARY:Farm Bureau Spotlight
DESCRIPTION:Farm Bureau Spotlight\nFarm Bureau Spotlight is a multi-disciplinary\, inquiry-based program that is designed to educate visitors about the broad industry of agriculture. Join us every Friday at 10:00am as we learn about the many career fields within agriculture and the important role it plays in our daily lives. Each week we will explore a different aspect of agriculture while incorporating our STEAM\, Mississippi heritage\, and health initiatives. We will cover beekeeping\, growing produce\, the chemistry of food\, veterinary medicine\, farming\, irrigation\, the water cycle\, forestry\, fishing\, and much more! \nDon’t miss out on Farm Bureau Friday! Every Friday\, Farm Bureau Members receive $5 admission by showing their valid membership card at the front desk! This offer is provided exclusively to members of Mississippi Farm Bureau Federation at our JACKSON location. \nPurchase tickets to the museum\nFarm Bureau Spotlight is sponsored by Farm Bureau of Mississippi
URL:https://mschildrensmuseum.org/event/farm-bureau-spotlight/2025-08-29/
LOCATION:MCM\, 2145 Museum Boulevard\, Jackson\, MS\, 39202\, United States
CATEGORIES:Jackson
ATTACH;FMTTYPE=image/jpeg:https://mschildrensmuseum.org/wp-content/uploads/2021/02/068A8777-scaled.jpg
END:VEVENT
BEGIN:VEVENT
DTSTART;TZID=America/Chicago:20250830T100000
DTEND;TZID=America/Chicago:20250830T103000
DTSTAMP:20260422T154113
CREATED:20210202T183542Z
LAST-MODIFIED:20260401T182101Z
UID:49734-1756548000-1756549800@mschildrensmuseum.org
SUMMARY:Know to Grow
DESCRIPTION:Know to Grow\nJoin us in the Enchanted Land of Story every Saturday at 10:00am for Know to Grow! This program incorporates our STEAM\, literacy\, and health initiatives to create a multi-disciplinary program where children will make connections between reading\, science and the aspects of the natural world. Each week we will read a garden-related story and work together to complete a hands-on gardening activity! \nPurchase Tickets to the Museum\nKnow to Grow is sponsored by Feild CoOp Association
URL:https://mschildrensmuseum.org/event/know-to-grow/2025-08-30/
LOCATION:MCM\, 2145 Museum Boulevard\, Jackson\, MS\, 39202\, United States
CATEGORIES:Jackson
ATTACH;FMTTYPE=image/jpeg:https://mschildrensmuseum.org/wp-content/uploads/2021/01/know-to-grow-hero.jpg
END:VEVENT
BEGIN:VEVENT
DTSTART;TZID=America/Chicago:20250831T140000
DTEND;TZID=America/Chicago:20250831T143000
DTSTAMP:20260422T154113
CREATED:20210202T183755Z
LAST-MODIFIED:20260121T160114Z
UID:46624-1756648800-1756650600@mschildrensmuseum.org
SUMMARY:Art Smart
DESCRIPTION:Art Smart\nBring your little artist to the museum every Sunday at 2:00pm for Art Smart! This program suctions as a mini art class\, where we will spend each week building onto the skills we learned in past programs. Join us as we break down the basics of sketching\, drawing\, painting\, color theory\, and more! \nPurchase tickets to the museum
URL:https://mschildrensmuseum.org/event/art-smart/2025-08-31/
LOCATION:MCM\, 2145 Museum Boulevard\, Jackson\, MS\, 39202\, United States
CATEGORIES:Jackson
ATTACH;FMTTYPE=image/jpeg:https://mschildrensmuseum.org/wp-content/uploads/2021/02/068A9429-scaled.jpg
END:VEVENT
END:VCALENDAR