BEGIN:VCALENDAR
VERSION:2.0
PRODID:-//Mississippi Children&#039;s Museum - ECPv6.15.20//NONSGML v1.0//EN
CALSCALE:GREGORIAN
METHOD:PUBLISH
X-WR-CALNAME:Mississippi Children&#039;s Museum
X-ORIGINAL-URL:https://mschildrensmuseum.org
X-WR-CALDESC:Events for Mississippi Children&#039;s Museum
REFRESH-INTERVAL;VALUE=DURATION:PT1H
X-Robots-Tag:noindex
X-PUBLISHED-TTL:PT1H
BEGIN:VTIMEZONE
TZID:America/Chicago
BEGIN:DAYLIGHT
TZOFFSETFROM:-0600
TZOFFSETTO:-0500
TZNAME:CDT
DTSTART:20250309T080000
END:DAYLIGHT
BEGIN:STANDARD
TZOFFSETFROM:-0500
TZOFFSETTO:-0600
TZNAME:CST
DTSTART:20251102T070000
END:STANDARD
BEGIN:DAYLIGHT
TZOFFSETFROM:-0600
TZOFFSETTO:-0500
TZNAME:CDT
DTSTART:20260308T080000
END:DAYLIGHT
BEGIN:STANDARD
TZOFFSETFROM:-0500
TZOFFSETTO:-0600
TZNAME:CST
DTSTART:20261101T070000
END:STANDARD
BEGIN:DAYLIGHT
TZOFFSETFROM:-0600
TZOFFSETTO:-0500
TZNAME:CDT
DTSTART:20270314T080000
END:DAYLIGHT
BEGIN:STANDARD
TZOFFSETFROM:-0500
TZOFFSETTO:-0600
TZNAME:CST
DTSTART:20271107T070000
END:STANDARD
END:VTIMEZONE
BEGIN:VEVENT
DTSTART;TZID=America/Chicago:20260618T160000
DTEND;TZID=America/Chicago:20260618T200000
DTSTAMP:20260422T185434
CREATED:20250428T152401Z
LAST-MODIFIED:20260331T153405Z
UID:47653-1781798400-1781812800@mschildrensmuseum.org
SUMMARY:Picnic in the Park
DESCRIPTION:Join us at the LeFleur’s Bluff Playground on June 18 from 4:00pm – 8:00pm! MCM is partnering with MDWFP’s Museum of Natural Science for a family-friendly evening. Participate in outdoor activities led by museum staff members and enjoy yummy bites from food trucks and Spotter’s Snack Shack. Bring your kites\, picnic blankets\, and excitement—an unforgettable afternoon of fun awaits! \nThis event is free and open to the public. \nPlease note: While all park activities are free\, food from food trucks and admission to the museums will require separate purchase. \nPURCHASE TICKETS TO THE MUSEUM
URL:https://mschildrensmuseum.org/event/picnic-in-the-park/
LOCATION:LeFleur’s Bluff Complex
CATEGORIES:Jackson
ATTACH;FMTTYPE=image/jpeg:https://mschildrensmuseum.org/wp-content/uploads/2025/04/20250524-Picnic-1-e1774971050226.jpg
END:VEVENT
END:VCALENDAR