BEGIN:VCALENDAR
VERSION:2.0
PRODID:-//Mississippi Children&#039;s Museum - ECPv6.15.20//NONSGML v1.0//EN
CALSCALE:GREGORIAN
METHOD:PUBLISH
X-WR-CALNAME:Mississippi Children&#039;s Museum
X-ORIGINAL-URL:https://mschildrensmuseum.org
X-WR-CALDESC:Events for Mississippi Children&#039;s Museum
REFRESH-INTERVAL;VALUE=DURATION:PT1H
X-Robots-Tag:noindex
X-PUBLISHED-TTL:PT1H
BEGIN:VTIMEZONE
TZID:America/Chicago
BEGIN:DAYLIGHT
TZOFFSETFROM:-0600
TZOFFSETTO:-0500
TZNAME:CDT
DTSTART:20250309T080000
END:DAYLIGHT
BEGIN:STANDARD
TZOFFSETFROM:-0500
TZOFFSETTO:-0600
TZNAME:CST
DTSTART:20251102T070000
END:STANDARD
BEGIN:DAYLIGHT
TZOFFSETFROM:-0600
TZOFFSETTO:-0500
TZNAME:CDT
DTSTART:20260308T080000
END:DAYLIGHT
BEGIN:STANDARD
TZOFFSETFROM:-0500
TZOFFSETTO:-0600
TZNAME:CST
DTSTART:20261101T070000
END:STANDARD
BEGIN:DAYLIGHT
TZOFFSETFROM:-0600
TZOFFSETTO:-0500
TZNAME:CDT
DTSTART:20270314T080000
END:DAYLIGHT
BEGIN:STANDARD
TZOFFSETFROM:-0500
TZOFFSETTO:-0600
TZNAME:CST
DTSTART:20271107T070000
END:STANDARD
END:VTIMEZONE
BEGIN:VEVENT
DTSTART;TZID=America/Chicago:20261231T100000
DTEND;TZID=America/Chicago:20261231T130000
DTSTAMP:20260423T135743
CREATED:20240506T204200Z
LAST-MODIFIED:20260106T174821Z
UID:41216-1798711200-1798722000@mschildrensmuseum.org
SUMMARY:Noon Year's Eve
DESCRIPTION:Join us for Noon Year’s Eve\, a celebration for revelers of all ages\, on December 31\, from 10am – 1pm! Ignite your creativity and inspire your dreams for the year ahead with festivities\, cheerful melodies\, do-it-yourself party gear crafts\, and a BIG burst of confetti at 12:00pm. \nFree for MCM Members | $10/Person for Non-Members | Tickets Available at the Door \nPurchase Tickets to the Museum\nPresented by:
URL:https://mschildrensmuseum.org/event/noon-years-eve-meridian/
LOCATION:MCM-Meridian\, 403 22nd Avenue\, Meridian\, MS\, 39301\, United States
CATEGORIES:Meridian
ATTACH;FMTTYPE=image/jpeg:https://mschildrensmuseum.org/wp-content/uploads/2024/05/DSC_3659-scaled.jpg
END:VEVENT
END:VCALENDAR