BEGIN:VCALENDAR
VERSION:2.0
PRODID:-//Mississippi Children&#039;s Museum - ECPv6.15.20//NONSGML v1.0//EN
CALSCALE:GREGORIAN
METHOD:PUBLISH
X-WR-CALNAME:Mississippi Children&#039;s Museum
X-ORIGINAL-URL:https://mschildrensmuseum.org
X-WR-CALDESC:Events for Mississippi Children&#039;s Museum
REFRESH-INTERVAL;VALUE=DURATION:PT1H
X-Robots-Tag:noindex
X-PUBLISHED-TTL:PT1H
BEGIN:VTIMEZONE
TZID:America/Chicago
BEGIN:DAYLIGHT
TZOFFSETFROM:-0600
TZOFFSETTO:-0500
TZNAME:CDT
DTSTART:20250309T080000
END:DAYLIGHT
BEGIN:STANDARD
TZOFFSETFROM:-0500
TZOFFSETTO:-0600
TZNAME:CST
DTSTART:20251102T070000
END:STANDARD
BEGIN:DAYLIGHT
TZOFFSETFROM:-0600
TZOFFSETTO:-0500
TZNAME:CDT
DTSTART:20260308T080000
END:DAYLIGHT
BEGIN:STANDARD
TZOFFSETFROM:-0500
TZOFFSETTO:-0600
TZNAME:CST
DTSTART:20261101T070000
END:STANDARD
BEGIN:DAYLIGHT
TZOFFSETFROM:-0600
TZOFFSETTO:-0500
TZNAME:CDT
DTSTART:20270314T080000
END:DAYLIGHT
BEGIN:STANDARD
TZOFFSETFROM:-0500
TZOFFSETTO:-0600
TZNAME:CST
DTSTART:20271107T070000
END:STANDARD
END:VTIMEZONE
BEGIN:VEVENT
DTSTART;TZID=America/Chicago:20260228T100000
DTEND;TZID=America/Chicago:20260228T150000
DTSTAMP:20260421T191111
CREATED:20231212T204651Z
LAST-MODIFIED:20260221T205151Z
UID:38728-1772272800-1772290800@mschildrensmuseum.org
SUMMARY:Dr. Seuss' Silly Birthday Celebration
DESCRIPTION:You’re invited to a Seuss-inspired day of fun at MCM-Meridian on February 28th from 10 am to 3pm! \nReadings of Dr. Seuss’ most popular books will be enjoyed throughout the day\, and guests can snap their photo with Thing 1\, Thing 2\, and The Cat in the Hat. At noon\, sing Happy Birthday\, Seuss and enjoy cake! Wear your favorite Dr. Seuss inspired costume and get ready to have FUN! \nFeatured Guests & Activities:\nBirthday Sing-A-Long & Cake | 12:00 PM \n“Oh\, the Things You’ll Paint” with visiting artist Brejenn Allen | 10:00 AM – 3:00 PM \nVisiting Author: Ginny Walker Shurlds\,  Mississippi State From A to Z | 2:00 PM \nAll-Day Fun:\n\nGak’s Garden Games\nDr. Seuss Scavenger Hunt\nFace Painting\nOobleck Making\nPhoto Op Area with Seuss Characters\nSeuss-tastic STEM Activities\nInstrument Petting Zoo with Meridian Symphony Orchestra\nJunior Auxiliary – Reading Is Fundamental\nMSU Childcare Resource & Referral\nFoster Parent Recruiter\n\nFree for MCM Members | $10/Person for Non-Members | Tickets Available at the Door \n\n\n\nPURCHASE MUSEUM TICKETS\n\n\n\n  \n  \n  \n  \n 
URL:https://mschildrensmuseum.org/event/dr-seuss-silly-birthday-celebration-meridian/
LOCATION:MCM-Meridian\, 403 22nd Avenue\, Meridian\, MS\, 39301\, United States
CATEGORIES:Meridian
ATTACH;FMTTYPE=image/jpeg:https://mschildrensmuseum.org/wp-content/uploads/2022/12/i-K7sjKvC-X5.jpg
END:VEVENT
END:VCALENDAR