BEGIN:VCALENDAR
VERSION:2.0
PRODID:-//Mississippi Children&#039;s Museum - ECPv6.15.20//NONSGML v1.0//EN
CALSCALE:GREGORIAN
METHOD:PUBLISH
X-ORIGINAL-URL:https://mschildrensmuseum.org
X-WR-CALDESC:Events for Mississippi Children&#039;s Museum
REFRESH-INTERVAL;VALUE=DURATION:PT1H
X-Robots-Tag:noindex
X-PUBLISHED-TTL:PT1H
BEGIN:VTIMEZONE
TZID:America/Chicago
BEGIN:DAYLIGHT
TZOFFSETFROM:-0600
TZOFFSETTO:-0500
TZNAME:CDT
DTSTART:20250309T080000
END:DAYLIGHT
BEGIN:STANDARD
TZOFFSETFROM:-0500
TZOFFSETTO:-0600
TZNAME:CST
DTSTART:20251102T070000
END:STANDARD
BEGIN:DAYLIGHT
TZOFFSETFROM:-0600
TZOFFSETTO:-0500
TZNAME:CDT
DTSTART:20260308T080000
END:DAYLIGHT
BEGIN:STANDARD
TZOFFSETFROM:-0500
TZOFFSETTO:-0600
TZNAME:CST
DTSTART:20261101T070000
END:STANDARD
BEGIN:DAYLIGHT
TZOFFSETFROM:-0600
TZOFFSETTO:-0500
TZNAME:CDT
DTSTART:20270314T080000
END:DAYLIGHT
BEGIN:STANDARD
TZOFFSETFROM:-0500
TZOFFSETTO:-0600
TZNAME:CST
DTSTART:20271107T070000
END:STANDARD
END:VTIMEZONE
BEGIN:VEVENT
DTSTART;TZID=America/Chicago:20260908T153000
DTEND;TZID=America/Chicago:20260908T153000
DTSTAMP:20260421T172317
CREATED:20220429T184607Z
LAST-MODIFIED:20220429T184607Z
UID:52289-1788881400-1788881400@mschildrensmuseum.org
SUMMARY:Tech Tuesday
DESCRIPTION:Tech Tuesday\nJoin us every Tuesday at 3:30pm for our technology-based program! This facilitated program aims to foster STEAM education through inquiry-based learning\, coding\, and robotics.
URL:https://mschildrensmuseum.org/event/tech-tuesday-2/2026-09-08/
LOCATION:MCM-Meridian\, 403 22nd Avenue\, Meridian\, MS\, 39301\, United States
CATEGORIES:Meridian
ATTACH;FMTTYPE=image/jpeg:https://mschildrensmuseum.org/wp-content/uploads/2022/04/DSC_1527-1-scaled.jpg
END:VEVENT
BEGIN:VEVENT
DTSTART;TZID=America/Chicago:20260915T153000
DTEND;TZID=America/Chicago:20260915T153000
DTSTAMP:20260421T172317
CREATED:20220429T184607Z
LAST-MODIFIED:20220429T184607Z
UID:52290-1789486200-1789486200@mschildrensmuseum.org
SUMMARY:Tech Tuesday
DESCRIPTION:Tech Tuesday\nJoin us every Tuesday at 3:30pm for our technology-based program! This facilitated program aims to foster STEAM education through inquiry-based learning\, coding\, and robotics.
URL:https://mschildrensmuseum.org/event/tech-tuesday-2/2026-09-15/
LOCATION:MCM-Meridian\, 403 22nd Avenue\, Meridian\, MS\, 39301\, United States
CATEGORIES:Meridian
ATTACH;FMTTYPE=image/jpeg:https://mschildrensmuseum.org/wp-content/uploads/2022/04/DSC_1527-1-scaled.jpg
END:VEVENT
BEGIN:VEVENT
DTSTART;TZID=America/Chicago:20260917T170000
DTEND;TZID=America/Chicago:20260917T190000
DTSTAMP:20260421T172317
CREATED:20240509T173400Z
LAST-MODIFIED:20260114T221623Z
UID:53170-1789664400-1789671600@mschildrensmuseum.org
SUMMARY:Members-Only Night
DESCRIPTION:Members-Only Night\nMuseum members are invited to join us for an exclusive Members-Only event after-hours! \nNOT A MEMBER? JOIN OR RENEW TODAY!
URL:https://mschildrensmuseum.org/event/members-only-night-meridian/2026-09-17/
LOCATION:MCM-Meridian\, 403 22nd Avenue\, Meridian\, MS\, 39301\, United States
CATEGORIES:Meridian
ATTACH;FMTTYPE=image/jpeg:https://mschildrensmuseum.org/wp-content/uploads/2024/05/i-fjrh7kj-4K-scaled-e1715114092504.jpg
END:VEVENT
BEGIN:VEVENT
DTSTART;TZID=America/Chicago:20260922T153000
DTEND;TZID=America/Chicago:20260922T153000
DTSTAMP:20260421T172317
CREATED:20220429T184607Z
LAST-MODIFIED:20220429T184607Z
UID:52291-1790091000-1790091000@mschildrensmuseum.org
SUMMARY:Tech Tuesday
DESCRIPTION:Tech Tuesday\nJoin us every Tuesday at 3:30pm for our technology-based program! This facilitated program aims to foster STEAM education through inquiry-based learning\, coding\, and robotics.
URL:https://mschildrensmuseum.org/event/tech-tuesday-2/2026-09-22/
LOCATION:MCM-Meridian\, 403 22nd Avenue\, Meridian\, MS\, 39301\, United States
CATEGORIES:Meridian
ATTACH;FMTTYPE=image/jpeg:https://mschildrensmuseum.org/wp-content/uploads/2022/04/DSC_1527-1-scaled.jpg
END:VEVENT
BEGIN:VEVENT
DTSTART;TZID=America/Chicago:20260929T153000
DTEND;TZID=America/Chicago:20260929T153000
DTSTAMP:20260421T172317
CREATED:20220429T184607Z
LAST-MODIFIED:20220429T184607Z
UID:52292-1790695800-1790695800@mschildrensmuseum.org
SUMMARY:Tech Tuesday
DESCRIPTION:Tech Tuesday\nJoin us every Tuesday at 3:30pm for our technology-based program! This facilitated program aims to foster STEAM education through inquiry-based learning\, coding\, and robotics.
URL:https://mschildrensmuseum.org/event/tech-tuesday-2/2026-09-29/
LOCATION:MCM-Meridian\, 403 22nd Avenue\, Meridian\, MS\, 39301\, United States
CATEGORIES:Meridian
ATTACH;FMTTYPE=image/jpeg:https://mschildrensmuseum.org/wp-content/uploads/2022/04/DSC_1527-1-scaled.jpg
END:VEVENT
END:VCALENDAR