BEGIN:VCALENDAR
VERSION:2.0
PRODID:-//Mississippi Children&#039;s Museum - ECPv6.15.20//NONSGML v1.0//EN
CALSCALE:GREGORIAN
METHOD:PUBLISH
X-WR-CALNAME:Mississippi Children&#039;s Museum
X-ORIGINAL-URL:https://mschildrensmuseum.org
X-WR-CALDESC:Events for Mississippi Children&#039;s Museum
REFRESH-INTERVAL;VALUE=DURATION:PT1H
X-Robots-Tag:noindex
X-PUBLISHED-TTL:PT1H
BEGIN:VTIMEZONE
TZID:America/Chicago
BEGIN:DAYLIGHT
TZOFFSETFROM:-0600
TZOFFSETTO:-0500
TZNAME:CDT
DTSTART:20250309T080000
END:DAYLIGHT
BEGIN:STANDARD
TZOFFSETFROM:-0500
TZOFFSETTO:-0600
TZNAME:CST
DTSTART:20251102T070000
END:STANDARD
BEGIN:DAYLIGHT
TZOFFSETFROM:-0600
TZOFFSETTO:-0500
TZNAME:CDT
DTSTART:20260308T080000
END:DAYLIGHT
BEGIN:STANDARD
TZOFFSETFROM:-0500
TZOFFSETTO:-0600
TZNAME:CST
DTSTART:20261101T070000
END:STANDARD
BEGIN:DAYLIGHT
TZOFFSETFROM:-0600
TZOFFSETTO:-0500
TZNAME:CDT
DTSTART:20270314T080000
END:DAYLIGHT
BEGIN:STANDARD
TZOFFSETFROM:-0500
TZOFFSETTO:-0600
TZNAME:CST
DTSTART:20271107T070000
END:STANDARD
END:VTIMEZONE
BEGIN:VEVENT
DTSTART;TZID=America/Chicago:20260704T100000
DTEND;TZID=America/Chicago:20260704T150000
DTSTAMP:20260421T205213
CREATED:20240311T211340Z
LAST-MODIFIED:20251226T192530Z
UID:40160-1783159200-1783177200@mschildrensmuseum.org
SUMMARY:Patriotic Day
DESCRIPTION:Wear your red\, white\, and blue and join us at MCM-Meridian to celebrate America’s 250th birthday on July 4 from 10 am to 3 pm! \nFree for MCM Members | $10/Person for Non-Members | Tickets Available at the Door \nPurchase Tickets to the Museum\n 
URL:https://mschildrensmuseum.org/event/patriotic-day-meridian/
LOCATION:MCM-Meridian\, 403 22nd Avenue\, Meridian\, MS\, 39301\, United States
CATEGORIES:Meridian
ATTACH;FMTTYPE=image/jpeg:https://mschildrensmuseum.org/wp-content/uploads/2025/06/068A8182-scaled.jpg
END:VEVENT
BEGIN:VEVENT
DTSTART;TZID=America/Chicago:20260706T090000
DTEND;TZID=America/Chicago:20260706T170000
DTSTAMP:20260421T205213
CREATED:20251226T173102Z
LAST-MODIFIED:20260316T155022Z
UID:54656-1783328400-1783357200@mschildrensmuseum.org
SUMMARY:Magic Monday: Just Another Magic Monday
DESCRIPTION:Magic Monday\nDid you know MCM-Meridian is open for special\, holiday Mondays from 9am – 5pm for extra hours of inspiration and fun? Magic Monday is the perfect solution to a Monday off from school.  \nEach of these special days includes special museum programing. \nPurchase Tickets to the Museum
URL:https://mschildrensmuseum.org/event/magic-monday-meridian-2-2026-02-16-2026-07-06/
LOCATION:MCM-Meridian\, 403 22nd Avenue\, Meridian\, MS\, 39301\, United States
CATEGORIES:Meridian
ATTACH;FMTTYPE=image/jpeg:https://mschildrensmuseum.org/wp-content/uploads/2025/12/Meridian-4-scaled.jpeg
END:VEVENT
BEGIN:VEVENT
DTSTART;TZID=America/Chicago:20260707T153000
DTEND;TZID=America/Chicago:20260707T153000
DTSTAMP:20260421T205213
CREATED:20220429T184607Z
LAST-MODIFIED:20220429T184607Z
UID:52281-1783438200-1783438200@mschildrensmuseum.org
SUMMARY:Tech Tuesday
DESCRIPTION:Tech Tuesday\nJoin us every Tuesday at 3:30pm for our technology-based program! This facilitated program aims to foster STEAM education through inquiry-based learning\, coding\, and robotics.
URL:https://mschildrensmuseum.org/event/tech-tuesday-2/2026-07-07/
LOCATION:MCM-Meridian\, 403 22nd Avenue\, Meridian\, MS\, 39301\, United States
CATEGORIES:Meridian
ATTACH;FMTTYPE=image/jpeg:https://mschildrensmuseum.org/wp-content/uploads/2022/04/DSC_1527-1-scaled.jpg
END:VEVENT
BEGIN:VEVENT
DTSTART;TZID=America/Chicago:20260713T090000
DTEND;TZID=America/Chicago:20260713T170000
DTSTAMP:20260421T205213
CREATED:20251226T173102Z
LAST-MODIFIED:20260316T155715Z
UID:54657-1783933200-1783962000@mschildrensmuseum.org
SUMMARY:Magic Monday: Dino Discovery
DESCRIPTION:Magic Monday\nDid you know MCM-Meridian is open for special\, holiday Mondays from 9am – 5pm for extra hours of inspiration and fun? Magic Monday is the perfect solution to a Monday off from school.  \nEach of these special days includes special museum programing.\n \nSpecial Guest:  Mississippi Museum of Natural Science \nPurchase Tickets to the Museum
URL:https://mschildrensmuseum.org/event/magic-monday-meridian-2-2026-02-16-2026-07-13/
LOCATION:MCM-Meridian\, 403 22nd Avenue\, Meridian\, MS\, 39301\, United States
CATEGORIES:Meridian
ATTACH;FMTTYPE=image/jpeg:https://mschildrensmuseum.org/wp-content/uploads/2025/12/Meridian-4-scaled.jpeg
END:VEVENT
BEGIN:VEVENT
DTSTART;TZID=America/Chicago:20260714T153000
DTEND;TZID=America/Chicago:20260714T153000
DTSTAMP:20260421T205213
CREATED:20220429T184607Z
LAST-MODIFIED:20220429T184607Z
UID:52282-1784043000-1784043000@mschildrensmuseum.org
SUMMARY:Tech Tuesday
DESCRIPTION:Tech Tuesday\nJoin us every Tuesday at 3:30pm for our technology-based program! This facilitated program aims to foster STEAM education through inquiry-based learning\, coding\, and robotics.
URL:https://mschildrensmuseum.org/event/tech-tuesday-2/2026-07-14/
LOCATION:MCM-Meridian\, 403 22nd Avenue\, Meridian\, MS\, 39301\, United States
CATEGORIES:Meridian
ATTACH;FMTTYPE=image/jpeg:https://mschildrensmuseum.org/wp-content/uploads/2022/04/DSC_1527-1-scaled.jpg
END:VEVENT
BEGIN:VEVENT
DTSTART;TZID=America/Chicago:20260720T090000
DTEND;TZID=America/Chicago:20260720T170000
DTSTAMP:20260421T205213
CREATED:20251226T173102Z
LAST-MODIFIED:20260316T155813Z
UID:54658-1784538000-1784566800@mschildrensmuseum.org
SUMMARY:Magic Monday: Christmas in July
DESCRIPTION:Magic Monday\nDid you know MCM-Meridian is open for special\, holiday Mondays from 9am – 5pm for extra hours of inspiration and fun? Magic Monday is the perfect solution to a Monday off from school.  \nEach of these special days includes special museum programing.\nSpecial Guest: Santa \nPurchase Tickets to the Museum
URL:https://mschildrensmuseum.org/event/magic-monday-meridian-2-2026-02-16-2026-07-20/
LOCATION:MCM-Meridian\, 403 22nd Avenue\, Meridian\, MS\, 39301\, United States
CATEGORIES:Meridian
ATTACH;FMTTYPE=image/jpeg:https://mschildrensmuseum.org/wp-content/uploads/2025/12/Meridian-4-scaled.jpeg
END:VEVENT
BEGIN:VEVENT
DTSTART;TZID=America/Chicago:20260721T153000
DTEND;TZID=America/Chicago:20260721T153000
DTSTAMP:20260421T205213
CREATED:20220429T184607Z
LAST-MODIFIED:20220429T184607Z
UID:52283-1784647800-1784647800@mschildrensmuseum.org
SUMMARY:Tech Tuesday
DESCRIPTION:Tech Tuesday\nJoin us every Tuesday at 3:30pm for our technology-based program! This facilitated program aims to foster STEAM education through inquiry-based learning\, coding\, and robotics.
URL:https://mschildrensmuseum.org/event/tech-tuesday-2/2026-07-21/
LOCATION:MCM-Meridian\, 403 22nd Avenue\, Meridian\, MS\, 39301\, United States
CATEGORIES:Meridian
ATTACH;FMTTYPE=image/jpeg:https://mschildrensmuseum.org/wp-content/uploads/2022/04/DSC_1527-1-scaled.jpg
END:VEVENT
BEGIN:VEVENT
DTSTART;TZID=America/Chicago:20260725T100000
DTEND;TZID=America/Chicago:20260725T150000
DTSTAMP:20260421T205213
CREATED:20240327T165741Z
LAST-MODIFIED:20251226T193156Z
UID:40476-1784973600-1784991600@mschildrensmuseum.org
SUMMARY:Harry Potter's Birthday
DESCRIPTION:Join us at the museum on July 25th from 10:00 am to 3:00 pm to celebrate Harry Potter’s birthday! On MCM – Meridian’s most magical day\, we invite witches and wizards from all over to join us for this enchanting event at the Mississippi Children’s Museum- Meridian! \nFree for MCM Members | $10/Person for Non-Members | Tickets Available at the Door \nPurchase Tickets to the Museum
URL:https://mschildrensmuseum.org/event/harry-potters-birthday-meridian/
LOCATION:MCM-Meridian\, 403 22nd Avenue\, Meridian\, MS\, 39301\, United States
CATEGORIES:Meridian
ATTACH;FMTTYPE=image/jpeg:https://mschildrensmuseum.org/wp-content/uploads/2023/01/i-cj2M8Qf-X5.jpg
END:VEVENT
BEGIN:VEVENT
DTSTART;TZID=America/Chicago:20260727T090000
DTEND;TZID=America/Chicago:20260727T170000
DTSTAMP:20260421T205213
CREATED:20251226T173102Z
LAST-MODIFIED:20260316T155914Z
UID:54659-1785142800-1785171600@mschildrensmuseum.org
SUMMARY:Magic Monday: Summer Splash
DESCRIPTION:Magic Monday\nDid you know MCM-Meridian is open for special\, holiday Mondays from 9am – 5pm for extra hours of inspiration and fun? Magic Monday is the perfect solution to a Monday off from school.  \nEach of these special days includes special museum programing.\n \nPurchase Tickets to the Museum
URL:https://mschildrensmuseum.org/event/magic-monday-meridian-2-2026-02-16-2026-07-27/
LOCATION:MCM-Meridian\, 403 22nd Avenue\, Meridian\, MS\, 39301\, United States
CATEGORIES:Meridian
ATTACH;FMTTYPE=image/jpeg:https://mschildrensmuseum.org/wp-content/uploads/2025/12/Meridian-4-scaled.jpeg
END:VEVENT
BEGIN:VEVENT
DTSTART;TZID=America/Chicago:20260728T153000
DTEND;TZID=America/Chicago:20260728T153000
DTSTAMP:20260421T205213
CREATED:20220429T184607Z
LAST-MODIFIED:20220429T184607Z
UID:52284-1785252600-1785252600@mschildrensmuseum.org
SUMMARY:Tech Tuesday
DESCRIPTION:Tech Tuesday\nJoin us every Tuesday at 3:30pm for our technology-based program! This facilitated program aims to foster STEAM education through inquiry-based learning\, coding\, and robotics.
URL:https://mschildrensmuseum.org/event/tech-tuesday-2/2026-07-28/
LOCATION:MCM-Meridian\, 403 22nd Avenue\, Meridian\, MS\, 39301\, United States
CATEGORIES:Meridian
ATTACH;FMTTYPE=image/jpeg:https://mschildrensmuseum.org/wp-content/uploads/2022/04/DSC_1527-1-scaled.jpg
END:VEVENT
BEGIN:VEVENT
DTSTART;TZID=America/Chicago:20260730T170000
DTEND;TZID=America/Chicago:20260730T190000
DTSTAMP:20260421T205213
CREATED:20240509T173400Z
LAST-MODIFIED:20260114T221622Z
UID:53169-1785430800-1785438000@mschildrensmuseum.org
SUMMARY:Members-Only Night
DESCRIPTION:Members-Only Night\nMuseum members are invited to join us for an exclusive Members-Only event after-hours! \nNOT A MEMBER? JOIN OR RENEW TODAY!
URL:https://mschildrensmuseum.org/event/members-only-night-meridian/2026-07-30/
LOCATION:MCM-Meridian\, 403 22nd Avenue\, Meridian\, MS\, 39301\, United States
CATEGORIES:Meridian
ATTACH;FMTTYPE=image/jpeg:https://mschildrensmuseum.org/wp-content/uploads/2024/05/i-fjrh7kj-4K-scaled-e1715114092504.jpg
END:VEVENT
END:VCALENDAR