BEGIN:VCALENDAR
VERSION:2.0
PRODID:-//Mississippi Children&#039;s Museum - ECPv6.15.20//NONSGML v1.0//EN
CALSCALE:GREGORIAN
METHOD:PUBLISH
X-ORIGINAL-URL:https://mschildrensmuseum.org
X-WR-CALDESC:Events for Mississippi Children&#039;s Museum
REFRESH-INTERVAL;VALUE=DURATION:PT1H
X-Robots-Tag:noindex
X-PUBLISHED-TTL:PT1H
BEGIN:VTIMEZONE
TZID:America/Chicago
BEGIN:DAYLIGHT
TZOFFSETFROM:-0600
TZOFFSETTO:-0500
TZNAME:CDT
DTSTART:20250309T080000
END:DAYLIGHT
BEGIN:STANDARD
TZOFFSETFROM:-0500
TZOFFSETTO:-0600
TZNAME:CST
DTSTART:20251102T070000
END:STANDARD
BEGIN:DAYLIGHT
TZOFFSETFROM:-0600
TZOFFSETTO:-0500
TZNAME:CDT
DTSTART:20260308T080000
END:DAYLIGHT
BEGIN:STANDARD
TZOFFSETFROM:-0500
TZOFFSETTO:-0600
TZNAME:CST
DTSTART:20261101T070000
END:STANDARD
BEGIN:DAYLIGHT
TZOFFSETFROM:-0600
TZOFFSETTO:-0500
TZNAME:CDT
DTSTART:20270314T080000
END:DAYLIGHT
BEGIN:STANDARD
TZOFFSETFROM:-0500
TZOFFSETTO:-0600
TZNAME:CST
DTSTART:20271107T070000
END:STANDARD
END:VTIMEZONE
BEGIN:VEVENT
DTSTART;TZID=America/Chicago:20260502T100000
DTEND;TZID=America/Chicago:20260502T150000
DTSTAMP:20260421T211045
CREATED:20240311T205935Z
LAST-MODIFIED:20260409T175705Z
UID:40152-1777716000-1777734000@mschildrensmuseum.org
SUMMARY:SUPER-lympics
DESCRIPTION:Show off your skills at MCM-Meridian’s SUPER-lympics on Saturday\, May 2nd!  \nStep inside MCM-Meridan’s SUPER-lympic Village for a competition consisting of hands-on\, educational games promoting both physical and mental health! The day will focus on three priorities: physical activity\, healthy eating\, and social/emotional health. \nThrough this event\, MCM-Meridian strives to:\n\nInspire children and families to implement easy\, healthy lifestyle habits through fun\, educational activities focusing on the benefits and importance of physical and mental health.\nEnhance accessibility and engagement between families and local healthcare providers.\nEmpower children and families with the knowledge and resources necessary to live a healthy lifestyle.\n\nSpecial Guests & Activities\nCalm Body\, Happy Heart with Jessica Brown | 10:00 AM to 3:00 PM\nBend & Be Happy: Yoga & Movement with Leslie Lee | 10:00 AM & 1:00 PM\nReading is Fundamental: Book Giveaway  Junior Auxiliary of Meridian\nVendors: WEEMs & MS Resource & Referral \nAll Day Fun\n\nDesign a Team Pennant\nCreate a Ski Jumping Straw Rocket\nStory Time\nGarden Games\nPaper Plate Frisbee Creations\nHealth Oath & Medals\nSnap a winning picture on the Olympic Platform\n\nFree for MCM Members | $10/Person for Non-Members | Tickets Available at the Door \n\n\n\nPURCHASE MUSEUM TICKETS
URL:https://mschildrensmuseum.org/event/super-lympics-meridian/
LOCATION:MCM-Meridian\, 403 22nd Avenue\, Meridian\, MS\, 39301\, United States
CATEGORIES:Meridian
ATTACH;FMTTYPE=image/jpeg:https://mschildrensmuseum.org/wp-content/uploads/2022/04/i-zPFCxMs-X2.jpg
END:VEVENT
BEGIN:VEVENT
DTSTART;TZID=America/Chicago:20260505T153000
DTEND;TZID=America/Chicago:20260505T153000
DTSTAMP:20260421T211045
CREATED:20220429T184607Z
LAST-MODIFIED:20220429T184607Z
UID:52272-1777995000-1777995000@mschildrensmuseum.org
SUMMARY:Tech Tuesday
DESCRIPTION:Tech Tuesday\nJoin us every Tuesday at 3:30pm for our technology-based program! This facilitated program aims to foster STEAM education through inquiry-based learning\, coding\, and robotics.
URL:https://mschildrensmuseum.org/event/tech-tuesday-2/2026-05-05/
LOCATION:MCM-Meridian\, 403 22nd Avenue\, Meridian\, MS\, 39301\, United States
CATEGORIES:Meridian
ATTACH;FMTTYPE=image/jpeg:https://mschildrensmuseum.org/wp-content/uploads/2022/04/DSC_1527-1-scaled.jpg
END:VEVENT
BEGIN:VEVENT
DTSTART;TZID=America/Chicago:20260512T153000
DTEND;TZID=America/Chicago:20260512T153000
DTSTAMP:20260421T211045
CREATED:20220429T184607Z
LAST-MODIFIED:20220429T184607Z
UID:52273-1778599800-1778599800@mschildrensmuseum.org
SUMMARY:Tech Tuesday
DESCRIPTION:Tech Tuesday\nJoin us every Tuesday at 3:30pm for our technology-based program! This facilitated program aims to foster STEAM education through inquiry-based learning\, coding\, and robotics.
URL:https://mschildrensmuseum.org/event/tech-tuesday-2/2026-05-12/
LOCATION:MCM-Meridian\, 403 22nd Avenue\, Meridian\, MS\, 39301\, United States
CATEGORIES:Meridian
ATTACH;FMTTYPE=image/jpeg:https://mschildrensmuseum.org/wp-content/uploads/2022/04/DSC_1527-1-scaled.jpg
END:VEVENT
BEGIN:VEVENT
DTSTART;TZID=America/Chicago:20260519T153000
DTEND;TZID=America/Chicago:20260519T153000
DTSTAMP:20260421T211045
CREATED:20220429T184607Z
LAST-MODIFIED:20220429T184607Z
UID:52274-1779204600-1779204600@mschildrensmuseum.org
SUMMARY:Tech Tuesday
DESCRIPTION:Tech Tuesday\nJoin us every Tuesday at 3:30pm for our technology-based program! This facilitated program aims to foster STEAM education through inquiry-based learning\, coding\, and robotics.
URL:https://mschildrensmuseum.org/event/tech-tuesday-2/2026-05-19/
LOCATION:MCM-Meridian\, 403 22nd Avenue\, Meridian\, MS\, 39301\, United States
CATEGORIES:Meridian
ATTACH;FMTTYPE=image/jpeg:https://mschildrensmuseum.org/wp-content/uploads/2022/04/DSC_1527-1-scaled.jpg
END:VEVENT
BEGIN:VEVENT
DTSTART;TZID=America/Chicago:20260526T153000
DTEND;TZID=America/Chicago:20260526T153000
DTSTAMP:20260421T211045
CREATED:20220429T184607Z
LAST-MODIFIED:20220429T184607Z
UID:52275-1779809400-1779809400@mschildrensmuseum.org
SUMMARY:Tech Tuesday
DESCRIPTION:Tech Tuesday\nJoin us every Tuesday at 3:30pm for our technology-based program! This facilitated program aims to foster STEAM education through inquiry-based learning\, coding\, and robotics.
URL:https://mschildrensmuseum.org/event/tech-tuesday-2/2026-05-26/
LOCATION:MCM-Meridian\, 403 22nd Avenue\, Meridian\, MS\, 39301\, United States
CATEGORIES:Meridian
ATTACH;FMTTYPE=image/jpeg:https://mschildrensmuseum.org/wp-content/uploads/2022/04/DSC_1527-1-scaled.jpg
END:VEVENT
END:VCALENDAR