BEGIN:VCALENDAR
VERSION:2.0
PRODID:-//Mississippi Children&#039;s Museum - ECPv6.15.20//NONSGML v1.0//EN
CALSCALE:GREGORIAN
METHOD:PUBLISH
X-WR-CALNAME:Mississippi Children&#039;s Museum
X-ORIGINAL-URL:https://mschildrensmuseum.org
X-WR-CALDESC:Events for Mississippi Children&#039;s Museum
REFRESH-INTERVAL;VALUE=DURATION:PT1H
X-Robots-Tag:noindex
X-PUBLISHED-TTL:PT1H
BEGIN:VTIMEZONE
TZID:America/Chicago
BEGIN:DAYLIGHT
TZOFFSETFROM:-0600
TZOFFSETTO:-0500
TZNAME:CDT
DTSTART:20240310T080000
END:DAYLIGHT
BEGIN:STANDARD
TZOFFSETFROM:-0500
TZOFFSETTO:-0600
TZNAME:CST
DTSTART:20241103T070000
END:STANDARD
BEGIN:DAYLIGHT
TZOFFSETFROM:-0600
TZOFFSETTO:-0500
TZNAME:CDT
DTSTART:20250309T080000
END:DAYLIGHT
BEGIN:STANDARD
TZOFFSETFROM:-0500
TZOFFSETTO:-0600
TZNAME:CST
DTSTART:20251102T070000
END:STANDARD
BEGIN:DAYLIGHT
TZOFFSETFROM:-0600
TZOFFSETTO:-0500
TZNAME:CDT
DTSTART:20260308T080000
END:DAYLIGHT
BEGIN:STANDARD
TZOFFSETFROM:-0500
TZOFFSETTO:-0600
TZNAME:CST
DTSTART:20261101T070000
END:STANDARD
END:VTIMEZONE
BEGIN:VEVENT
DTSTART;TZID=America/Chicago:20251202T153000
DTEND;TZID=America/Chicago:20251202T153000
DTSTAMP:20260423T002140
CREATED:20220429T184607Z
LAST-MODIFIED:20251226T212723Z
UID:46396-1764689400-1764689400@mschildrensmuseum.org
SUMMARY:Tech Tuesday
DESCRIPTION:Tech Tuesday\nJoin us every Tuesday at 3:30pm for our technology-based program! This facilitated program aims to foster STEAM education through inquiry-based learning\, coding\, and robotics.
URL:https://mschildrensmuseum.org/event/tech-tuesday-2/2025-12-02/
LOCATION:MCM-Meridian\, 403 22nd Avenue\, Meridian\, MS\, 39301\, United States
CATEGORIES:Meridian
ATTACH;FMTTYPE=image/jpeg:https://mschildrensmuseum.org/wp-content/uploads/2022/04/DSC_1527-1-scaled.jpg
END:VEVENT
BEGIN:VEVENT
DTSTART;TZID=America/Chicago:20251209T153000
DTEND;TZID=America/Chicago:20251209T153000
DTSTAMP:20260423T002140
CREATED:20220429T184607Z
LAST-MODIFIED:20251226T212723Z
UID:46397-1765294200-1765294200@mschildrensmuseum.org
SUMMARY:Tech Tuesday
DESCRIPTION:Tech Tuesday\nJoin us every Tuesday at 3:30pm for our technology-based program! This facilitated program aims to foster STEAM education through inquiry-based learning\, coding\, and robotics.
URL:https://mschildrensmuseum.org/event/tech-tuesday-2/2025-12-09/
LOCATION:MCM-Meridian\, 403 22nd Avenue\, Meridian\, MS\, 39301\, United States
CATEGORIES:Meridian
ATTACH;FMTTYPE=image/jpeg:https://mschildrensmuseum.org/wp-content/uploads/2022/04/DSC_1527-1-scaled.jpg
END:VEVENT
BEGIN:VEVENT
DTSTART;TZID=America/Chicago:20251216T153000
DTEND;TZID=America/Chicago:20251216T153000
DTSTAMP:20260423T002140
CREATED:20220429T184607Z
LAST-MODIFIED:20251226T212723Z
UID:46398-1765899000-1765899000@mschildrensmuseum.org
SUMMARY:Tech Tuesday
DESCRIPTION:Tech Tuesday\nJoin us every Tuesday at 3:30pm for our technology-based program! This facilitated program aims to foster STEAM education through inquiry-based learning\, coding\, and robotics.
URL:https://mschildrensmuseum.org/event/tech-tuesday-2/2025-12-16/
LOCATION:MCM-Meridian\, 403 22nd Avenue\, Meridian\, MS\, 39301\, United States
CATEGORIES:Meridian
ATTACH;FMTTYPE=image/jpeg:https://mschildrensmuseum.org/wp-content/uploads/2022/04/DSC_1527-1-scaled.jpg
END:VEVENT
BEGIN:VEVENT
DTSTART;TZID=America/Chicago:20251221T150000
DTEND;TZID=America/Chicago:20251221T153000
DTSTAMP:20260423T002140
CREATED:20230822T142658Z
LAST-MODIFIED:20251204T174256Z
UID:35824-1766329200-1766331000@mschildrensmuseum.org
SUMMARY:Reindeer Workshop
DESCRIPTION:Reindeer Workshop\nJoin us for our Reindeer Workshops! During this workshop\, children will sharpen their fine motor skills\, unlock their inner designer and mathematician\, and learn an essential life skill by choosing their fabric and accessories and sewing a cozy sweater for their plush new friend! Their reindeer friend will also come with a birth certificate and pet carrier decorated by the child. Enjoy hot cocoa and cookies while making new holiday memories! \nDATES & TIMES\n\nDecember 21: 3:00 PM – Register here\nDecember 23: 2:00 PM – Register here\n\nPRICES\n\nMembers: $25 (includes 1 adult + 1 child)\nNon-Members: $40 (includes 1 adult + 1 child)\n\nMORE INFORMATION\n\nEach child receives 1 Reindeer and all materials.\nSnacks will be provided. (If your child has specific allergies\, please let us know.)\n\n \n \n 
URL:https://mschildrensmuseum.org/event/reindeer-workshop-mcmm/2025-12-21/
CATEGORIES:Meridian
ATTACH;FMTTYPE=image/jpeg:https://mschildrensmuseum.org/wp-content/uploads/2023/08/068A9628-4K-scaled.jpg
END:VEVENT
BEGIN:VEVENT
DTSTART;TZID=America/Chicago:20251222T100000
DTEND;TZID=America/Chicago:20251222T150000
DTSTAMP:20260423T002140
CREATED:20250925T151343Z
LAST-MODIFIED:20251201T184813Z
UID:50395-1766397600-1766415600@mschildrensmuseum.org
SUMMARY:Mistletoe Magic Monday
DESCRIPTION:School’s out\, and the magic is in! Celebrate the holiday season at Mistletoe Magic Monday on December 22 from 9 AM – 5 PM. \nEnjoy extra hours of inspiration and fun with festive activities\, creative play\, and holiday cheer\, all the magic you need to make your Monday merry and bright! \nFeatured Activities\n\nConcentric Circle Ornaments\nIcicle Ornaments\nStorytime | 10 AM\nGames in the Garden\nSock Skating Rink\nSnow Globe Photo Op\nLetters to Santa\nGrinch Slime | 10:30 AM\, 1:30 PM\nSanta’s Beard Bubbles | 12 PM\nChristmas Carol Sing-Along | 2:15 PM\n\nPurchase Tickets to the Museum
URL:https://mschildrensmuseum.org/event/mistletoe-magic-monday/
CATEGORIES:Meridian
ATTACH;FMTTYPE=image/jpeg:https://mschildrensmuseum.org/wp-content/uploads/2025/09/068A3095-scaled.jpg
END:VEVENT
BEGIN:VEVENT
DTSTART;TZID=America/Chicago:20251223T140000
DTEND;TZID=America/Chicago:20251223T143000
DTSTAMP:20260423T002140
CREATED:20230822T142658Z
LAST-MODIFIED:20251204T174256Z
UID:50526-1766498400-1766500200@mschildrensmuseum.org
SUMMARY:Reindeer Workshop
DESCRIPTION:Reindeer Workshop\nJoin us for our Reindeer Workshops! During this workshop\, children will sharpen their fine motor skills\, unlock their inner designer and mathematician\, and learn an essential life skill by choosing their fabric and accessories and sewing a cozy sweater for their plush new friend! Their reindeer friend will also come with a birth certificate and pet carrier decorated by the child. Enjoy hot cocoa and cookies while making new holiday memories! \nDATES & TIMES\n\nDecember 21: 3:00 PM – Register here\nDecember 23: 2:00 PM – Register here\n\nPRICES\n\nMembers: $25 (includes 1 adult + 1 child)\nNon-Members: $40 (includes 1 adult + 1 child)\n\nMORE INFORMATION\n\nEach child receives 1 Reindeer and all materials.\nSnacks will be provided. (If your child has specific allergies\, please let us know.)\n\n \n \n 
URL:https://mschildrensmuseum.org/event/reindeer-workshop-mcmm/2025-12-23/
CATEGORIES:Meridian
ATTACH;FMTTYPE=image/jpeg:https://mschildrensmuseum.org/wp-content/uploads/2023/08/068A9628-4K-scaled.jpg
END:VEVENT
BEGIN:VEVENT
DTSTART;TZID=America/Chicago:20251223T153000
DTEND;TZID=America/Chicago:20251223T153000
DTSTAMP:20260423T002140
CREATED:20220429T184607Z
LAST-MODIFIED:20251226T212723Z
UID:46399-1766503800-1766503800@mschildrensmuseum.org
SUMMARY:Tech Tuesday
DESCRIPTION:Tech Tuesday\nJoin us every Tuesday at 3:30pm for our technology-based program! This facilitated program aims to foster STEAM education through inquiry-based learning\, coding\, and robotics.
URL:https://mschildrensmuseum.org/event/tech-tuesday-2/2025-12-23/
LOCATION:MCM-Meridian\, 403 22nd Avenue\, Meridian\, MS\, 39301\, United States
CATEGORIES:Meridian
ATTACH;FMTTYPE=image/jpeg:https://mschildrensmuseum.org/wp-content/uploads/2022/04/DSC_1527-1-scaled.jpg
END:VEVENT
BEGIN:VEVENT
DTSTART;TZID=America/Chicago:20251229T100000
DTEND;TZID=America/Chicago:20251229T150000
DTSTAMP:20260423T002140
CREATED:20250925T152437Z
LAST-MODIFIED:20251201T185155Z
UID:50399-1767002400-1767020400@mschildrensmuseum.org
SUMMARY:One More Magical Monday
DESCRIPTION:End the year with One More Magical Monday at MCM on Monday\, December 29\, from 9 AM to 5 PM. Enjoy extra hours to explore\, create\, and play\, making the most of your last chance this year to experience the wonder of the museum. \nFEATURED ACTIVITIES\n\nRoll a Matisse\nSnowflake Creations\nStorytime | 10 AM\nGames in the Garden\nSock Skating Rink\nSnowman Resist Art | 11 AM\, 1 PM\nTechnology Pop Up | 2 PM\nSnow Globe Photo Op\n\nPurchase Tickets to the Museum
URL:https://mschildrensmuseum.org/event/one-more-magical-monday/
LOCATION:MCM-Meridian\, 403 22nd Avenue\, Meridian\, MS\, 39301\, United States
CATEGORIES:Meridian
ATTACH;FMTTYPE=image/jpeg:https://mschildrensmuseum.org/wp-content/uploads/2025/09/068A9316-scaled.jpg
END:VEVENT
BEGIN:VEVENT
DTSTART;TZID=America/Chicago:20251230T153000
DTEND;TZID=America/Chicago:20251230T153000
DTSTAMP:20260423T002140
CREATED:20220429T184607Z
LAST-MODIFIED:20251226T212724Z
UID:46400-1767108600-1767108600@mschildrensmuseum.org
SUMMARY:Tech Tuesday
DESCRIPTION:Tech Tuesday\nJoin us every Tuesday at 3:30pm for our technology-based program! This facilitated program aims to foster STEAM education through inquiry-based learning\, coding\, and robotics.
URL:https://mschildrensmuseum.org/event/tech-tuesday-2/2025-12-30/
LOCATION:MCM-Meridian\, 403 22nd Avenue\, Meridian\, MS\, 39301\, United States
CATEGORIES:Meridian
ATTACH;FMTTYPE=image/jpeg:https://mschildrensmuseum.org/wp-content/uploads/2022/04/DSC_1527-1-scaled.jpg
END:VEVENT
END:VCALENDAR