BEGIN:VCALENDAR
VERSION:2.0
PRODID:-//Mississippi Children&#039;s Museum - ECPv6.15.20//NONSGML v1.0//EN
CALSCALE:GREGORIAN
METHOD:PUBLISH
X-ORIGINAL-URL:https://mschildrensmuseum.org
X-WR-CALDESC:Events for Mississippi Children&#039;s Museum
REFRESH-INTERVAL;VALUE=DURATION:PT1H
X-Robots-Tag:noindex
X-PUBLISHED-TTL:PT1H
BEGIN:VTIMEZONE
TZID:America/Chicago
BEGIN:DAYLIGHT
TZOFFSETFROM:-0600
TZOFFSETTO:-0500
TZNAME:CDT
DTSTART:20240310T080000
END:DAYLIGHT
BEGIN:STANDARD
TZOFFSETFROM:-0500
TZOFFSETTO:-0600
TZNAME:CST
DTSTART:20241103T070000
END:STANDARD
BEGIN:DAYLIGHT
TZOFFSETFROM:-0600
TZOFFSETTO:-0500
TZNAME:CDT
DTSTART:20250309T080000
END:DAYLIGHT
BEGIN:STANDARD
TZOFFSETFROM:-0500
TZOFFSETTO:-0600
TZNAME:CST
DTSTART:20251102T070000
END:STANDARD
BEGIN:DAYLIGHT
TZOFFSETFROM:-0600
TZOFFSETTO:-0500
TZNAME:CDT
DTSTART:20260308T080000
END:DAYLIGHT
BEGIN:STANDARD
TZOFFSETFROM:-0500
TZOFFSETTO:-0600
TZNAME:CST
DTSTART:20261101T070000
END:STANDARD
END:VTIMEZONE
BEGIN:VEVENT
DTSTART;TZID=America/Chicago:20250804T100000
DTEND;TZID=America/Chicago:20250804T150000
DTSTAMP:20260423T102358
CREATED:20250626T140413Z
LAST-MODIFIED:20250626T140413Z
UID:49034-1754301600-1754319600@mschildrensmuseum.org
SUMMARY:Magic Monday: Fun Day
DESCRIPTION:Every Monday in June and July join us for a special themed Magic Monday! Special activities take place from 10 AM to 3 PM. The museum is open from 9 AM to 5 PM. \nOn August 4th\, join us for Monday Fun Day\, the grand finale of our Magic Monday series before school kicks off! This special end-of-summer celebration will be packed with exciting STEAM-themed activities that spark creativity and curiosity. Don’t miss this last chance to make magical memories and explore science\, technology\, engineering\, art\, and math in the most fun way possible! \nFree for MCM Members | $10/Person for Non-Members | Tickets Available at the Door \nPURCHASE TICKETS TO THE MUSEUM
URL:https://mschildrensmuseum.org/event/magic-monday-fun-day/
CATEGORIES:Meridian
END:VEVENT
BEGIN:VEVENT
DTSTART;TZID=America/Chicago:20250805T153000
DTEND;TZID=America/Chicago:20250805T153000
DTSTAMP:20260423T102358
CREATED:20220429T184607Z
LAST-MODIFIED:20251226T212716Z
UID:46379-1754407800-1754407800@mschildrensmuseum.org
SUMMARY:Tech Tuesday
DESCRIPTION:Tech Tuesday\nJoin us every Tuesday at 3:30pm for our technology-based program! This facilitated program aims to foster STEAM education through inquiry-based learning\, coding\, and robotics.
URL:https://mschildrensmuseum.org/event/tech-tuesday-2/2025-08-05/
LOCATION:MCM-Meridian\, 403 22nd Avenue\, Meridian\, MS\, 39301\, United States
CATEGORIES:Meridian
ATTACH;FMTTYPE=image/jpeg:https://mschildrensmuseum.org/wp-content/uploads/2022/04/DSC_1527-1-scaled.jpg
END:VEVENT
BEGIN:VEVENT
DTSTART;TZID=America/Chicago:20250812T153000
DTEND;TZID=America/Chicago:20250812T153000
DTSTAMP:20260423T102358
CREATED:20220429T184607Z
LAST-MODIFIED:20251226T212717Z
UID:46380-1755012600-1755012600@mschildrensmuseum.org
SUMMARY:Tech Tuesday
DESCRIPTION:Tech Tuesday\nJoin us every Tuesday at 3:30pm for our technology-based program! This facilitated program aims to foster STEAM education through inquiry-based learning\, coding\, and robotics.
URL:https://mschildrensmuseum.org/event/tech-tuesday-2/2025-08-12/
LOCATION:MCM-Meridian\, 403 22nd Avenue\, Meridian\, MS\, 39301\, United States
CATEGORIES:Meridian
ATTACH;FMTTYPE=image/jpeg:https://mschildrensmuseum.org/wp-content/uploads/2022/04/DSC_1527-1-scaled.jpg
END:VEVENT
BEGIN:VEVENT
DTSTART;TZID=America/Chicago:20250819T153000
DTEND;TZID=America/Chicago:20250819T153000
DTSTAMP:20260423T102358
CREATED:20220429T184607Z
LAST-MODIFIED:20251226T212717Z
UID:46381-1755617400-1755617400@mschildrensmuseum.org
SUMMARY:Tech Tuesday
DESCRIPTION:Tech Tuesday\nJoin us every Tuesday at 3:30pm for our technology-based program! This facilitated program aims to foster STEAM education through inquiry-based learning\, coding\, and robotics.
URL:https://mschildrensmuseum.org/event/tech-tuesday-2/2025-08-19/
LOCATION:MCM-Meridian\, 403 22nd Avenue\, Meridian\, MS\, 39301\, United States
CATEGORIES:Meridian
ATTACH;FMTTYPE=image/jpeg:https://mschildrensmuseum.org/wp-content/uploads/2022/04/DSC_1527-1-scaled.jpg
END:VEVENT
BEGIN:VEVENT
DTSTART;TZID=America/Chicago:20250826T153000
DTEND;TZID=America/Chicago:20250826T153000
DTSTAMP:20260423T102358
CREATED:20220429T184607Z
LAST-MODIFIED:20251226T212718Z
UID:46382-1756222200-1756222200@mschildrensmuseum.org
SUMMARY:Tech Tuesday
DESCRIPTION:Tech Tuesday\nJoin us every Tuesday at 3:30pm for our technology-based program! This facilitated program aims to foster STEAM education through inquiry-based learning\, coding\, and robotics.
URL:https://mschildrensmuseum.org/event/tech-tuesday-2/2025-08-26/
LOCATION:MCM-Meridian\, 403 22nd Avenue\, Meridian\, MS\, 39301\, United States
CATEGORIES:Meridian
ATTACH;FMTTYPE=image/jpeg:https://mschildrensmuseum.org/wp-content/uploads/2022/04/DSC_1527-1-scaled.jpg
END:VEVENT
END:VCALENDAR