BEGIN:VCALENDAR
VERSION:2.0
PRODID:-//Mississippi Children&#039;s Museum - ECPv6.15.20//NONSGML v1.0//EN
CALSCALE:GREGORIAN
METHOD:PUBLISH
X-WR-CALNAME:Mississippi Children&#039;s Museum
X-ORIGINAL-URL:https://mschildrensmuseum.org
X-WR-CALDESC:Events for Mississippi Children&#039;s Museum
REFRESH-INTERVAL;VALUE=DURATION:PT1H
X-Robots-Tag:noindex
X-PUBLISHED-TTL:PT1H
BEGIN:VTIMEZONE
TZID:America/Chicago
BEGIN:DAYLIGHT
TZOFFSETFROM:-0600
TZOFFSETTO:-0500
TZNAME:CDT
DTSTART:20220313T080000
END:DAYLIGHT
BEGIN:STANDARD
TZOFFSETFROM:-0500
TZOFFSETTO:-0600
TZNAME:CST
DTSTART:20221106T070000
END:STANDARD
BEGIN:DAYLIGHT
TZOFFSETFROM:-0600
TZOFFSETTO:-0500
TZNAME:CDT
DTSTART:20230312T080000
END:DAYLIGHT
BEGIN:STANDARD
TZOFFSETFROM:-0500
TZOFFSETTO:-0600
TZNAME:CST
DTSTART:20231105T070000
END:STANDARD
BEGIN:DAYLIGHT
TZOFFSETFROM:-0600
TZOFFSETTO:-0500
TZNAME:CDT
DTSTART:20240310T080000
END:DAYLIGHT
BEGIN:STANDARD
TZOFFSETFROM:-0500
TZOFFSETTO:-0600
TZNAME:CST
DTSTART:20241103T070000
END:STANDARD
BEGIN:DAYLIGHT
TZOFFSETFROM:-0600
TZOFFSETTO:-0500
TZNAME:CDT
DTSTART:20250309T080000
END:DAYLIGHT
BEGIN:STANDARD
TZOFFSETFROM:-0500
TZOFFSETTO:-0600
TZNAME:CST
DTSTART:20251102T070000
END:STANDARD
BEGIN:DAYLIGHT
TZOFFSETFROM:-0600
TZOFFSETTO:-0500
TZNAME:CDT
DTSTART:20260308T080000
END:DAYLIGHT
BEGIN:STANDARD
TZOFFSETFROM:-0500
TZOFFSETTO:-0600
TZNAME:CST
DTSTART:20261101T070000
END:STANDARD
BEGIN:DAYLIGHT
TZOFFSETFROM:-0600
TZOFFSETTO:-0500
TZNAME:CDT
DTSTART:20270314T080000
END:DAYLIGHT
BEGIN:STANDARD
TZOFFSETFROM:-0500
TZOFFSETTO:-0600
TZNAME:CST
DTSTART:20271107T070000
END:STANDARD
END:VTIMEZONE
BEGIN:VEVENT
DTSTART;TZID=America/Chicago:20260326T170000
DTEND;TZID=America/Chicago:20260326T190000
DTSTAMP:20260423T043025
CREATED:20240509T173400Z
LAST-MODIFIED:20260114T221622Z
UID:41280-1774544400-1774551600@mschildrensmuseum.org
SUMMARY:Members-Only Night
DESCRIPTION:Members-Only Night\nMuseum members are invited to join us for an exclusive Members-Only event after-hours! \nNOT A MEMBER? JOIN OR RENEW TODAY!
URL:https://mschildrensmuseum.org/event/members-only-night-meridian/2026-03-26/
LOCATION:MCM-Meridian\, 403 22nd Avenue\, Meridian\, MS\, 39301\, United States
CATEGORIES:Meridian
ATTACH;FMTTYPE=image/jpeg:https://mschildrensmuseum.org/wp-content/uploads/2024/05/i-fjrh7kj-4K-scaled-e1715114092504.jpg
END:VEVENT
BEGIN:VEVENT
DTSTART;TZID=America/Chicago:20250523T173000
DTEND;TZID=America/Chicago:20250523T190000
DTSTAMP:20260423T043025
CREATED:20240301T220001Z
LAST-MODIFIED:20250428T210854Z
UID:39973-1748021400-1748026800@mschildrensmuseum.org
SUMMARY:Measurement Rules Preview Night
DESCRIPTION:Measurement Rules Members Preview Night\nMCM Members can be the first to experience our Summer Exhibit\, Measurement Rules! on May 23\, 2025 from 5:30pm – 7:00pm! \nJoin us for this exclusive evening where guests can explore our new Summer Exhibit before it opens to the public! This immersive exhibit invites children and families to explore the concepts of length\, time\, volume\, and weight in a variety of hands-on\, fun ways. \nLearn More about this Exhibit\nBecome an MCM Member\nExhibit Sponsored by: \n   
URL:https://mschildrensmuseum.org/event/measurement-rules-preview-night/
LOCATION:Mississippi Children’s Museum\, 2145 Museum Boulevard\, Jackson\, Mississippi\, 39202
CATEGORIES:Jackson
ATTACH;FMTTYPE=image/jpeg:https://mschildrensmuseum.org/wp-content/uploads/2025/03/170417_ChildrensMuseum_Measure_110-scaled.jpg
END:VEVENT
BEGIN:VEVENT
DTSTART;TZID=America/Chicago:20230825T170000
DTEND;TZID=America/Chicago:20230825T190000
DTSTAMP:20260423T043025
CREATED:20230605T163323Z
LAST-MODIFIED:20230605T163352Z
UID:33918-1692982800-1692990000@mschildrensmuseum.org
SUMMARY:Members Last Splash
DESCRIPTION:Members Last Splash\nCalling all MCM Members! Come and enjoy the last splash of the summer on August 25 from 5:00pm – 7:00pm before our Splash Pad and Summer Exhibit\, Splash and Bubbles close for the season! \nBecome an MCM Member
URL:https://mschildrensmuseum.org/event/members-last-splash/
LOCATION:Mississippi
CATEGORIES:Jackson
ATTACH;FMTTYPE=image/jpeg:https://mschildrensmuseum.org/wp-content/uploads/2023/06/6T4A9967-scaled.jpg
END:VEVENT
END:VCALENDAR