BEGIN:VCALENDAR
VERSION:2.0
PRODID:-//Mississippi Children&#039;s Museum - ECPv6.15.20//NONSGML v1.0//EN
CALSCALE:GREGORIAN
METHOD:PUBLISH
X-ORIGINAL-URL:https://mschildrensmuseum.org
X-WR-CALDESC:Events for Mississippi Children&#039;s Museum
REFRESH-INTERVAL;VALUE=DURATION:PT1H
X-Robots-Tag:noindex
X-PUBLISHED-TTL:PT1H
BEGIN:VTIMEZONE
TZID:America/Chicago
BEGIN:DAYLIGHT
TZOFFSETFROM:-0600
TZOFFSETTO:-0500
TZNAME:CDT
DTSTART:20250309T080000
END:DAYLIGHT
BEGIN:STANDARD
TZOFFSETFROM:-0500
TZOFFSETTO:-0600
TZNAME:CST
DTSTART:20251102T070000
END:STANDARD
BEGIN:DAYLIGHT
TZOFFSETFROM:-0600
TZOFFSETTO:-0500
TZNAME:CDT
DTSTART:20260308T080000
END:DAYLIGHT
BEGIN:STANDARD
TZOFFSETFROM:-0500
TZOFFSETTO:-0600
TZNAME:CST
DTSTART:20261101T070000
END:STANDARD
BEGIN:DAYLIGHT
TZOFFSETFROM:-0600
TZOFFSETTO:-0500
TZNAME:CDT
DTSTART:20270314T080000
END:DAYLIGHT
BEGIN:STANDARD
TZOFFSETFROM:-0500
TZOFFSETTO:-0600
TZNAME:CST
DTSTART:20271107T070000
END:STANDARD
END:VTIMEZONE
BEGIN:VEVENT
DTSTART;TZID=America/Chicago:20260601T090000
DTEND;TZID=America/Chicago:20260601T170000
DTSTAMP:20260422T001443
CREATED:20251226T173102Z
LAST-MODIFIED:20260316T154152Z
UID:54651-1780304400-1780333200@mschildrensmuseum.org
SUMMARY:Magic Monday: Under the Sea Adventure
DESCRIPTION:Magic Monday\nDid you know MCM-Meridian is open for special\, holiday Mondays from 9am – 5pm for extra hours of inspiration and fun? Magic Monday is the perfect solution to a Monday off from school.  \nEach of these special days includes special museum programing. \nPurchase Tickets to the Museum
URL:https://mschildrensmuseum.org/event/magic-monday-meridian-2-2026-02-16-2026-06-01/
LOCATION:MCM-Meridian\, 403 22nd Avenue\, Meridian\, MS\, 39301\, United States
CATEGORIES:Meridian
ATTACH;FMTTYPE=image/jpeg:https://mschildrensmuseum.org/wp-content/uploads/2025/12/Meridian-4-scaled.jpeg
END:VEVENT
BEGIN:VEVENT
DTSTART;TZID=America/Chicago:20260608T090000
DTEND;TZID=America/Chicago:20260608T170000
DTSTAMP:20260422T001443
CREATED:20251226T173102Z
LAST-MODIFIED:20260316T154344Z
UID:54652-1780909200-1780938000@mschildrensmuseum.org
SUMMARY:Magic Monday: Sports Science
DESCRIPTION:Magic Monday: Sports Science\nDid you know MCM-Meridian is open for special\, holiday Mondays from 9am – 5pm for extra hours of inspiration and fun? Magic Monday is the perfect solution to a Monday off from school.  \nEach of these special days includes special museum programing.\nSpecial Guest: Mississippi Sports Hall of Fame \nPurchase Tickets to the Museum
URL:https://mschildrensmuseum.org/event/magic-monday-meridian-2-2026-02-16-2026-06-08/
LOCATION:MCM-Meridian\, 403 22nd Avenue\, Meridian\, MS\, 39301\, United States
CATEGORIES:Meridian
ATTACH;FMTTYPE=image/jpeg:https://mschildrensmuseum.org/wp-content/uploads/2025/12/Meridian-4-scaled.jpeg
END:VEVENT
BEGIN:VEVENT
DTSTART;TZID=America/Chicago:20260615T090000
DTEND;TZID=America/Chicago:20260615T170000
DTSTAMP:20260422T001443
CREATED:20251226T173102Z
LAST-MODIFIED:20260316T154628Z
UID:54653-1781514000-1781542800@mschildrensmuseum.org
SUMMARY:Magic Monday: Bug Bonanza
DESCRIPTION:Magic Monday\nDid you know MCM-Meridian is open for special\, holiday Mondays from 9am – 5pm for extra hours of inspiration and fun? Magic Monday is the perfect solution to a Monday off from school.  \nEach of these special days includes special museum programing. \nPurchase Tickets to the Museum
URL:https://mschildrensmuseum.org/event/magic-monday-meridian-2-2026-02-16-2026-06-15/
LOCATION:MCM-Meridian\, 403 22nd Avenue\, Meridian\, MS\, 39301\, United States
CATEGORIES:Meridian
ATTACH;FMTTYPE=image/jpeg:https://mschildrensmuseum.org/wp-content/uploads/2025/12/Meridian-4-scaled.jpeg
END:VEVENT
BEGIN:VEVENT
DTSTART;TZID=America/Chicago:20260622T090000
DTEND;TZID=America/Chicago:20260622T170000
DTSTAMP:20260422T001443
CREATED:20251226T173102Z
LAST-MODIFIED:20260316T154711Z
UID:54654-1782118800-1782147600@mschildrensmuseum.org
SUMMARY:Magic Monday: Color Explosion
DESCRIPTION:Magic Monday\nDid you know MCM-Meridian is open for special\, holiday Mondays from 9am – 5pm for extra hours of inspiration and fun? Magic Monday is the perfect solution to a Monday off from school.  \nEach of these special days includes special museum programing. \nPurchase Tickets to the Museum
URL:https://mschildrensmuseum.org/event/magic-monday-meridian-2-2026-02-16-2026-06-22/
LOCATION:MCM-Meridian\, 403 22nd Avenue\, Meridian\, MS\, 39301\, United States
CATEGORIES:Meridian
ATTACH;FMTTYPE=image/jpeg:https://mschildrensmuseum.org/wp-content/uploads/2025/12/Meridian-4-scaled.jpeg
END:VEVENT
BEGIN:VEVENT
DTSTART;TZID=America/Chicago:20260629T090000
DTEND;TZID=America/Chicago:20260629T170000
DTSTAMP:20260422T001443
CREATED:20251226T173102Z
LAST-MODIFIED:20260316T154900Z
UID:54655-1782723600-1782752400@mschildrensmuseum.org
SUMMARY:Magic Monday: Red\, White\, & You
DESCRIPTION:Magic Monday\nDid you know MCM-Meridian is open for special\, holiday Mondays from 9am – 5pm for extra hours of inspiration and fun? Magic Monday is the perfect solution to a Monday off from school.  \nEach of these special days includes special museum programing. \nPurchase Tickets to the Museum
URL:https://mschildrensmuseum.org/event/magic-monday-meridian-2-2026-02-16-2026-06-29/
LOCATION:MCM-Meridian\, 403 22nd Avenue\, Meridian\, MS\, 39301\, United States
CATEGORIES:Meridian
ATTACH;FMTTYPE=image/jpeg:https://mschildrensmuseum.org/wp-content/uploads/2025/12/Meridian-4-scaled.jpeg
END:VEVENT
BEGIN:VEVENT
DTSTART;TZID=America/Chicago:20260706T090000
DTEND;TZID=America/Chicago:20260706T170000
DTSTAMP:20260422T001443
CREATED:20251226T173102Z
LAST-MODIFIED:20260316T155022Z
UID:54656-1783328400-1783357200@mschildrensmuseum.org
SUMMARY:Magic Monday: Just Another Magic Monday
DESCRIPTION:Magic Monday\nDid you know MCM-Meridian is open for special\, holiday Mondays from 9am – 5pm for extra hours of inspiration and fun? Magic Monday is the perfect solution to a Monday off from school.  \nEach of these special days includes special museum programing. \nPurchase Tickets to the Museum
URL:https://mschildrensmuseum.org/event/magic-monday-meridian-2-2026-02-16-2026-07-06/
LOCATION:MCM-Meridian\, 403 22nd Avenue\, Meridian\, MS\, 39301\, United States
CATEGORIES:Meridian
ATTACH;FMTTYPE=image/jpeg:https://mschildrensmuseum.org/wp-content/uploads/2025/12/Meridian-4-scaled.jpeg
END:VEVENT
BEGIN:VEVENT
DTSTART;TZID=America/Chicago:20260713T090000
DTEND;TZID=America/Chicago:20260713T170000
DTSTAMP:20260422T001443
CREATED:20251226T173102Z
LAST-MODIFIED:20260316T155715Z
UID:54657-1783933200-1783962000@mschildrensmuseum.org
SUMMARY:Magic Monday: Dino Discovery
DESCRIPTION:Magic Monday\nDid you know MCM-Meridian is open for special\, holiday Mondays from 9am – 5pm for extra hours of inspiration and fun? Magic Monday is the perfect solution to a Monday off from school.  \nEach of these special days includes special museum programing.\n \nSpecial Guest:  Mississippi Museum of Natural Science \nPurchase Tickets to the Museum
URL:https://mschildrensmuseum.org/event/magic-monday-meridian-2-2026-02-16-2026-07-13/
LOCATION:MCM-Meridian\, 403 22nd Avenue\, Meridian\, MS\, 39301\, United States
CATEGORIES:Meridian
ATTACH;FMTTYPE=image/jpeg:https://mschildrensmuseum.org/wp-content/uploads/2025/12/Meridian-4-scaled.jpeg
END:VEVENT
BEGIN:VEVENT
DTSTART;TZID=America/Chicago:20260720T090000
DTEND;TZID=America/Chicago:20260720T170000
DTSTAMP:20260422T001443
CREATED:20251226T173102Z
LAST-MODIFIED:20260316T155813Z
UID:54658-1784538000-1784566800@mschildrensmuseum.org
SUMMARY:Magic Monday: Christmas in July
DESCRIPTION:Magic Monday\nDid you know MCM-Meridian is open for special\, holiday Mondays from 9am – 5pm for extra hours of inspiration and fun? Magic Monday is the perfect solution to a Monday off from school.  \nEach of these special days includes special museum programing.\nSpecial Guest: Santa \nPurchase Tickets to the Museum
URL:https://mschildrensmuseum.org/event/magic-monday-meridian-2-2026-02-16-2026-07-20/
LOCATION:MCM-Meridian\, 403 22nd Avenue\, Meridian\, MS\, 39301\, United States
CATEGORIES:Meridian
ATTACH;FMTTYPE=image/jpeg:https://mschildrensmuseum.org/wp-content/uploads/2025/12/Meridian-4-scaled.jpeg
END:VEVENT
BEGIN:VEVENT
DTSTART;TZID=America/Chicago:20260727T090000
DTEND;TZID=America/Chicago:20260727T170000
DTSTAMP:20260422T001443
CREATED:20251226T173102Z
LAST-MODIFIED:20260316T155914Z
UID:54659-1785142800-1785171600@mschildrensmuseum.org
SUMMARY:Magic Monday: Summer Splash
DESCRIPTION:Magic Monday\nDid you know MCM-Meridian is open for special\, holiday Mondays from 9am – 5pm for extra hours of inspiration and fun? Magic Monday is the perfect solution to a Monday off from school.  \nEach of these special days includes special museum programing.\n \nPurchase Tickets to the Museum
URL:https://mschildrensmuseum.org/event/magic-monday-meridian-2-2026-02-16-2026-07-27/
LOCATION:MCM-Meridian\, 403 22nd Avenue\, Meridian\, MS\, 39301\, United States
CATEGORIES:Meridian
ATTACH;FMTTYPE=image/jpeg:https://mschildrensmuseum.org/wp-content/uploads/2025/12/Meridian-4-scaled.jpeg
END:VEVENT
BEGIN:VEVENT
DTSTART;TZID=America/Chicago:20260803T090000
DTEND;TZID=America/Chicago:20260803T170000
DTSTAMP:20260422T001443
CREATED:20251226T173102Z
LAST-MODIFIED:20260316T160031Z
UID:54660-1785747600-1785776400@mschildrensmuseum.org
SUMMARY:Magic Monday: Monday Fun Day
DESCRIPTION:Magic Monday\nDid you know MCM-Meridian is open for special\, holiday Mondays from 9am – 5pm for extra hours of inspiration and fun? Magic Monday is the perfect solution to a Monday off from school.  \nEach of these special days includes special museum programing.\n \nPurchase Tickets to the Museum
URL:https://mschildrensmuseum.org/event/magic-monday-meridian-2-2026-02-16-2026-08-03/
LOCATION:MCM-Meridian\, 403 22nd Avenue\, Meridian\, MS\, 39301\, United States
CATEGORIES:Meridian
ATTACH;FMTTYPE=image/jpeg:https://mschildrensmuseum.org/wp-content/uploads/2025/12/Meridian-4-scaled.jpeg
END:VEVENT
BEGIN:VEVENT
DTSTART;TZID=America/Chicago:20261012T090000
DTEND;TZID=America/Chicago:20261012T170000
DTSTAMP:20260422T001443
CREATED:20251124T220401Z
LAST-MODIFIED:20260401T185213Z
UID:51265-1791795600-1791824400@mschildrensmuseum.org
SUMMARY:Magic Monday
DESCRIPTION:Magic Monday\nDid you know MCM is open for special\, holiday Mondays from 9am – 5pm for extra hours of inspiration and fun? Magic Monday is the perfect solution to a Monday off from school.  \nEach of these special days includes regular museum programming\, as well as a special Food Lab program at 11:00am where guests learn about making delicious and nutritious food and snacks. \nPurchase Tickets to the Museum
URL:https://mschildrensmuseum.org/event/magic-monday-30/
LOCATION:MS
CATEGORIES:Jackson
ATTACH;FMTTYPE=image/jpeg:https://mschildrensmuseum.org/wp-content/uploads/2025/05/068A1828-scaled.jpg
END:VEVENT
BEGIN:VEVENT
DTSTART;TZID=America/Chicago:20261012T090000
DTEND;TZID=America/Chicago:20261012T170000
DTSTAMP:20260422T001443
CREATED:20251226T173102Z
LAST-MODIFIED:20260316T155609Z
UID:51819-1791795600-1791824400@mschildrensmuseum.org
SUMMARY:Magic Monday
DESCRIPTION:Magic Monday\nDid you know MCM-Meridian is open for special\, holiday Mondays from 9am – 5pm for extra hours of inspiration and fun? Magic Monday is the perfect solution to a Monday off from school.  \nEach of these special days includes special museum programing.\n \nPurchase Tickets to the Museum
URL:https://mschildrensmuseum.org/event/magic-monday-meridian-2-2026-02-16/2026-10-12/
LOCATION:MCM-Meridian\, 403 22nd Avenue\, Meridian\, MS\, 39301\, United States
CATEGORIES:Meridian
ATTACH;FMTTYPE=image/jpeg:https://mschildrensmuseum.org/wp-content/uploads/2025/12/Meridian-4-scaled.jpeg
END:VEVENT
BEGIN:VEVENT
DTSTART;TZID=America/Chicago:20261221T090000
DTEND;TZID=America/Chicago:20261221T170000
DTSTAMP:20260422T001443
CREATED:20251226T173102Z
LAST-MODIFIED:20260316T155609Z
UID:51820-1797843600-1797872400@mschildrensmuseum.org
SUMMARY:Magic Monday
DESCRIPTION:Magic Monday\nDid you know MCM-Meridian is open for special\, holiday Mondays from 9am – 5pm for extra hours of inspiration and fun? Magic Monday is the perfect solution to a Monday off from school.  \nEach of these special days includes special museum programing.\n \nPurchase Tickets to the Museum
URL:https://mschildrensmuseum.org/event/magic-monday-meridian-2-2026-02-16/2026-12-21/
LOCATION:MCM-Meridian\, 403 22nd Avenue\, Meridian\, MS\, 39301\, United States
CATEGORIES:Meridian
ATTACH;FMTTYPE=image/jpeg:https://mschildrensmuseum.org/wp-content/uploads/2025/12/Meridian-4-scaled.jpeg
END:VEVENT
BEGIN:VEVENT
DTSTART;TZID=America/Chicago:20261228T090000
DTEND;TZID=America/Chicago:20261228T170000
DTSTAMP:20260422T001443
CREATED:20251226T173102Z
LAST-MODIFIED:20260316T155609Z
UID:54661-1798448400-1798477200@mschildrensmuseum.org
SUMMARY:Magic Monday
DESCRIPTION:Magic Monday\nDid you know MCM-Meridian is open for special\, holiday Mondays from 9am – 5pm for extra hours of inspiration and fun? Magic Monday is the perfect solution to a Monday off from school.  \nEach of these special days includes special museum programing.\n \nPurchase Tickets to the Museum
URL:https://mschildrensmuseum.org/event/magic-monday-meridian-2-2026-02-16/2026-12-28/
LOCATION:MCM-Meridian\, 403 22nd Avenue\, Meridian\, MS\, 39301\, United States
CATEGORIES:Meridian
ATTACH;FMTTYPE=image/jpeg:https://mschildrensmuseum.org/wp-content/uploads/2025/12/Meridian-4-scaled.jpeg
END:VEVENT
END:VCALENDAR