BEGIN:VCALENDAR
VERSION:2.0
PRODID:-//Mississippi Children&#039;s Museum - ECPv6.15.20//NONSGML v1.0//EN
CALSCALE:GREGORIAN
METHOD:PUBLISH
X-WR-CALNAME:Mississippi Children&#039;s Museum
X-ORIGINAL-URL:https://mschildrensmuseum.org
X-WR-CALDESC:Events for Mississippi Children&#039;s Museum
REFRESH-INTERVAL;VALUE=DURATION:PT1H
X-Robots-Tag:noindex
X-PUBLISHED-TTL:PT1H
BEGIN:VTIMEZONE
TZID:America/Chicago
BEGIN:DAYLIGHT
TZOFFSETFROM:-0600
TZOFFSETTO:-0500
TZNAME:CDT
DTSTART:20240310T080000
END:DAYLIGHT
BEGIN:STANDARD
TZOFFSETFROM:-0500
TZOFFSETTO:-0600
TZNAME:CST
DTSTART:20241103T070000
END:STANDARD
BEGIN:DAYLIGHT
TZOFFSETFROM:-0600
TZOFFSETTO:-0500
TZNAME:CDT
DTSTART:20250309T080000
END:DAYLIGHT
BEGIN:STANDARD
TZOFFSETFROM:-0500
TZOFFSETTO:-0600
TZNAME:CST
DTSTART:20251102T070000
END:STANDARD
BEGIN:DAYLIGHT
TZOFFSETFROM:-0600
TZOFFSETTO:-0500
TZNAME:CDT
DTSTART:20260308T080000
END:DAYLIGHT
BEGIN:STANDARD
TZOFFSETFROM:-0500
TZOFFSETTO:-0600
TZNAME:CST
DTSTART:20261101T070000
END:STANDARD
END:VTIMEZONE
BEGIN:VEVENT
DTSTART;TZID=America/Chicago:20250707T100000
DTEND;TZID=America/Chicago:20250707T150000
DTSTAMP:20260423T061542
CREATED:20250529T214926Z
LAST-MODIFIED:20250530T150933Z
UID:48813-1751882400-1751900400@mschildrensmuseum.org
SUMMARY:Magic Monday: Mississippi Madness
DESCRIPTION:Every Monday in June and July join us for a special themed Magic Monday! Special activities take place from 10 AM to 3 PM. The museum is open from 9 AM to 5 PM. \nOn July 7\, join the Mississippi Madness! \n\nStorytime | 10 AM\nInvestigating the Mississippi River | 10:30 AM & 2 PM\nEat Dirt! An Edible Science Experiment | 12:30 PM\nMockingbird – State Bird\nHoney Bee – State Insect\nGames in the Garden\nCreate a Puppet inspired by Jim Henson\n\nFree for MCM Members | $10/Person for Non-Members | Tickets Available at the Door \nPurchase Tickets to the Museum
URL:https://mschildrensmuseum.org/event/magic-monday-mississippi-madness/
LOCATION:MS
CATEGORIES:Meridian
ATTACH;FMTTYPE=image/jpeg:https://mschildrensmuseum.org/wp-content/uploads/2023/03/i-NqB9zrp-X5.jpg
END:VEVENT
BEGIN:VEVENT
DTSTART;TZID=America/Chicago:20250714T100000
DTEND;TZID=America/Chicago:20250714T150000
DTSTAMP:20260423T061542
CREATED:20250529T220451Z
LAST-MODIFIED:20250530T151141Z
UID:48816-1752487200-1752505200@mschildrensmuseum.org
SUMMARY:Magic Monday: To Infinity and Beyond
DESCRIPTION:Every Monday in June and July join us for a special themed Magic Monday! Special activities take place from 10 AM to 3 PM. The museum is open from 9 AM to 5 PM. \nOn July 14\, we’re off to Infinity and Beyond! \n\nStorytime | 10 AM\nEarth’s Orbit and Rotation | 10:30 AM & 2 PM\nExploration of an Asteroid Belt| 12:30 PM\nCreate a Space Rocket\nUse an Algorithm to Create an Astronaut\nGames in the Garden\n\nFree for MCM Members | $10/Person for Non-Members | Tickets Available at the Door \nPurchase Tickets to the Museum
URL:https://mschildrensmuseum.org/event/magic-monday-to-infinity-and-beyond/
LOCATION:MS
CATEGORIES:Meridian
ATTACH;FMTTYPE=image/jpeg:https://mschildrensmuseum.org/wp-content/uploads/2025/03/IMG_5983-scaled.jpg
END:VEVENT
BEGIN:VEVENT
DTSTART;TZID=America/Chicago:20250721T100000
DTEND;TZID=America/Chicago:20250721T150000
DTSTAMP:20260423T061542
CREATED:20250530T134059Z
LAST-MODIFIED:20250707T180610Z
UID:48820-1753092000-1753110000@mschildrensmuseum.org
SUMMARY:Magic Monday: Christmas in July
DESCRIPTION:Every Monday in June and July join us for a special themed Magic Monday! Special activities take place from 10 AM to 3 PM. The museum is open from 9 AM to 5 PM. \nOn July 21\, we’re celebrating Christmas in July! \n\nStorytime | 10 AM\nDo You Wanna Build a Snowman? | 10:30 AM & 2 PM\nVisits with Santa | 11 AM – 1 PM\nPeppermint Science | 12:30 PM\nDesign a Christmas Tree\nCreate a Flying Reindeer\nGames in the Garden\n\nFree for MCM Members | $10/Person for Non-Members | Tickets Available at the Door \nPurchase Tickets to the Museum
URL:https://mschildrensmuseum.org/event/magic-monday-christmas-in-july-2/
LOCATION:MS
CATEGORIES:Meridian
ATTACH;FMTTYPE=image/jpeg:https://mschildrensmuseum.org/wp-content/uploads/2023/01/068A9221-scaled.jpg
END:VEVENT
BEGIN:VEVENT
DTSTART;TZID=America/Chicago:20250728T100000
DTEND;TZID=America/Chicago:20250728T150000
DTSTAMP:20260423T061542
CREATED:20250530T134603Z
LAST-MODIFIED:20250723T183612Z
UID:48822-1753696800-1753714800@mschildrensmuseum.org
SUMMARY:Magic Monday: Animal Planet
DESCRIPTION:Every Monday in June and July join us for a special themed Magic Monday! Special activities take place from 10 AM to 3 PM. The museum is open from 9 AM to 5 PM. \nOn July 28\, join us for Animal Planet! \n\nStorytime | 10 AM\nChalk Art Peacock | 12 PM\nSpecial Guest: Hattiesburg Zoo | Two Sessions: 11AM & 1PM\nWatercolor Giraffe Art | 2:30 PM\nCreate a Hedgehog\nOrigami Animals\nGames in the Garden\n\nFree for MCM Members | $10/Person for Non-Members | Tickets Available at the Door \nPurchase Tickets to the Museum
URL:https://mschildrensmuseum.org/event/magic-monday-animal-planet/
LOCATION:MS
CATEGORIES:Meridian
ATTACH;FMTTYPE=image/jpeg:https://mschildrensmuseum.org/wp-content/uploads/2023/07/6T4A8795-2.jpg
END:VEVENT
END:VCALENDAR