BEGIN:VCALENDAR
VERSION:2.0
PRODID:-//Mississippi Children&#039;s Museum - ECPv6.15.20//NONSGML v1.0//EN
CALSCALE:GREGORIAN
METHOD:PUBLISH
X-WR-CALNAME:Mississippi Children&#039;s Museum
X-ORIGINAL-URL:https://mschildrensmuseum.org
X-WR-CALDESC:Events for Mississippi Children&#039;s Museum
REFRESH-INTERVAL;VALUE=DURATION:PT1H
X-Robots-Tag:noindex
X-PUBLISHED-TTL:PT1H
BEGIN:VTIMEZONE
TZID:America/Chicago
BEGIN:DAYLIGHT
TZOFFSETFROM:-0600
TZOFFSETTO:-0500
TZNAME:CDT
DTSTART:20250309T080000
END:DAYLIGHT
BEGIN:STANDARD
TZOFFSETFROM:-0500
TZOFFSETTO:-0600
TZNAME:CST
DTSTART:20251102T070000
END:STANDARD
BEGIN:DAYLIGHT
TZOFFSETFROM:-0600
TZOFFSETTO:-0500
TZNAME:CDT
DTSTART:20260308T080000
END:DAYLIGHT
BEGIN:STANDARD
TZOFFSETFROM:-0500
TZOFFSETTO:-0600
TZNAME:CST
DTSTART:20261101T070000
END:STANDARD
BEGIN:DAYLIGHT
TZOFFSETFROM:-0600
TZOFFSETTO:-0500
TZNAME:CDT
DTSTART:20270314T080000
END:DAYLIGHT
BEGIN:STANDARD
TZOFFSETFROM:-0500
TZOFFSETTO:-0600
TZNAME:CST
DTSTART:20271107T070000
END:STANDARD
END:VTIMEZONE
BEGIN:VEVENT
DTSTART;TZID=America/Chicago:20260207T180000
DTEND;TZID=America/Chicago:20260207T200000
DTSTAMP:20260422T175957
CREATED:20231212T204044Z
LAST-MODIFIED:20260121T224014Z
UID:35844-1770487200-1770494400@mschildrensmuseum.org
SUMMARY:Love Bug Boogie
DESCRIPTION:Love Bug Boogie\nSaturday\, February 7 • 6:00pm – 8:00pm\nOn Saturday\, February 7th\, love and music will fill the air for our Love Bug Boogie fundraiser! This family-friendly Valentine’s dance will soon become your favorite heart day tradition. Pull out your festive Valentine’s attire and get ready to groove along to music\, indulge in sweet and savory bites\, make lovable crafts\, and more. Bring your little love bugs and prepare to create the sweetest memories! \nPurchase tickets\nBecome a Host or Sponsor\nTickets not included in museum membership. All parties must be accompanied by a child to attend. \nPresented by\n \nSponsors\n \nAPAC Mississippi \nCastle \n  \n 
URL:https://mschildrensmuseum.org/event/love-bug-boogie/
LOCATION:MCM-Meridian\, 403 22nd Avenue\, Meridian\, MS\, 39301\, United States
CATEGORIES:Meridian
ATTACH;FMTTYPE=image/jpeg:https://mschildrensmuseum.org/wp-content/uploads/2023/12/DSC04252-scaled.jpg
END:VEVENT
END:VCALENDAR