BEGIN:VCALENDAR
VERSION:2.0
PRODID:-//Mississippi Children&#039;s Museum - ECPv6.15.20//NONSGML v1.0//EN
CALSCALE:GREGORIAN
METHOD:PUBLISH
X-WR-CALNAME:Mississippi Children&#039;s Museum
X-ORIGINAL-URL:https://mschildrensmuseum.org
X-WR-CALDESC:Events for Mississippi Children&#039;s Museum
REFRESH-INTERVAL;VALUE=DURATION:PT1H
X-Robots-Tag:noindex
X-PUBLISHED-TTL:PT1H
BEGIN:VTIMEZONE
TZID:America/Chicago
BEGIN:DAYLIGHT
TZOFFSETFROM:-0600
TZOFFSETTO:-0500
TZNAME:CDT
DTSTART:20240310T080000
END:DAYLIGHT
BEGIN:STANDARD
TZOFFSETFROM:-0500
TZOFFSETTO:-0600
TZNAME:CST
DTSTART:20241103T070000
END:STANDARD
BEGIN:DAYLIGHT
TZOFFSETFROM:-0600
TZOFFSETTO:-0500
TZNAME:CDT
DTSTART:20250309T080000
END:DAYLIGHT
BEGIN:STANDARD
TZOFFSETFROM:-0500
TZOFFSETTO:-0600
TZNAME:CST
DTSTART:20251102T070000
END:STANDARD
BEGIN:DAYLIGHT
TZOFFSETFROM:-0600
TZOFFSETTO:-0500
TZNAME:CDT
DTSTART:20260308T080000
END:DAYLIGHT
BEGIN:STANDARD
TZOFFSETFROM:-0500
TZOFFSETTO:-0600
TZNAME:CST
DTSTART:20261101T070000
END:STANDARD
BEGIN:DAYLIGHT
TZOFFSETFROM:-0600
TZOFFSETTO:-0500
TZNAME:CDT
DTSTART:20270314T080000
END:DAYLIGHT
BEGIN:STANDARD
TZOFFSETFROM:-0500
TZOFFSETTO:-0600
TZNAME:CST
DTSTART:20271107T070000
END:STANDARD
END:VTIMEZONE
BEGIN:VEVENT
DTSTART;VALUE=DATE:20251123
DTEND;VALUE=DATE:20260105
DTSTAMP:20260423T160436
CREATED:20211004T205923Z
LAST-MODIFIED:20251215T202512Z
UID:15705-1763856000-1767571199@mschildrensmuseum.org
SUMMARY:Journey to the North Pole
DESCRIPTION:Journey to the North Pole\nJoin us November 23 – January 4 for our special holiday exhibit\, Journey to the North Pole! \nDrawing inspiration from lessons in navigation and geography along with traditional holiday literature\, Journey to the North Pole transforms the Gertrude C. Ford Exhibition Hall into a magical winter village of twinkling lights and train cars. Glide around the Puffin Pals Play Rink in your favorite pair of festive socks\, ride our thrilling 45-foot Snowflake Slide\, and cozy up by the fire inside Eudora Welty’s living room! Come experience the wonder of our new Polar Palace\, where imagination comes to life! Celebrate the season with us at Jackson’s favorite family holiday destination. \nDuring special days\, guests can snap their photo with Santa! Click here to view our upcoming Santa dates. \nJourney Events: \n\nA Very Merry Night: November 22\nJammies at Journey: December 5\nReindeer Workshops: December 5\, 14\, 20\, & 22\nRooks N’ Reindeer: December 19\n\nThe museum will be CLOSED:  \nMondays (Open for Magic Monday on Dec. 22 & 29)\nThanksgiving Day\nChristmas Eve\nChristmas Day\nNew Year’s Day \nLearn more about Journey to the North Pole
URL:https://mschildrensmuseum.org/event/journey-to-the-north-pole-2/
LOCATION:Mississippi Children’s Museum\, 2145 Museum Boulevard\, Jackson\, Mississippi\, 39202
CATEGORIES:Jackson
ATTACH;FMTTYPE=image/jpeg:https://mschildrensmuseum.org/wp-content/uploads/2021/10/20221119_VeryMerryNight_016-1-scaled.jpg
END:VEVENT
END:VCALENDAR