BEGIN:VCALENDAR
VERSION:2.0
PRODID:-//Mississippi Children&#039;s Museum - ECPv6.15.20//NONSGML v1.0//EN
CALSCALE:GREGORIAN
METHOD:PUBLISH
X-ORIGINAL-URL:https://mschildrensmuseum.org
X-WR-CALDESC:Events for Mississippi Children&#039;s Museum
REFRESH-INTERVAL;VALUE=DURATION:PT1H
X-Robots-Tag:noindex
X-PUBLISHED-TTL:PT1H
BEGIN:VTIMEZONE
TZID:America/Chicago
BEGIN:DAYLIGHT
TZOFFSETFROM:-0600
TZOFFSETTO:-0500
TZNAME:CDT
DTSTART:20250309T080000
END:DAYLIGHT
BEGIN:STANDARD
TZOFFSETFROM:-0500
TZOFFSETTO:-0600
TZNAME:CST
DTSTART:20251102T070000
END:STANDARD
BEGIN:DAYLIGHT
TZOFFSETFROM:-0600
TZOFFSETTO:-0500
TZNAME:CDT
DTSTART:20260308T080000
END:DAYLIGHT
BEGIN:STANDARD
TZOFFSETFROM:-0500
TZOFFSETTO:-0600
TZNAME:CST
DTSTART:20261101T070000
END:STANDARD
BEGIN:DAYLIGHT
TZOFFSETFROM:-0600
TZOFFSETTO:-0500
TZNAME:CDT
DTSTART:20270314T080000
END:DAYLIGHT
BEGIN:STANDARD
TZOFFSETFROM:-0500
TZOFFSETTO:-0600
TZNAME:CST
DTSTART:20271107T070000
END:STANDARD
END:VTIMEZONE
BEGIN:VEVENT
DTSTART;TZID=America/Chicago:20260425T080000
DTEND;TZID=America/Chicago:20260425T120000
DTSTAMP:20260421T140939
CREATED:20220323T173553Z
LAST-MODIFIED:20260330T181304Z
UID:23741-1777104000-1777118400@mschildrensmuseum.org
SUMMARY:Youth Summit & Life Skills Day
DESCRIPTION:Youth Summit Life Skills Day\nJoin us on April 25\, 2026 from 8 AM – 12 PM for MCM’s annual Youth Summit! High school and college students will engage with universities\, businesses\, city officials\, and community leaders during a full day of professional development focused on building leadership and essential life skills. \nOur goal is to connect you with valuable resources to support your journey through school and beyond. Prepare for an inspiring and impactful experience filled with growth\, motivation\, and empowerment—designed to equip emerging leaders with the tools they need to succeed. \nTopics for the Day: \n\nLeadership\nInfluence\nManaging Stress & Coping Strategies\nKeynote Address: “Unleash What’s Already Inside of You!” – Kayla Thompson\, WJTV\n\nIf you have any questions regarding the event\, please contact Aundreus Patterson via email aundreus@mcm.ms. \nREGISTER HERE!
URL:https://mschildrensmuseum.org/event/youth-summit/
LOCATION:Mississippi Children’s Museum\, 2145 Museum Boulevard\, Jackson\, Mississippi\, 39202
CATEGORIES:Jackson
ATTACH;FMTTYPE=image/jpeg:https://mschildrensmuseum.org/wp-content/uploads/2022/03/6T4A2228.jpg
END:VEVENT
BEGIN:VEVENT
DTSTART;TZID=America/Chicago:20260425T100000
DTEND;TZID=America/Chicago:20260425T120000
DTSTAMP:20260421T140939
CREATED:20260325T150900Z
LAST-MODIFIED:20260325T150900Z
UID:55032-1777111200-1777118400@mschildrensmuseum.org
SUMMARY:Visiting Artist: Jo Patterson
DESCRIPTION:Visting Artist: Jo Patterson\nJoin us on Saturday\, April 25\, for a special experience with our Visiting Artist\, Jo Pattersonl! \nPatterson is a member of the Teaching Artist Guild\, Craftsmen’s Guild of Mississippi\, and the Louisiana Craft Guild.  She has honed her skills as a Teaching Artist with over 30 years of teaching as a residency artist at various institutes across the United States. She is a Mixed Media artist currently exploring metalsmithing and lapidary arts designing and forging artisan jewelry. Join us for her “Collaborative Earth Day Collage” workshop. \nWorkshop Time:\n\n10:00am – 12:00pm\n\nPurchase tickets to the museum\nThis project is supported in part by funding from the Mississippi Arts Commission\, a state agency\, and the National Endowment for the Arts\, a federal agency.
URL:https://mschildrensmuseum.org/event/visiting-artist-jo-patterson-2/
LOCATION:Mississippi Children’s Museum\, 2145 Museum Boulevard\, Jackson\, Mississippi\, 39202
CATEGORIES:Jackson
ATTACH;FMTTYPE=image/jpeg:https://mschildrensmuseum.org/wp-content/uploads/2022/01/artsmart.jpeg
END:VEVENT
END:VCALENDAR