BEGIN:VCALENDAR
VERSION:2.0
PRODID:-//Mississippi Children&#039;s Museum - ECPv6.15.20//NONSGML v1.0//EN
CALSCALE:GREGORIAN
METHOD:PUBLISH
X-ORIGINAL-URL:https://mschildrensmuseum.org
X-WR-CALDESC:Events for Mississippi Children&#039;s Museum
REFRESH-INTERVAL;VALUE=DURATION:PT1H
X-Robots-Tag:noindex
X-PUBLISHED-TTL:PT1H
BEGIN:VTIMEZONE
TZID:America/Chicago
BEGIN:DAYLIGHT
TZOFFSETFROM:-0600
TZOFFSETTO:-0500
TZNAME:CDT
DTSTART:20250309T080000
END:DAYLIGHT
BEGIN:STANDARD
TZOFFSETFROM:-0500
TZOFFSETTO:-0600
TZNAME:CST
DTSTART:20251102T070000
END:STANDARD
BEGIN:DAYLIGHT
TZOFFSETFROM:-0600
TZOFFSETTO:-0500
TZNAME:CDT
DTSTART:20260308T080000
END:DAYLIGHT
BEGIN:STANDARD
TZOFFSETFROM:-0500
TZOFFSETTO:-0600
TZNAME:CST
DTSTART:20261101T070000
END:STANDARD
BEGIN:DAYLIGHT
TZOFFSETFROM:-0600
TZOFFSETTO:-0500
TZNAME:CDT
DTSTART:20270314T080000
END:DAYLIGHT
BEGIN:STANDARD
TZOFFSETFROM:-0500
TZOFFSETTO:-0600
TZNAME:CST
DTSTART:20271107T070000
END:STANDARD
END:VTIMEZONE
BEGIN:VEVENT
DTSTART;VALUE=DATE:20260309
DTEND;VALUE=DATE:20260321
DTSTAMP:20260421T193507
CREATED:20220124T195907Z
LAST-MODIFIED:20260304T152300Z
UID:20041-1773014400-1774051199@mschildrensmuseum.org
SUMMARY:LMD's Weeks of Wonder
DESCRIPTION:WeekS of Wonder\nVisit MCM-Jackson and MCM-Meridian for Weeks of Wonder during Spring Break! \nEnjoy an exciting Spring Break at Weeks of Wonder in Jackson’s award-winning LeFleur Museum District (LMD). The LMD’s four uniquely amazing museums\, located at I-55 and Lakeland Drive\, are offering special Spring Break events\, exhibits\, and discounts. Visit lefleurmuseumdistrict.com to purchase a Museum District Pass and save 25% off regular admission. \nWhen you purchase a District Pass\, head over to Mayday Ice Cream in Belhaven town center to enjoy a free kid’s scoop with any ice cream purchase! Valid March 1 – 31\, 2026. \nsteam programming March 9 – 13\, 2026\nWe have special STEAM-themed programming and activities for you to enjoy all week long! Each day a the museum we focus on a subject in STEAM… \n\nScience Monday\nTechnology Tuesday\nEngineering Wednesday – Special WonderBox Guests Martin Jue & Gilrow Chow!\nArt Thursday\nMath Friday\n\nMembers of the LeFleur Museum District: \nMississippi Museum of Natural Science | Mississippi Agriculture & Forestry Museum |  Mississippi Children’s Museum | Mississippi Sports Hall of Fame & Museum \nLearn More
URL:https://mschildrensmuseum.org/event/lmds-week-of-wonder/
LOCATION:Mississippi
CATEGORIES:Jackson
ATTACH;FMTTYPE=image/jpeg:https://mschildrensmuseum.org/wp-content/uploads/2025/10/magic-monday.jpeg
END:VEVENT
BEGIN:VEVENT
DTSTART;TZID=America/Chicago:20260312T100000
DTEND;TZID=America/Chicago:20260312T120000
DTSTAMP:20260421T193507
CREATED:20260205T221659Z
LAST-MODIFIED:20260302T180652Z
UID:53805-1773309600-1773316800@mschildrensmuseum.org
SUMMARY:Visiting Artist: Aftan Mitchell
DESCRIPTION:Visting Artist: Aftan Mitchell\nJoin us on Thursday\, March 12\, for a special experience with our Visiting Artist\, Aftan Mitchell! What started as a hobby of making gifts for friends and family soon blossomed into Mitchell’s love for crochet. She hopes her crocheted items and crafting will bring you the same connection and joy they bring her. Join us for her workshop titled\, “Loom Weaving.”  \nWorkshop Time:\n\n10:00am – 12:00pm\n\nPurchase tickets to the museum\nThis project is supported in part by funding from the Mississippi Arts Commission\, a state agency\, and the National Endowment for the Arts\, a federal agency.
URL:https://mschildrensmuseum.org/event/visiting-artist-aftan-mitchell/
LOCATION:Mississippi Children’s Museum\, 2145 Museum Boulevard\, Jackson\, Mississippi\, 39202
CATEGORIES:Jackson
ATTACH;FMTTYPE=image/jpeg:https://mschildrensmuseum.org/wp-content/uploads/2026/02/IMG_0097-e1770329806313.jpeg
END:VEVENT
END:VCALENDAR