BEGIN:VCALENDAR
VERSION:2.0
PRODID:-//Mississippi Children&#039;s Museum - ECPv6.15.20//NONSGML v1.0//EN
CALSCALE:GREGORIAN
METHOD:PUBLISH
X-WR-CALNAME:Mississippi Children&#039;s Museum
X-ORIGINAL-URL:https://mschildrensmuseum.org
X-WR-CALDESC:Events for Mississippi Children&#039;s Museum
REFRESH-INTERVAL;VALUE=DURATION:PT1H
X-Robots-Tag:noindex
X-PUBLISHED-TTL:PT1H
BEGIN:VTIMEZONE
TZID:America/Chicago
BEGIN:DAYLIGHT
TZOFFSETFROM:-0600
TZOFFSETTO:-0500
TZNAME:CDT
DTSTART:20250309T080000
END:DAYLIGHT
BEGIN:STANDARD
TZOFFSETFROM:-0500
TZOFFSETTO:-0600
TZNAME:CST
DTSTART:20251102T070000
END:STANDARD
BEGIN:DAYLIGHT
TZOFFSETFROM:-0600
TZOFFSETTO:-0500
TZNAME:CDT
DTSTART:20260308T080000
END:DAYLIGHT
BEGIN:STANDARD
TZOFFSETFROM:-0500
TZOFFSETTO:-0600
TZNAME:CST
DTSTART:20261101T070000
END:STANDARD
BEGIN:DAYLIGHT
TZOFFSETFROM:-0600
TZOFFSETTO:-0500
TZNAME:CDT
DTSTART:20270314T080000
END:DAYLIGHT
BEGIN:STANDARD
TZOFFSETFROM:-0500
TZOFFSETTO:-0600
TZNAME:CST
DTSTART:20271107T070000
END:STANDARD
END:VTIMEZONE
BEGIN:VEVENT
DTSTART;TZID=America/Chicago:20261006T100000
DTEND;TZID=America/Chicago:20261006T103000
DTSTAMP:20260421T190642
CREATED:20220718T145401Z
LAST-MODIFIED:20260113T180547Z
UID:53381-1791280800-1791282600@mschildrensmuseum.org
SUMMARY:Rocky's Book Club
DESCRIPTION:Rocky’s Book Club\nHave you met the beloved Talk From the Start mascot and literacy advocate\, Rocky the Reader? He’s a jolly pup who loves to read\, play literacy games\, and travel! Join us every week for Rocky’s Book Club as we read some of Rocky’s favorite books for children 0-5+ years old. View program page. \nProgram Schedule: \n\nTuesday at 10:00am\n\nPurchase Tickets to the museum
URL:https://mschildrensmuseum.org/event/rockys-book-club-2/2026-10-06/
LOCATION:Mississippi
CATEGORIES:Jackson
ATTACH;FMTTYPE=image/jpeg:https://mschildrensmuseum.org/wp-content/uploads/2022/02/6T4A0987-1-scaled-e1645733081769.jpg
END:VEVENT
BEGIN:VEVENT
DTSTART;TZID=America/Chicago:20261012T090000
DTEND;TZID=America/Chicago:20261012T170000
DTSTAMP:20260421T190642
CREATED:20251124T220401Z
LAST-MODIFIED:20260401T185213Z
UID:51265-1791795600-1791824400@mschildrensmuseum.org
SUMMARY:Magic Monday
DESCRIPTION:Magic Monday\nDid you know MCM is open for special\, holiday Mondays from 9am – 5pm for extra hours of inspiration and fun? Magic Monday is the perfect solution to a Monday off from school.  \nEach of these special days includes regular museum programming\, as well as a special Food Lab program at 11:00am where guests learn about making delicious and nutritious food and snacks. \nPurchase Tickets to the Museum
URL:https://mschildrensmuseum.org/event/magic-monday-30/
LOCATION:Mississippi
CATEGORIES:Jackson
ATTACH;FMTTYPE=image/jpeg:https://mschildrensmuseum.org/wp-content/uploads/2025/05/068A1828-scaled.jpg
END:VEVENT
BEGIN:VEVENT
DTSTART;TZID=America/Chicago:20261013T100000
DTEND;TZID=America/Chicago:20261013T103000
DTSTAMP:20260421T190642
CREATED:20220718T145401Z
LAST-MODIFIED:20260113T180548Z
UID:53382-1791885600-1791887400@mschildrensmuseum.org
SUMMARY:Rocky's Book Club
DESCRIPTION:Rocky’s Book Club\nHave you met the beloved Talk From the Start mascot and literacy advocate\, Rocky the Reader? He’s a jolly pup who loves to read\, play literacy games\, and travel! Join us every week for Rocky’s Book Club as we read some of Rocky’s favorite books for children 0-5+ years old. View program page. \nProgram Schedule: \n\nTuesday at 10:00am\n\nPurchase Tickets to the museum
URL:https://mschildrensmuseum.org/event/rockys-book-club-2/2026-10-13/
LOCATION:Mississippi
CATEGORIES:Jackson
ATTACH;FMTTYPE=image/jpeg:https://mschildrensmuseum.org/wp-content/uploads/2022/02/6T4A0987-1-scaled-e1645733081769.jpg
END:VEVENT
BEGIN:VEVENT
DTSTART;TZID=America/Chicago:20261020T100000
DTEND;TZID=America/Chicago:20261020T103000
DTSTAMP:20260421T190642
CREATED:20220718T145401Z
LAST-MODIFIED:20260113T180549Z
UID:53383-1792490400-1792492200@mschildrensmuseum.org
SUMMARY:Rocky's Book Club
DESCRIPTION:Rocky’s Book Club\nHave you met the beloved Talk From the Start mascot and literacy advocate\, Rocky the Reader? He’s a jolly pup who loves to read\, play literacy games\, and travel! Join us every week for Rocky’s Book Club as we read some of Rocky’s favorite books for children 0-5+ years old. View program page. \nProgram Schedule: \n\nTuesday at 10:00am\n\nPurchase Tickets to the museum
URL:https://mschildrensmuseum.org/event/rockys-book-club-2/2026-10-20/
LOCATION:Mississippi
CATEGORIES:Jackson
ATTACH;FMTTYPE=image/jpeg:https://mschildrensmuseum.org/wp-content/uploads/2022/02/6T4A0987-1-scaled-e1645733081769.jpg
END:VEVENT
BEGIN:VEVENT
DTSTART;TZID=America/Chicago:20261025T110000
DTEND;TZID=America/Chicago:20261025T130000
DTSTAMP:20260421T190642
CREATED:20240102T163552Z
LAST-MODIFIED:20240102T163552Z
UID:53166-1792926000-1792933200@mschildrensmuseum.org
SUMMARY:Sensory Friendly Hours
DESCRIPTION:Sensory Friendly Hours\nJoin the Mississippi Children’s Museum for Sensory Friendly Hours on the 4th Sunday of every month from 11am – 1pm! This is an exclusive time designed for children with sensory difficulties. Children and their caregivers can experience the museum in a new light with reduced stimuli and Sensory Inclusive Certified staff. \nDuring your visit\, you can expect:\n\nReduced crowds\, lighting\, and sounds\nSensory Kits & maps to help you navigate potentially over-stimulating exhibits\nSensory Inclusive Certified staff by KultureCity\n\nPlease contact MCM’s Director of Education and Programs\, Monique Ealey\, at monique@mcm.ms to learn more. \nPurchase Tickets
URL:https://mschildrensmuseum.org/event/sensory-friendly-hours-2/2026-10-25/
LOCATION:Mississippi Children’s Museum\, 2145 Museum Boulevard\, Jackson\, Mississippi\, 39202
CATEGORIES:Jackson
ATTACH;FMTTYPE=image/jpeg:https://mschildrensmuseum.org/wp-content/uploads/2023/06/068A9655-scaled.jpg
END:VEVENT
BEGIN:VEVENT
DTSTART;TZID=America/Chicago:20261027T100000
DTEND;TZID=America/Chicago:20261027T103000
DTSTAMP:20260421T190642
CREATED:20220718T145401Z
LAST-MODIFIED:20260113T180549Z
UID:53384-1793095200-1793097000@mschildrensmuseum.org
SUMMARY:Rocky's Book Club
DESCRIPTION:Rocky’s Book Club\nHave you met the beloved Talk From the Start mascot and literacy advocate\, Rocky the Reader? He’s a jolly pup who loves to read\, play literacy games\, and travel! Join us every week for Rocky’s Book Club as we read some of Rocky’s favorite books for children 0-5+ years old. View program page. \nProgram Schedule: \n\nTuesday at 10:00am\n\nPurchase Tickets to the museum
URL:https://mschildrensmuseum.org/event/rockys-book-club-2/2026-10-27/
LOCATION:Mississippi
CATEGORIES:Jackson
ATTACH;FMTTYPE=image/jpeg:https://mschildrensmuseum.org/wp-content/uploads/2022/02/6T4A0987-1-scaled-e1645733081769.jpg
END:VEVENT
END:VCALENDAR