BEGIN:VCALENDAR
VERSION:2.0
PRODID:-//Mississippi Children&#039;s Museum - ECPv6.15.20//NONSGML v1.0//EN
CALSCALE:GREGORIAN
METHOD:PUBLISH
X-ORIGINAL-URL:https://mschildrensmuseum.org
X-WR-CALDESC:Events for Mississippi Children&#039;s Museum
REFRESH-INTERVAL;VALUE=DURATION:PT1H
X-Robots-Tag:noindex
X-PUBLISHED-TTL:PT1H
BEGIN:VTIMEZONE
TZID:America/Chicago
BEGIN:DAYLIGHT
TZOFFSETFROM:-0600
TZOFFSETTO:-0500
TZNAME:CDT
DTSTART:20250309T080000
END:DAYLIGHT
BEGIN:STANDARD
TZOFFSETFROM:-0500
TZOFFSETTO:-0600
TZNAME:CST
DTSTART:20251102T070000
END:STANDARD
BEGIN:DAYLIGHT
TZOFFSETFROM:-0600
TZOFFSETTO:-0500
TZNAME:CDT
DTSTART:20260308T080000
END:DAYLIGHT
BEGIN:STANDARD
TZOFFSETFROM:-0500
TZOFFSETTO:-0600
TZNAME:CST
DTSTART:20261101T070000
END:STANDARD
BEGIN:DAYLIGHT
TZOFFSETFROM:-0600
TZOFFSETTO:-0500
TZNAME:CDT
DTSTART:20270314T080000
END:DAYLIGHT
BEGIN:STANDARD
TZOFFSETFROM:-0500
TZOFFSETTO:-0600
TZNAME:CST
DTSTART:20271107T070000
END:STANDARD
END:VTIMEZONE
BEGIN:VEVENT
DTSTART;VALUE=DATE:20260523
DTEND;VALUE=DATE:20260907
DTSTAMP:20260421T172748
CREATED:20260421T212633Z
LAST-MODIFIED:20260421T212633Z
UID:55779-1779494400-1788739199@mschildrensmuseum.org
SUMMARY:Measurement Rules Summer Exhibit
DESCRIPTION:Emotions at Play with Pixar’s Inside Out\nSUMMER EXHIBIT\nOpen May 23 – Sept. 6 \nEmotions at Play with Pixar’s Inside Out is open this summer at the Mississippi Children’s Museum! This interactive exhibit invites visitors of all ages to explore the important roles that emotions\, memory\, and imagination play in our everyday lives. Experience the five core emotions—joy\, sadness\, anger\, disgust\, and fear—through hands-on activities inspired by the film\, like the Control Panel\, Dream Production Studio\, and more! \nThe museum will be closed on May 25. \n\nFree for Members | $13/Person for Non-Members\nTickets Available Online or At the Door\nAccess to Summer Exhibit is included in General Admission Ticket\n\nSPECIAL EVENTS\n\nMay 21: Member Preview Night\nJune 20: Joy In Motion\nJuly 11: Peaceful Play Day\nAugust 22: Big Feelings\, Brave Hearts\n\nLearn More about this Exhibit\nPurchase Tickets to the Museum\nExhibit Sponsored by: \n   
URL:https://mschildrensmuseum.org/event/emotions-at-play-summer-exhibit/
LOCATION:Mississippi Children’s Museum\, 2145 Museum Boulevard\, Jackson\, Mississippi\, 39202
CATEGORIES:Jackson
ATTACH;FMTTYPE=image/jpeg:https://mschildrensmuseum.org/wp-content/uploads/2026/02/EAP_Overview-scaled-e1774025499151.jpg
END:VEVENT
BEGIN:VEVENT
DTSTART;VALUE=DATE:20260801
DTEND;VALUE=DATE:20260803
DTSTAMP:20260421T172748
CREATED:20250409T183617Z
LAST-MODIFIED:20260113T175504Z
UID:47387-1785542400-1785715199@mschildrensmuseum.org
SUMMARY:Splash Pad Open on Weekends
DESCRIPTION:Splash Pad Open\nOur Splash Pad will be open for play May 2 – September 6! \nCome beat the heat on MCM’s Splash Pad this summer! This experience is located on the C Spire plaza in front of the museum\, and is free and open to the public.\nPlease note the Splash Pad hours below… \nHours: May 2 – July 26\nWeather Permitting: \n\n1pm – 6pm: Sunday\n10am – 5pm: Tuesday – Saturday\n10am – 5pm: Magic Mondays in June and July\n\nClosed on Memorial Day \nHours: August 1 – SEPTEMBER 6\nWeather Permitting: \n\n10am – 5pm: Saturday\n1pm – 6pm: Sunday\n\nPlease remember to bring a towel and dry clothes for entry to the museum. Museum admission is not required to play on Splash Pad. \nPurchase Tickets to the Museum
URL:https://mschildrensmuseum.org/event/splash-pad-open-on-weekends-4/2026-08-01/
LOCATION:Mississippi
CATEGORIES:Jackson
ATTACH;FMTTYPE=image/jpeg:https://mschildrensmuseum.org/wp-content/uploads/2021/04/6T4A9975-scaled.jpg
END:VEVENT
BEGIN:VEVENT
DTSTART;TZID=America/Chicago:20260804T100000
DTEND;TZID=America/Chicago:20260804T103000
DTSTAMP:20260421T172748
CREATED:20220718T145401Z
LAST-MODIFIED:20260113T180545Z
UID:53372-1785837600-1785839400@mschildrensmuseum.org
SUMMARY:Rocky's Book Club
DESCRIPTION:Rocky’s Book Club\nHave you met the beloved Talk From the Start mascot and literacy advocate\, Rocky the Reader? He’s a jolly pup who loves to read\, play literacy games\, and travel! Join us every week for Rocky’s Book Club as we read some of Rocky’s favorite books for children 0-5+ years old. View program page. \nProgram Schedule: \n\nTuesday at 10:00am\n\nPurchase Tickets to the museum
URL:https://mschildrensmuseum.org/event/rockys-book-club-2/2026-08-04/
LOCATION:Mississippi
CATEGORIES:Jackson
ATTACH;FMTTYPE=image/jpeg:https://mschildrensmuseum.org/wp-content/uploads/2022/02/6T4A0987-1-scaled-e1645733081769.jpg
END:VEVENT
BEGIN:VEVENT
DTSTART;VALUE=DATE:20260808
DTEND;VALUE=DATE:20260810
DTSTAMP:20260421T172748
CREATED:20250409T183031Z
LAST-MODIFIED:20260113T175552Z
UID:47381-1786147200-1786319999@mschildrensmuseum.org
SUMMARY:Splash Pad Open on Weekends
DESCRIPTION:Splash Pad Open\nOur Splash Pad will be open for play May 2 – September 6! \nCome beat the heat on MCM’s Splash Pad this summer! This experience is located on the C Spire plaza in front of the museum\, and is free and open to the public.\nPlease note the Splash Pad hours below… \nHours: May 2 – July 26\nWeather Permitting: \n\n1pm – 6pm: Sunday\n10am – 5pm: Tuesday – Saturday\n10am – 5pm: Magic Mondays in June and July\n\nClosed on Memorial Day \nHours: August 1 – SEPTEMBER 6\nWeather Permitting: \n\n10am – 5pm: Saturday\n1pm – 6pm: Sunday\n\nPlease remember to bring a towel and dry clothes for entry to the museum. Museum admission is not required to play on Splash Pad. \nPurchase Tickets to the Museum
URL:https://mschildrensmuseum.org/event/splash-pad-open-on-weekends/2026-08-08/
LOCATION:Mississippi
CATEGORIES:Jackson
ATTACH;FMTTYPE=image/jpeg:https://mschildrensmuseum.org/wp-content/uploads/2021/04/6T4A9975-scaled.jpg
END:VEVENT
BEGIN:VEVENT
DTSTART;TZID=America/Chicago:20260811T100000
DTEND;TZID=America/Chicago:20260811T103000
DTSTAMP:20260421T172748
CREATED:20220718T145401Z
LAST-MODIFIED:20260113T180545Z
UID:53373-1786442400-1786444200@mschildrensmuseum.org
SUMMARY:Rocky's Book Club
DESCRIPTION:Rocky’s Book Club\nHave you met the beloved Talk From the Start mascot and literacy advocate\, Rocky the Reader? He’s a jolly pup who loves to read\, play literacy games\, and travel! Join us every week for Rocky’s Book Club as we read some of Rocky’s favorite books for children 0-5+ years old. View program page. \nProgram Schedule: \n\nTuesday at 10:00am\n\nPurchase Tickets to the museum
URL:https://mschildrensmuseum.org/event/rockys-book-club-2/2026-08-11/
LOCATION:Mississippi
CATEGORIES:Jackson
ATTACH;FMTTYPE=image/jpeg:https://mschildrensmuseum.org/wp-content/uploads/2022/02/6T4A0987-1-scaled-e1645733081769.jpg
END:VEVENT
BEGIN:VEVENT
DTSTART;VALUE=DATE:20260815
DTEND;VALUE=DATE:20260817
DTSTAMP:20260421T172748
CREATED:20250409T183307Z
LAST-MODIFIED:20260113T175630Z
UID:47383-1786752000-1786924799@mschildrensmuseum.org
SUMMARY:Splash Pad Open on Weekends
DESCRIPTION:Splash Pad Open\nOur Splash Pad will be open for play May 2 – September 6! \nCome beat the heat on MCM’s Splash Pad this summer! This experience is located on the C Spire plaza in front of the museum\, and is free and open to the public.\nPlease note the Splash Pad hours below… \nHours: May 2 – July 26\nWeather Permitting: \n\n1pm – 6pm: Sunday\n10am – 5pm: Tuesday – Saturday\n10am – 5pm: Magic Mondays in June and July\n\nClosed on Memorial Day \nHours: August 1 – SEPTEMBER 6\nWeather Permitting: \n\n10am – 5pm: Saturday\n1pm – 6pm: Sunday\n\nPlease remember to bring a towel and dry clothes for entry to the museum. Museum admission is not required to play on Splash Pad. \nPurchase Tickets to the Museum
URL:https://mschildrensmuseum.org/event/splash-pad-open-on-weekends-2/2026-08-15/
LOCATION:Mississippi
CATEGORIES:Jackson
ATTACH;FMTTYPE=image/jpeg:https://mschildrensmuseum.org/wp-content/uploads/2021/04/6T4A9975-scaled.jpg
END:VEVENT
BEGIN:VEVENT
DTSTART;TZID=America/Chicago:20260818T100000
DTEND;TZID=America/Chicago:20260818T103000
DTSTAMP:20260421T172748
CREATED:20220718T145401Z
LAST-MODIFIED:20260113T180546Z
UID:53374-1787047200-1787049000@mschildrensmuseum.org
SUMMARY:Rocky's Book Club
DESCRIPTION:Rocky’s Book Club\nHave you met the beloved Talk From the Start mascot and literacy advocate\, Rocky the Reader? He’s a jolly pup who loves to read\, play literacy games\, and travel! Join us every week for Rocky’s Book Club as we read some of Rocky’s favorite books for children 0-5+ years old. View program page. \nProgram Schedule: \n\nTuesday at 10:00am\n\nPurchase Tickets to the museum
URL:https://mschildrensmuseum.org/event/rockys-book-club-2/2026-08-18/
LOCATION:Mississippi
CATEGORIES:Jackson
ATTACH;FMTTYPE=image/jpeg:https://mschildrensmuseum.org/wp-content/uploads/2022/02/6T4A0987-1-scaled-e1645733081769.jpg
END:VEVENT
BEGIN:VEVENT
DTSTART;TZID=America/Chicago:20260823T110000
DTEND;TZID=America/Chicago:20260823T130000
DTSTAMP:20260421T172748
CREATED:20240102T163552Z
LAST-MODIFIED:20240102T163552Z
UID:53164-1787482800-1787490000@mschildrensmuseum.org
SUMMARY:Sensory Friendly Hours
DESCRIPTION:Sensory Friendly Hours\nJoin the Mississippi Children’s Museum for Sensory Friendly Hours on the 4th Sunday of every month from 11am – 1pm! This is an exclusive time designed for children with sensory difficulties. Children and their caregivers can experience the museum in a new light with reduced stimuli and Sensory Inclusive Certified staff. \nDuring your visit\, you can expect:\n\nReduced crowds\, lighting\, and sounds\nSensory Kits & maps to help you navigate potentially over-stimulating exhibits\nSensory Inclusive Certified staff by KultureCity\n\nPlease contact MCM’s Director of Education and Programs\, Monique Ealey\, at monique@mcm.ms to learn more. \nPurchase Tickets
URL:https://mschildrensmuseum.org/event/sensory-friendly-hours-2/2026-08-23/
LOCATION:Mississippi Children’s Museum\, 2145 Museum Boulevard\, Jackson\, Mississippi\, 39202
CATEGORIES:Jackson
ATTACH;FMTTYPE=image/jpeg:https://mschildrensmuseum.org/wp-content/uploads/2023/06/068A9655-scaled.jpg
END:VEVENT
BEGIN:VEVENT
DTSTART;TZID=America/Chicago:20260825T100000
DTEND;TZID=America/Chicago:20260825T103000
DTSTAMP:20260421T172748
CREATED:20220718T145401Z
LAST-MODIFIED:20260113T180546Z
UID:53375-1787652000-1787653800@mschildrensmuseum.org
SUMMARY:Rocky's Book Club
DESCRIPTION:Rocky’s Book Club\nHave you met the beloved Talk From the Start mascot and literacy advocate\, Rocky the Reader? He’s a jolly pup who loves to read\, play literacy games\, and travel! Join us every week for Rocky’s Book Club as we read some of Rocky’s favorite books for children 0-5+ years old. View program page. \nProgram Schedule: \n\nTuesday at 10:00am\n\nPurchase Tickets to the museum
URL:https://mschildrensmuseum.org/event/rockys-book-club-2/2026-08-25/
LOCATION:Mississippi
CATEGORIES:Jackson
ATTACH;FMTTYPE=image/jpeg:https://mschildrensmuseum.org/wp-content/uploads/2022/02/6T4A0987-1-scaled-e1645733081769.jpg
END:VEVENT
BEGIN:VEVENT
DTSTART;VALUE=DATE:20260831
DTEND;VALUE=DATE:20260903
DTSTAMP:20260421T172748
CREATED:20210820T162144Z
LAST-MODIFIED:20260113T180216Z
UID:14545-1788134400-1788393599@mschildrensmuseum.org
SUMMARY:CLOSED for Fall Fix Up
DESCRIPTION:Closed for Fall Fix Up\nThe museum will be closed August 31 – September 2 for Fall Fix Up. During this time\, volunteers will work to repair\, paint\, and clean the facility after a busy summer of fun! This process is necessary to keep the museum in excellent condition for visitors throughout the year.
URL:https://mschildrensmuseum.org/event/closed-for-fall-fix-up/
LOCATION:Mississippi
CATEGORIES:Jackson
ATTACH;FMTTYPE=image/jpeg:https://mschildrensmuseum.org/wp-content/uploads/2021/08/068A6854-scaled.jpg
END:VEVENT
END:VCALENDAR