BEGIN:VCALENDAR
VERSION:2.0
PRODID:-//Mississippi Children&#039;s Museum - ECPv6.15.20//NONSGML v1.0//EN
CALSCALE:GREGORIAN
METHOD:PUBLISH
X-ORIGINAL-URL:https://mschildrensmuseum.org
X-WR-CALDESC:Events for Mississippi Children&#039;s Museum
REFRESH-INTERVAL;VALUE=DURATION:PT1H
X-Robots-Tag:noindex
X-PUBLISHED-TTL:PT1H
BEGIN:VTIMEZONE
TZID:America/Chicago
BEGIN:DAYLIGHT
TZOFFSETFROM:-0600
TZOFFSETTO:-0500
TZNAME:CDT
DTSTART:20250309T080000
END:DAYLIGHT
BEGIN:STANDARD
TZOFFSETFROM:-0500
TZOFFSETTO:-0600
TZNAME:CST
DTSTART:20251102T070000
END:STANDARD
BEGIN:DAYLIGHT
TZOFFSETFROM:-0600
TZOFFSETTO:-0500
TZNAME:CDT
DTSTART:20260308T080000
END:DAYLIGHT
BEGIN:STANDARD
TZOFFSETFROM:-0500
TZOFFSETTO:-0600
TZNAME:CST
DTSTART:20261101T070000
END:STANDARD
BEGIN:DAYLIGHT
TZOFFSETFROM:-0600
TZOFFSETTO:-0500
TZNAME:CDT
DTSTART:20270314T080000
END:DAYLIGHT
BEGIN:STANDARD
TZOFFSETFROM:-0500
TZOFFSETTO:-0600
TZNAME:CST
DTSTART:20271107T070000
END:STANDARD
END:VTIMEZONE
BEGIN:VEVENT
DTSTART;VALUE=DATE:20260502
DTEND;VALUE=DATE:20260727
DTSTAMP:20260421T104500
CREATED:20210413T150705Z
LAST-MODIFIED:20260113T174243Z
UID:9311-1777680000-1785110399@mschildrensmuseum.org
SUMMARY:Splash Pad Open
DESCRIPTION:Splash Pad Open\nOur Splash Pad will be open for play May 2 – September 6! \nCome beat the heat on MCM’s Splash Pad this summer! This experience is located on the C Spire plaza in front of the museum\, and is free and open to the public.\nPlease note the Splash Pad hours below… \nHours: May 2 – July 26\nWeather Permitting: \n\n1pm – 6pm: Sunday\n10am – 5pm: Tuesday – Saturday\n10am – 5pm: Magic Mondays in June and July\n\nClosed on Memorial Day \nHours: August 1 – SEPTEMBER 6\nWeather Permitting: \n\n10am – 5pm: Saturday\n1pm – 6pm: Sunday\n\nSplash Pad Rules: \n\nUse of Splash Pad is at your own risk.\nParental or Guardian supervision is required at all times.\nNo glass allowed.\nNo running or pushing down.\nDo not carry mud\, dirt\, or sand onto the Splash Pad.\nNo pets allowed.\nPlease wear appropriate swimwear. Under garments and diapers must be covered.\nSwimwear\, Diaper Covers\, and Splash Pad accessories located inside MCM Trading Post.\nDo not change diapers on the Splash Pad.\nRestrooms are located inside MCM.\n\nPlease remember to bring a towel and dry clothes for entry to the museum. Museum admission is not required to play on Splash Pad. \nPurchase Tickets to the Museum
URL:https://mschildrensmuseum.org/event/splash-pad/
LOCATION:Mississippi Children’s Museum\, 2145 Museum Boulevard\, Jackson\, Mississippi\, 39202
CATEGORIES:Jackson
ATTACH;FMTTYPE=image/jpeg:https://mschildrensmuseum.org/wp-content/uploads/2021/04/6T4A9975-scaled.jpg
END:VEVENT
BEGIN:VEVENT
DTSTART;TZID=America/Chicago:20260601T083000
DTEND;TZID=America/Chicago:20260601T103000
DTSTAMP:20260421T104500
CREATED:20221123T153050Z
LAST-MODIFIED:20260413T172532Z
UID:29503-1780302600-1780309800@mschildrensmuseum.org
SUMMARY:WonderBox Workshop
DESCRIPTION:WonderBox Workshop: Scratch Jr. Workshop\nYoung creators will jump into the colorful world of Scratch Jr. coding as they learn the basics of programming through storytelling\, animation\, and simple games. Using drag-and-drop coding blocks\, children will design their own digital characters\, bring stories to life\, and explore how technology can turn ideas into interactive creations. Each participant will also receive Scratch coding cards to continue practicing their new skills at home. \nInformation\n\nTarget Audience: 4-8 year olds\nWhen: June 1 | 8:30am – 10:30am\n\nCost: $55 for Members / $65 for Non-Members\n\n\n\nAdditional children who want to play in the museum during this workshop? Add “Discounted General Admission” at checkout for each additional guest! (Note: Any additional guests MUST prepay online to receive the discounted admission rate.) \nMORE INFORMATION\n\nDrop off is between 8:00am – 8:30am with pick-up at the end of the workshop (Note: There is an additional fee of $5 per minute per child for any children remaining more than 5 minutes past the end of the workshop)\nSnack will be provided. (If you have a specific allergy question\, please let us know!)\n\nREGISTER HERE!\nDiscover all of our WonderBox Workshops this summer:  \nJune 1: Scratch Jr. Workshop | June 8: 3D Printing | June 15: ABC Storybook | June 22: Young Storytellers | June 29: Mystery at the Museum | July 6: Mystery at the Museum | July 13: Builder Workshop | July 20: Woodn’t You Like to Build with Me?
URL:https://mschildrensmuseum.org/event/scratchjr-workshop/
LOCATION:Mississippi Children’s Museum\, 2145 Museum Boulevard\, Jackson\, Mississippi\, 39202
CATEGORIES:Jackson
ATTACH;FMTTYPE=image/jpeg:https://mschildrensmuseum.org/wp-content/uploads/2022/11/6T4A5415-scaled.jpg
END:VEVENT
BEGIN:VEVENT
DTSTART;TZID=America/Chicago:20260602T100000
DTEND;TZID=America/Chicago:20260602T103000
DTSTAMP:20260421T104500
CREATED:20220718T145401Z
LAST-MODIFIED:20260113T180542Z
UID:53363-1780394400-1780396200@mschildrensmuseum.org
SUMMARY:Rocky's Book Club
DESCRIPTION:Rocky’s Book Club\nHave you met the beloved Talk From the Start mascot and literacy advocate\, Rocky the Reader? He’s a jolly pup who loves to read\, play literacy games\, and travel! Join us every week for Rocky’s Book Club as we read some of Rocky’s favorite books for children 0-5+ years old. View program page. \nProgram Schedule: \n\nTuesday at 10:00am\n\nPurchase Tickets to the museum
URL:https://mschildrensmuseum.org/event/rockys-book-club-2/2026-06-02/
LOCATION:Mississippi
CATEGORIES:Jackson
ATTACH;FMTTYPE=image/jpeg:https://mschildrensmuseum.org/wp-content/uploads/2022/02/6T4A0987-1-scaled-e1645733081769.jpg
END:VEVENT
BEGIN:VEVENT
DTSTART;TZID=America/Chicago:20260608T083000
DTEND;TZID=America/Chicago:20260608T110000
DTSTAMP:20260421T104500
CREATED:20260323T155618Z
LAST-MODIFIED:20260413T172542Z
UID:54835-1780907400-1780916400@mschildrensmuseum.org
SUMMARY:WonderBox Workshop
DESCRIPTION:WonderBox Workshop: 3D Printing Workshop\nFuture designers will explore the exciting world of 3D design and printing in this hands-on workshop. Using Tinkercad\, participants will learn how to design their own custom fidget toy while discovering the basics of digital modeling and engineering. Their creations will be printed using a real 3D printer\, and participants will return later to pick up their finished design. \nInformation\n\nTarget Audience: 8-11 year olds\nWhen: June 8 | 8:30am – 11:00am\n\nCost: $55 for Members / $65 for Non-Members\n\n\n\nAdditional children who want to play in the museum during this workshop? Add “Discounted General Admission” at checkout for each additional guest! (Note: Any additional guests MUST prepay online to receive the discounted admission rate.) \nMORE INFORMATION\n\nDrop off is between 8-8:30am with pick-up at the end of the workshop (Note: There is an additional fee of $5 per minute per child for any children remaining more than 5 minutes past the end of the workshop)\nSnack will be provided. (If you have a specific allergy question\, please let us know!)\n\nREGISTER HERE!\nDiscover all of our WonderBox Workshops this summer:  \nJune 1: Scratch Jr. Workshop | June 8: 3D Printing | June 15: ABC Storybook | June 22: Young Storytellers | June 29: Mystery at the Museum | July 6: Mystery at the Museum | July 13: Builder Workshop | July 20: Woodn’t You Like to Build with Me? \n 
URL:https://mschildrensmuseum.org/event/3dprinting-workshop/
LOCATION:Mississippi Children’s Museum\, 2145 Museum Boulevard\, Jackson\, Mississippi\, 39202
CATEGORIES:Jackson
ATTACH;FMTTYPE=image/jpeg:https://mschildrensmuseum.org/wp-content/uploads/2022/11/6T4A5415-scaled.jpg
END:VEVENT
BEGIN:VEVENT
DTSTART;TZID=America/Chicago:20260609T100000
DTEND;TZID=America/Chicago:20260609T103000
DTSTAMP:20260421T104500
CREATED:20220718T145401Z
LAST-MODIFIED:20260113T180542Z
UID:53364-1780999200-1781001000@mschildrensmuseum.org
SUMMARY:Rocky's Book Club
DESCRIPTION:Rocky’s Book Club\nHave you met the beloved Talk From the Start mascot and literacy advocate\, Rocky the Reader? He’s a jolly pup who loves to read\, play literacy games\, and travel! Join us every week for Rocky’s Book Club as we read some of Rocky’s favorite books for children 0-5+ years old. View program page. \nProgram Schedule: \n\nTuesday at 10:00am\n\nPurchase Tickets to the museum
URL:https://mschildrensmuseum.org/event/rockys-book-club-2/2026-06-09/
LOCATION:Mississippi
CATEGORIES:Jackson
ATTACH;FMTTYPE=image/jpeg:https://mschildrensmuseum.org/wp-content/uploads/2022/02/6T4A0987-1-scaled-e1645733081769.jpg
END:VEVENT
BEGIN:VEVENT
DTSTART;TZID=America/Chicago:20260615T083000
DTEND;TZID=America/Chicago:20260615T103000
DTSTAMP:20260421T104500
CREATED:20260323T155906Z
LAST-MODIFIED:20260413T172605Z
UID:54855-1781512200-1781519400@mschildrensmuseum.org
SUMMARY:WonderBox Workshop
DESCRIPTION:WonderBox Workshop: ABC Storybook Workshop\nYoung authors and illustrators will bring the alphabet to life as they create their very own ABC storybook. Through drawing\, storytelling\, and creative writing\, children will design pages that connect each letter to imaginative characters\, animals\, or adventures. By the end of the workshop\, every child will leave with a personalized storybook they created themselves. \nInformation\n\nTarget Audience: 4-8 year olds\nWhen: June 15 | 8:30am – 10:30am\n\nCost: $55 for Members / $65 for Non-Members\n\n\n\nAdditional children who want to play in the museum during this workshop? Add “Discounted General Admission” at checkout for each additional guest! (Note: Any additional guests MUST prepay online to receive the discounted admission rate.) \nMORE INFORMATION\n\nDrop off is between 8-8:30am with pick-up at the end of the workshop (Note: There is an additional fee of $5 per minute per child for any children remaining more than 5 minutes past the end of the workshop)\nSnack will be provided. (If you have a specific allergy question\, please let us know!)\n\nREGISTER HERE!\nDiscover all of our WonderBox Workshops this summer:  \nJune 1: Scratch Jr. Workshop | June 8: 3D Printing | June 15: ABC Storybook | June 22: Young Storytellers | June 29: Mystery at the Museum | July 6: Mystery at the Museum | July 13: Builder Workshop | July 20: Woodn’t You Like to Build with Me?
URL:https://mschildrensmuseum.org/event/abcstorybook-workshop/
LOCATION:Mississippi Children’s Museum\, 2145 Museum Boulevard\, Jackson\, Mississippi\, 39202
CATEGORIES:Jackson
ATTACH;FMTTYPE=image/jpeg:https://mschildrensmuseum.org/wp-content/uploads/2022/11/6T4A5415-scaled.jpg
END:VEVENT
BEGIN:VEVENT
DTSTART;TZID=America/Chicago:20260616T100000
DTEND;TZID=America/Chicago:20260616T103000
DTSTAMP:20260421T104500
CREATED:20220718T145401Z
LAST-MODIFIED:20260113T180542Z
UID:53365-1781604000-1781605800@mschildrensmuseum.org
SUMMARY:Rocky's Book Club
DESCRIPTION:Rocky’s Book Club\nHave you met the beloved Talk From the Start mascot and literacy advocate\, Rocky the Reader? He’s a jolly pup who loves to read\, play literacy games\, and travel! Join us every week for Rocky’s Book Club as we read some of Rocky’s favorite books for children 0-5+ years old. View program page. \nProgram Schedule: \n\nTuesday at 10:00am\n\nPurchase Tickets to the museum
URL:https://mschildrensmuseum.org/event/rockys-book-club-2/2026-06-16/
LOCATION:Mississippi
CATEGORIES:Jackson
ATTACH;FMTTYPE=image/jpeg:https://mschildrensmuseum.org/wp-content/uploads/2022/02/6T4A0987-1-scaled-e1645733081769.jpg
END:VEVENT
BEGIN:VEVENT
DTSTART;TZID=America/Chicago:20260618T160000
DTEND;TZID=America/Chicago:20260618T200000
DTSTAMP:20260421T104500
CREATED:20250428T152401Z
LAST-MODIFIED:20260331T153405Z
UID:47653-1781798400-1781812800@mschildrensmuseum.org
SUMMARY:Picnic in the Park
DESCRIPTION:Join us at the LeFleur’s Bluff Playground on June 18 from 4:00pm – 8:00pm! MCM is partnering with MDWFP’s Museum of Natural Science for a family-friendly evening. Participate in outdoor activities led by museum staff members and enjoy yummy bites from food trucks and Spotter’s Snack Shack. Bring your kites\, picnic blankets\, and excitement—an unforgettable afternoon of fun awaits! \nThis event is free and open to the public. \nPlease note: While all park activities are free\, food from food trucks and admission to the museums will require separate purchase. \nPURCHASE TICKETS TO THE MUSEUM
URL:https://mschildrensmuseum.org/event/picnic-in-the-park/
LOCATION:LeFleur’s Bluff Complex
CATEGORIES:Jackson
ATTACH;FMTTYPE=image/jpeg:https://mschildrensmuseum.org/wp-content/uploads/2025/04/20250524-Picnic-1-e1774971050226.jpg
END:VEVENT
BEGIN:VEVENT
DTSTART;TZID=America/Chicago:20260622T083000
DTEND;TZID=America/Chicago:20260622T110000
DTSTAMP:20260421T104500
CREATED:20260323T165024Z
LAST-MODIFIED:20260413T172624Z
UID:54861-1782117000-1782126000@mschildrensmuseum.org
SUMMARY:WonderBox Workshop
DESCRIPTION:WonderBox Workshop: Young Authors Workshop\nYoung storytellers will step into the role of author and illustrator as they create their own original story filled with imaginative twists and creative characters. Using Polaroid cameras and the museum as inspiration\, participants will capture images and turn them into key story elements such as plot\, character\, and setting. By the end of the workshop\, each participant will leave with a personalized storybook they created themselves. \nInformation\n\nTarget Audience: 8-11 year olds\nWhen: June 22 | 8:30am – 11:00am\n\nCost: $55 for Members / $65 for Non-Members\n\n\n\nAdditional children who want to play in the museum during this workshop? Add “Discounted General Admission” at checkout for each additional guest! (Note: Any additional guests MUST prepay online to receive the discounted admission rate.) \nMORE INFORMATION\n\nDrop off is between 8-8:30am with pick-up at the end of the workshop (Note: There is an additional fee of $5 per minute per child for any children remaining more than 5 minutes past the end of the workshop)\nSnack will be provided. (If you have a specific allergy question\, please let us know!)\n\nREGISTER HERE!\nDiscover all of our WonderBox Workshops this summer:  \nJune 1: Scratch Jr. Workshop | June 8: 3D Printing | June 15: ABC Storybook | June 22: Young Storytellers | June 29: Mystery at the Museum | July 6: Mystery at the Museum | July 13: Builder Workshop | July 20: Woodn’t You Like to Build with Me?
URL:https://mschildrensmuseum.org/event/young-authors-workshop/
LOCATION:Mississippi Children’s Museum\, 2145 Museum Boulevard\, Jackson\, Mississippi\, 39202
CATEGORIES:Jackson
ATTACH;FMTTYPE=image/jpeg:https://mschildrensmuseum.org/wp-content/uploads/2022/11/6T4A5415-scaled.jpg
END:VEVENT
BEGIN:VEVENT
DTSTART;TZID=America/Chicago:20260623T100000
DTEND;TZID=America/Chicago:20260623T103000
DTSTAMP:20260421T104500
CREATED:20220718T145401Z
LAST-MODIFIED:20260113T180543Z
UID:53366-1782208800-1782210600@mschildrensmuseum.org
SUMMARY:Rocky's Book Club
DESCRIPTION:Rocky’s Book Club\nHave you met the beloved Talk From the Start mascot and literacy advocate\, Rocky the Reader? He’s a jolly pup who loves to read\, play literacy games\, and travel! Join us every week for Rocky’s Book Club as we read some of Rocky’s favorite books for children 0-5+ years old. View program page. \nProgram Schedule: \n\nTuesday at 10:00am\n\nPurchase Tickets to the museum
URL:https://mschildrensmuseum.org/event/rockys-book-club-2/2026-06-23/
LOCATION:Mississippi
CATEGORIES:Jackson
ATTACH;FMTTYPE=image/jpeg:https://mschildrensmuseum.org/wp-content/uploads/2022/02/6T4A0987-1-scaled-e1645733081769.jpg
END:VEVENT
BEGIN:VEVENT
DTSTART;TZID=America/Chicago:20260628T110000
DTEND;TZID=America/Chicago:20260628T130000
DTSTAMP:20260421T104500
CREATED:20240102T163552Z
LAST-MODIFIED:20251227T031626Z
UID:49270-1782644400-1782651600@mschildrensmuseum.org
SUMMARY:Sensory Friendly Hours
DESCRIPTION:Sensory Friendly Hours\nJoin the Mississippi Children’s Museum for Sensory Friendly Hours on the 4th Sunday of every month from 11am – 1pm! This is an exclusive time designed for children with sensory difficulties. Children and their caregivers can experience the museum in a new light with reduced stimuli and Sensory Inclusive Certified staff. \nDuring your visit\, you can expect:\n\nReduced crowds\, lighting\, and sounds\nSensory Kits & maps to help you navigate potentially over-stimulating exhibits\nSensory Inclusive Certified staff by KultureCity\n\nPlease contact MCM’s Director of Education and Programs\, Monique Ealey\, at monique@mcm.ms to learn more. \nPurchase Tickets
URL:https://mschildrensmuseum.org/event/sensory-friendly-hours-2/2026-06-28/
LOCATION:Mississippi Children’s Museum\, 2145 Museum Boulevard\, Jackson\, Mississippi\, 39202
CATEGORIES:Jackson
ATTACH;FMTTYPE=image/jpeg:https://mschildrensmuseum.org/wp-content/uploads/2023/06/068A9655-scaled.jpg
END:VEVENT
BEGIN:VEVENT
DTSTART;TZID=America/Chicago:20260629T083000
DTEND;TZID=America/Chicago:20260629T100000
DTSTAMP:20260421T104500
CREATED:20260323T165444Z
LAST-MODIFIED:20260413T172645Z
UID:54864-1782721800-1782727200@mschildrensmuseum.org
SUMMARY:WonderBox Workshop
DESCRIPTION:WonderBox Workshop: Mystery at the Museum | Help Rocky Find his Fishing Pole\nEscape Room Style Experience \nSomething mysterious has happened\, Rocky’s fishing pole has gone missing! Young detectives will work together to solve clues\, complete challenges\, and unlock puzzles as they track down the missing item. This interactive escape-room style adventure encourages teamwork\, creative thinking\, and problem-solving as participants follow the trail of clues. \nInformation\n\nTarget Audience: 4-8 year olds\nWhen: June 29 | 8:30am – 10:00am\n\nCost: $50 for Members / $60 for Non-Members\n\n\n\nAdditional children who want to play in the museum during this workshop? Add “Discounted General Admission” at checkout for each additional guest! (Note: Any additional guests MUST prepay online to receive the discounted admission rate.) \nMORE INFORMATION\n\nDrop off is between 8-8:30am with pick-up at the end of the workshop (Note: There is an additional fee of $5 per minute per child for any children remaining more than 5 minutes past the end of the workshop)\nSnack will be provided. (If you have a specific allergy question\, please let us know!)\n\nREGISTER HERE!\nDiscover all of our WonderBox Workshops this summer:  \nJune 1: Scratch Jr. Workshop | June 8: 3D Printing | June 15: ABC Storybook | June 22: Young Storytellers | June 29: Mystery at the Museum | July 6: Mystery at the Museum | July 13: Builder Workshop | July 20: Woodn’t You Like to Build with Me?
URL:https://mschildrensmuseum.org/event/mystery-at-the-museum/
LOCATION:Mississippi Children’s Museum\, 2145 Museum Boulevard\, Jackson\, Mississippi\, 39202
CATEGORIES:Jackson
ATTACH;FMTTYPE=image/jpeg:https://mschildrensmuseum.org/wp-content/uploads/2022/11/6T4A5415-scaled.jpg
END:VEVENT
BEGIN:VEVENT
DTSTART;TZID=America/Chicago:20260630T100000
DTEND;TZID=America/Chicago:20260630T103000
DTSTAMP:20260421T104500
CREATED:20220718T145401Z
LAST-MODIFIED:20260113T180543Z
UID:53367-1782813600-1782815400@mschildrensmuseum.org
SUMMARY:Rocky's Book Club
DESCRIPTION:Rocky’s Book Club\nHave you met the beloved Talk From the Start mascot and literacy advocate\, Rocky the Reader? He’s a jolly pup who loves to read\, play literacy games\, and travel! Join us every week for Rocky’s Book Club as we read some of Rocky’s favorite books for children 0-5+ years old. View program page. \nProgram Schedule: \n\nTuesday at 10:00am\n\nPurchase Tickets to the museum
URL:https://mschildrensmuseum.org/event/rockys-book-club-2/2026-06-30/
LOCATION:Mississippi
CATEGORIES:Jackson
ATTACH;FMTTYPE=image/jpeg:https://mschildrensmuseum.org/wp-content/uploads/2022/02/6T4A0987-1-scaled-e1645733081769.jpg
END:VEVENT
END:VCALENDAR