BEGIN:VCALENDAR
VERSION:2.0
PRODID:-//Mississippi Children&#039;s Museum - ECPv6.15.20//NONSGML v1.0//EN
CALSCALE:GREGORIAN
METHOD:PUBLISH
X-WR-CALNAME:Mississippi Children&#039;s Museum
X-ORIGINAL-URL:https://mschildrensmuseum.org
X-WR-CALDESC:Events for Mississippi Children&#039;s Museum
REFRESH-INTERVAL;VALUE=DURATION:PT1H
X-Robots-Tag:noindex
X-PUBLISHED-TTL:PT1H
BEGIN:VTIMEZONE
TZID:America/Chicago
BEGIN:DAYLIGHT
TZOFFSETFROM:-0600
TZOFFSETTO:-0500
TZNAME:CDT
DTSTART:20240310T080000
END:DAYLIGHT
BEGIN:STANDARD
TZOFFSETFROM:-0500
TZOFFSETTO:-0600
TZNAME:CST
DTSTART:20241103T070000
END:STANDARD
BEGIN:DAYLIGHT
TZOFFSETFROM:-0600
TZOFFSETTO:-0500
TZNAME:CDT
DTSTART:20250309T080000
END:DAYLIGHT
BEGIN:STANDARD
TZOFFSETFROM:-0500
TZOFFSETTO:-0600
TZNAME:CST
DTSTART:20251102T070000
END:STANDARD
BEGIN:DAYLIGHT
TZOFFSETFROM:-0600
TZOFFSETTO:-0500
TZNAME:CDT
DTSTART:20260308T080000
END:DAYLIGHT
BEGIN:STANDARD
TZOFFSETFROM:-0500
TZOFFSETTO:-0600
TZNAME:CST
DTSTART:20261101T070000
END:STANDARD
END:VTIMEZONE
BEGIN:VEVENT
DTSTART;TZID=America/Chicago:20250713T140000
DTEND;TZID=America/Chicago:20250713T160000
DTSTAMP:20260423T042359
CREATED:20250609T172703Z
LAST-MODIFIED:20250611T150258Z
UID:48913-1752415200-1752422400@mschildrensmuseum.org
SUMMARY:Gabby's Dollhouse Meet & Greet
DESCRIPTION:MCM – Meridian is participating in Meowseum Discovery Days! Join us every weekend* in June and July for Gabby’s Dollhouse themed activities in Wonderbox. \nGabby’s Meet & Greet\nJune 22 & July 13 | 2PM – 4PM \n\nPhoto-ops – don’t forget to wear all your favorite Gabby’s Dollhouse gear!\nGiveaways\nWonderbox Activities\n\nBe sure to tag us @mcmmeridian with #MEOWseumDiscoveryDays \n* Event Saturdays will not have Gabby’s Dollhouse activities (Juneteenth\, Patriotic Day\, Harry Potter Day) \n  \n 
URL:https://mschildrensmuseum.org/event/gabbys-dollhouse-meet-greet/2025-07-13/
CATEGORIES:Meridian
ATTACH;FMTTYPE=image/jpeg:https://mschildrensmuseum.org/wp-content/uploads/2025/01/6T4A7137-scaled-e1736878936351.jpg
END:VEVENT
BEGIN:VEVENT
DTSTART;TZID=America/Chicago:20250622T140000
DTEND;TZID=America/Chicago:20250622T160000
DTSTAMP:20260423T042359
CREATED:20250609T172703Z
LAST-MODIFIED:20250611T150257Z
UID:48911-1750600800-1750608000@mschildrensmuseum.org
SUMMARY:Gabby's Dollhouse Meet & Greet
DESCRIPTION:MCM – Meridian is participating in Meowseum Discovery Days! Join us every weekend* in June and July for Gabby’s Dollhouse themed activities in Wonderbox. \nGabby’s Meet & Greet\nJune 22 & July 13 | 2PM – 4PM \n\nPhoto-ops – don’t forget to wear all your favorite Gabby’s Dollhouse gear!\nGiveaways\nWonderbox Activities\n\nBe sure to tag us @mcmmeridian with #MEOWseumDiscoveryDays \n* Event Saturdays will not have Gabby’s Dollhouse activities (Juneteenth\, Patriotic Day\, Harry Potter Day) \n  \n 
URL:https://mschildrensmuseum.org/event/gabbys-dollhouse-meet-greet/2025-06-22/
CATEGORIES:Meridian
ATTACH;FMTTYPE=image/jpeg:https://mschildrensmuseum.org/wp-content/uploads/2025/01/6T4A7137-scaled-e1736878936351.jpg
END:VEVENT
END:VCALENDAR