BEGIN:VCALENDAR
VERSION:2.0
PRODID:-//Mississippi Children&#039;s Museum - ECPv6.15.20//NONSGML v1.0//EN
CALSCALE:GREGORIAN
METHOD:PUBLISH
X-ORIGINAL-URL:https://mschildrensmuseum.org
X-WR-CALDESC:Events for Mississippi Children&#039;s Museum
REFRESH-INTERVAL;VALUE=DURATION:PT1H
X-Robots-Tag:noindex
X-PUBLISHED-TTL:PT1H
BEGIN:VTIMEZONE
TZID:America/Chicago
BEGIN:DAYLIGHT
TZOFFSETFROM:-0600
TZOFFSETTO:-0500
TZNAME:CDT
DTSTART:20250309T080000
END:DAYLIGHT
BEGIN:STANDARD
TZOFFSETFROM:-0500
TZOFFSETTO:-0600
TZNAME:CST
DTSTART:20251102T070000
END:STANDARD
BEGIN:DAYLIGHT
TZOFFSETFROM:-0600
TZOFFSETTO:-0500
TZNAME:CDT
DTSTART:20260308T080000
END:DAYLIGHT
BEGIN:STANDARD
TZOFFSETFROM:-0500
TZOFFSETTO:-0600
TZNAME:CST
DTSTART:20261101T070000
END:STANDARD
BEGIN:DAYLIGHT
TZOFFSETFROM:-0600
TZOFFSETTO:-0500
TZNAME:CDT
DTSTART:20270314T080000
END:DAYLIGHT
BEGIN:STANDARD
TZOFFSETFROM:-0500
TZOFFSETTO:-0600
TZNAME:CST
DTSTART:20271107T070000
END:STANDARD
END:VTIMEZONE
BEGIN:VEVENT
DTSTART;TZID=America/Chicago:20260704T090000
DTEND;TZID=America/Chicago:20260704T130000
DTSTAMP:20260423T093518
CREATED:20220617T202503Z
LAST-MODIFIED:20260421T211939Z
UID:26274-1783155600-1783170000@mschildrensmuseum.org
SUMMARY:Patriotic Day
DESCRIPTION:Patriotic Day\nCelebrate America’s 250th birthday at the museum! Join us in your patriotic best for a star-spangled birthday bash\, sure to go down in the history books! \n*Museum will close at 2:00pm on July 4\, 2026 \nPrograms & Activities\n10:00am – 1:00pm: Costumed Characters from the Daughters of the American Revolution\n11:00am & 12:30pm: Fife & Drum Parade\n10:30am & 11:30am: Musical Performances\n9:00am – 1:00pm: Patriotic Craft Stations\n12:00pm: Confetti and Cupcakes\n1:00pm: Popsicles on the Plaza \n\nRed Rocket Café Special Menu:\nHamburgers\, Hot Dogs and Apple Pie Milkshakes\n*additional purchase required \n  \nPurchase tickets to the museum
URL:https://mschildrensmuseum.org/event/patriotic-day-2/
CATEGORIES:Jackson
ATTACH;FMTTYPE=image/jpeg:https://mschildrensmuseum.org/wp-content/uploads/2022/06/068A0244-scaled.jpg
END:VEVENT
END:VCALENDAR