BEGIN:VCALENDAR
VERSION:2.0
PRODID:-//Mississippi Children&#039;s Museum - ECPv6.15.20//NONSGML v1.0//EN
CALSCALE:GREGORIAN
METHOD:PUBLISH
X-ORIGINAL-URL:https://mschildrensmuseum.org
X-WR-CALDESC:Events for Mississippi Children&#039;s Museum
REFRESH-INTERVAL;VALUE=DURATION:PT1H
X-Robots-Tag:noindex
X-PUBLISHED-TTL:PT1H
BEGIN:VTIMEZONE
TZID:America/Chicago
BEGIN:DAYLIGHT
TZOFFSETFROM:-0600
TZOFFSETTO:-0500
TZNAME:CDT
DTSTART:20240310T080000
END:DAYLIGHT
BEGIN:STANDARD
TZOFFSETFROM:-0500
TZOFFSETTO:-0600
TZNAME:CST
DTSTART:20241103T070000
END:STANDARD
BEGIN:DAYLIGHT
TZOFFSETFROM:-0600
TZOFFSETTO:-0500
TZNAME:CDT
DTSTART:20250309T080000
END:DAYLIGHT
BEGIN:STANDARD
TZOFFSETFROM:-0500
TZOFFSETTO:-0600
TZNAME:CST
DTSTART:20251102T070000
END:STANDARD
BEGIN:DAYLIGHT
TZOFFSETFROM:-0600
TZOFFSETTO:-0500
TZNAME:CDT
DTSTART:20260308T080000
END:DAYLIGHT
BEGIN:STANDARD
TZOFFSETFROM:-0500
TZOFFSETTO:-0600
TZNAME:CST
DTSTART:20261101T070000
END:STANDARD
END:VTIMEZONE
BEGIN:VEVENT
DTSTART;TZID=America/Chicago:20251205T173000
DTEND;TZID=America/Chicago:20251205T193000
DTSTAMP:20260423T135927
CREATED:20211004T203854Z
LAST-MODIFIED:20251204T171227Z
UID:15668-1764955800-1764963000@mschildrensmuseum.org
SUMMARY:Jammies at Journey
DESCRIPTION:Jammies at Journey\nJoin us on December 5 from 5:30-7:30pm for Jammies at Journey! Wear your most festive pajamas\, take a family photo with Santa\, and help kick off everyone’s favorite holiday exhibit\, Journey to the North Pole! With extra special hours of fun and holiday programming\, this is an event you won’t want to miss! \n\nFree for MCM Members\n$13/person for Non-Members\n\nHoliday Programming\n\nAdvent Calendars\nPaper Snowflakes\n3D Pen Snowflakes – *member exclusive activity\nSanta Letter Writing\nStorytimes\nFluffy Snow Slime\n\nJoin us for our additional late night at the museum on December 19. Click here to learn more! \nLearn More about Journey to the North Pole
URL:https://mschildrensmuseum.org/event/jammies-at-journey/
CATEGORIES:Jackson
ATTACH;FMTTYPE=image/jpeg:https://mschildrensmuseum.org/wp-content/uploads/2021/10/20221119_VeryMerryNight_544-scaled.jpg
END:VEVENT
END:VCALENDAR