BEGIN:VCALENDAR
VERSION:2.0
PRODID:-//Mississippi Children&#039;s Museum - ECPv6.15.20//NONSGML v1.0//EN
CALSCALE:GREGORIAN
METHOD:PUBLISH
X-ORIGINAL-URL:https://mschildrensmuseum.org
X-WR-CALDESC:Events for Mississippi Children&#039;s Museum
REFRESH-INTERVAL;VALUE=DURATION:PT1H
X-Robots-Tag:noindex
X-PUBLISHED-TTL:PT1H
BEGIN:VTIMEZONE
TZID:America/Chicago
BEGIN:DAYLIGHT
TZOFFSETFROM:-0600
TZOFFSETTO:-0500
TZNAME:CDT
DTSTART:20210314T080000
END:DAYLIGHT
BEGIN:STANDARD
TZOFFSETFROM:-0500
TZOFFSETTO:-0600
TZNAME:CST
DTSTART:20211107T070000
END:STANDARD
BEGIN:DAYLIGHT
TZOFFSETFROM:-0600
TZOFFSETTO:-0500
TZNAME:CDT
DTSTART:20220313T080000
END:DAYLIGHT
BEGIN:STANDARD
TZOFFSETFROM:-0500
TZOFFSETTO:-0600
TZNAME:CST
DTSTART:20221106T070000
END:STANDARD
BEGIN:DAYLIGHT
TZOFFSETFROM:-0600
TZOFFSETTO:-0500
TZNAME:CDT
DTSTART:20230312T080000
END:DAYLIGHT
BEGIN:STANDARD
TZOFFSETFROM:-0500
TZOFFSETTO:-0600
TZNAME:CST
DTSTART:20231105T070000
END:STANDARD
END:VTIMEZONE
BEGIN:VEVENT
DTSTART;TZID=America/Chicago:20221018T173000
DTEND;TZID=America/Chicago:20221018T191500
DTSTAMP:20260423T074858
CREATED:20210921T214928Z
LAST-MODIFIED:20220923T151513Z
UID:15374-1666114200-1666120500@mschildrensmuseum.org
SUMMARY:Play. Eat. Learn.
DESCRIPTION:“World of Worry: Shedding Light on Anxiety in Children”\nWith Gabrielle Banks\, PhD \nJoin us for our “Play. Eat. Learn.” workshop\, on October 18! The Play. Eat. Learn. series was founded through a collaboration between Center for Advancement of Youth and the Junior League of Jackson. This educational learning series is geared towards helping parents and caregivers understand the complex mind of a child.  This program presents a wonderful opportunity for the community to learn more about the pressing issues and needs that children and families face from experts in the field. \n\nThis free educational series is open to the community. \nDinner will be provided (first-come\, first-served).\nChildcare is available for ages 3-10. \nChildren will be allowed to play in the museum with supervision provided by members of the Junior League of Jackson while parents attend the program.\nDinner is from 5:30-6:00 and the presentation is from 6:00-7:15\n\nPlay. Eat. Learn. is sponsored by the Junior League of Jackson and in Partnership with the Center for the Advancement of Youth \n \n \nLearn more about this program
URL:https://mschildrensmuseum.org/event/play-eat-learn-2/
LOCATION:MCM\, 2145 Museum Boulevard\, Jackson\, MS\, 39202\, United States
CATEGORIES:Jackson
ATTACH;FMTTYPE=image/jpeg:https://mschildrensmuseum.org/wp-content/uploads/2021/09/6T4A9079-scaled-e1641313965397.jpg
END:VEVENT
BEGIN:VEVENT
DTSTART;TZID=America/Chicago:20220221T090000
DTEND;TZID=America/Chicago:20220221T140000
DTSTAMP:20260423T074858
CREATED:20220128T174109Z
LAST-MODIFIED:20220128T174230Z
UID:20295-1645434000-1645452000@mschildrensmuseum.org
SUMMARY:Professional Development Workshop
DESCRIPTION:Professional Development Workshop\nFebruary 21\, 2022 – Wild About Reading \nExplore the importance of auditory learning\, learn teaching tactics for expressive teaching and use literature for cross-curricular instruction. This workshop uses visual and performing arts\, and inexpensive technology to teach standards-based story elements to students. \nE-mail Director of Education and Programs\, Monique Ealey for more information at monique@mcm.ms. \nLearn more and sign up
URL:https://mschildrensmuseum.org/event/professional-development-workshop-2/
LOCATION:MCM\, 2145 Museum Boulevard\, Jackson\, MS\, 39202\, United States
CATEGORIES:Jackson
ATTACH;FMTTYPE=image/jpeg:https://mschildrensmuseum.org/wp-content/uploads/2022/01/6T4A4009-scaled.jpg
END:VEVENT
END:VCALENDAR