BEGIN:VCALENDAR
VERSION:2.0
PRODID:-//Mississippi Children&#039;s Museum - ECPv6.15.20//NONSGML v1.0//EN
CALSCALE:GREGORIAN
METHOD:PUBLISH
X-WR-CALNAME:Mississippi Children&#039;s Museum
X-ORIGINAL-URL:https://mschildrensmuseum.org
X-WR-CALDESC:Events for Mississippi Children&#039;s Museum
REFRESH-INTERVAL;VALUE=DURATION:PT1H
X-Robots-Tag:noindex
X-PUBLISHED-TTL:PT1H
BEGIN:VTIMEZONE
TZID:America/Chicago
BEGIN:DAYLIGHT
TZOFFSETFROM:-0600
TZOFFSETTO:-0500
TZNAME:CDT
DTSTART:20230312T080000
END:DAYLIGHT
BEGIN:STANDARD
TZOFFSETFROM:-0500
TZOFFSETTO:-0600
TZNAME:CST
DTSTART:20231105T070000
END:STANDARD
BEGIN:DAYLIGHT
TZOFFSETFROM:-0600
TZOFFSETTO:-0500
TZNAME:CDT
DTSTART:20240310T080000
END:DAYLIGHT
BEGIN:STANDARD
TZOFFSETFROM:-0500
TZOFFSETTO:-0600
TZNAME:CST
DTSTART:20241103T070000
END:STANDARD
BEGIN:DAYLIGHT
TZOFFSETFROM:-0600
TZOFFSETTO:-0500
TZNAME:CDT
DTSTART:20250309T080000
END:DAYLIGHT
BEGIN:STANDARD
TZOFFSETFROM:-0500
TZOFFSETTO:-0600
TZNAME:CST
DTSTART:20251102T070000
END:STANDARD
BEGIN:DAYLIGHT
TZOFFSETFROM:-0600
TZOFFSETTO:-0500
TZNAME:CDT
DTSTART:20260308T080000
END:DAYLIGHT
BEGIN:STANDARD
TZOFFSETFROM:-0500
TZOFFSETTO:-0600
TZNAME:CST
DTSTART:20261101T070000
END:STANDARD
END:VTIMEZONE
BEGIN:VEVENT
DTSTART;VALUE=DATE:20250103
DTEND;VALUE=DATE:20250104
DTSTAMP:20260423T181625
CREATED:20241029T150207Z
LAST-MODIFIED:20241029T150207Z
UID:44430-1735862400-1735948799@mschildrensmuseum.org
SUMMARY:Camp Hogwarts
DESCRIPTION:Camp Hogwarts\nThe Mississippi Children’s Museum – Meridian is offering Camp Hogwarts on January 3\, 2025! \nStep into a world of enchantment at Camp Hogwarts\, a thrilling one-day adventure for young witches and wizards! Immerse yourself in the magical universe of Harry Potter as you experience a day filled with spells\, potions\, and unforgettable fun. \nThis day camp will run from 8:00am to 5:00pm\, and is appropriate for children ages 5-10 years old. \n Click here for details! 
URL:https://mschildrensmuseum.org/event/camp-hogwarts/
LOCATION:MCM-Meridian\, 403 22nd Avenue\, Meridian\, MS\, 39301\, United States
CATEGORIES:Meridian
ATTACH;FMTTYPE=image/jpeg:https://mschildrensmuseum.org/wp-content/uploads/2024/10/6T4A7137.jpg
END:VEVENT
BEGIN:VEVENT
DTSTART;VALUE=DATE:20241230
DTEND;VALUE=DATE:20241231
DTSTAMP:20260423T181625
CREATED:20241029T150042Z
LAST-MODIFIED:20241029T150042Z
UID:44428-1735516800-1735603199@mschildrensmuseum.org
SUMMARY:New Year Around the World Camp
DESCRIPTION:New Year Around the World Camp\nThe Mississippi Children’s Museum – Meridian is offering New Year Around the World Day Camp on December 30\, 2024! \nKick off the new year with a bang at our exciting New Year Around the World Camp! This adventure invites young explorers to discover and celebrate the unique customs and festivities that different cultures embrace as they welcome the new year. \nThis day camp will run from 8:00am to 5:00pm\, and is appropriate for children ages 5-10 years old. \n Click here for details! 
URL:https://mschildrensmuseum.org/event/new-year-around-the-world/
LOCATION:MCM-Meridian\, 403 22nd Avenue\, Meridian\, MS\, 39301\, United States
CATEGORIES:Meridian
ATTACH;FMTTYPE=image/jpeg:https://mschildrensmuseum.org/wp-content/uploads/2024/10/6T4A7137.jpg
END:VEVENT
BEGIN:VEVENT
DTSTART;VALUE=DATE:20241227
DTEND;VALUE=DATE:20241228
DTSTAMP:20260423T181625
CREATED:20241029T145830Z
LAST-MODIFIED:20241029T145849Z
UID:44426-1735257600-1735343999@mschildrensmuseum.org
SUMMARY:Ice Ice Baby Camp
DESCRIPTION:Ice Ice Baby Camp\nThe Mississippi Children’s Museum – Meridian is offering Ice Ice Baby Camp on December 27\, 2024! \nBundle up and join us for an unforgettable winter experience at our Ice Ice Baby Winter Camp! This camp promises a fun-filled week of chilly adventures\, experiments\, and exploration in a magical winter setting. \nThis day camp will run from 8:00am to 5:00pm\, and is appropriate for children ages 5-10 years old. \n Click here for details! 
URL:https://mschildrensmuseum.org/event/ice-ice-baby-camp/
LOCATION:MCM-Meridian\, 403 22nd Avenue\, Meridian\, MS\, 39301\, United States
CATEGORIES:Meridian
ATTACH;FMTTYPE=image/jpeg:https://mschildrensmuseum.org/wp-content/uploads/2024/10/6T4A7137.jpg
END:VEVENT
BEGIN:VEVENT
DTSTART;VALUE=DATE:20241223
DTEND;VALUE=DATE:20241224
DTSTAMP:20260423T181625
CREATED:20241029T145536Z
LAST-MODIFIED:20241029T145536Z
UID:44423-1734912000-1734998399@mschildrensmuseum.org
SUMMARY:Holiday Magic Camp
DESCRIPTION:Holiday Magic Camp\nThe Mississippi Children’s Museum – Meridian is offering a Holiday Magic Camp on December 23\, 2024! \nUnleash your creativity and curiosity at our enchanting one-day STEAM camp\, “Holiday Magic!” Dive into hands-on activities that explore the science and more behind winter wonders! \nThis day camp will run from 8:00am to 5:00pm\, and is appropriate for children ages 5-10 years old. \n Click here for details! 
URL:https://mschildrensmuseum.org/event/holiday-magic-camp/
LOCATION:MCM-Meridian\, 403 22nd Avenue\, Meridian\, MS\, 39301\, United States
CATEGORIES:Meridian
ATTACH;FMTTYPE=image/jpeg:https://mschildrensmuseum.org/wp-content/uploads/2024/10/6T4A7137.jpg
END:VEVENT
BEGIN:VEVENT
DTSTART;VALUE=DATE:20241126
DTEND;VALUE=DATE:20241127
DTSTAMP:20260423T181625
CREATED:20241029T145401Z
LAST-MODIFIED:20241029T145603Z
UID:44421-1732579200-1732665599@mschildrensmuseum.org
SUMMARY:NASA ASTRO Camp
DESCRIPTION:NASA ASTRO Camp\nThe Mississippi Children’s Museum – Meridian is offering a NASA ASTRO Camp on November 26\, 2024! \nBlast off with us to NASA ASTRO Camp\, where young astronauts will embark on an adventure through the cosmos! Don’t miss this opportunity to explore the final frontier and ignite your passion for space science! This hands-on experience will immerse campers in the exciting world of space science\, technology\, and exploration\, inspired by NASA’s groundbreaking missions. \nThis day camp will run from 8:00am to 5:00pm\, and is appropriate for children ages 5-10 years old. \n Click here for details! 
URL:https://mschildrensmuseum.org/event/nasa-astro-camp/
LOCATION:MCM-Meridian\, 403 22nd Avenue\, Meridian\, MS\, 39301\, United States
CATEGORIES:Meridian
ATTACH;FMTTYPE=image/jpeg:https://mschildrensmuseum.org/wp-content/uploads/2024/10/6T4A7137.jpg
END:VEVENT
BEGIN:VEVENT
DTSTART;VALUE=DATE:20241125
DTEND;VALUE=DATE:20241126
DTSTAMP:20260423T181625
CREATED:20210812T144330Z
LAST-MODIFIED:20241029T145244Z
UID:13937-1732492800-1732579199@mschildrensmuseum.org
SUMMARY:Fall STEAM Camp
DESCRIPTION:Fall STEAM Camp\nThe Mississippi Children’s Museum – Meridian is offering a Fall STEAM Day Camp on November 25\, 2024! \nJoin us for an exciting one-day\, Fall-Themed STEAM Camp! On this day\, curiosity meets creativity in a vibrant celebration of the season! This immersive experience will blend Science\, Technology\, Engineering\, Arts\, and Mathematics through hands-on activities inspired by the beauty of autumn. \nThis day camp will run from 8:00am to 5:00pm\, and is appropriate for children ages 5-10 years old. \n Click here for details! 
URL:https://mschildrensmuseum.org/event/fall-steam-camp/
LOCATION:MCM-Meridian\, 403 22nd Avenue\, Meridian\, MS\, 39301\, United States
CATEGORIES:Meridian
ATTACH;FMTTYPE=image/jpeg:https://mschildrensmuseum.org/wp-content/uploads/2024/10/6T4A7137.jpg
END:VEVENT
END:VCALENDAR