BEGIN:VCALENDAR
VERSION:2.0
PRODID:-//Mississippi Children&#039;s Museum - ECPv6.15.20//NONSGML v1.0//EN
CALSCALE:GREGORIAN
METHOD:PUBLISH
X-ORIGINAL-URL:https://mschildrensmuseum.org
X-WR-CALDESC:Events for Mississippi Children&#039;s Museum
REFRESH-INTERVAL;VALUE=DURATION:PT1H
X-Robots-Tag:noindex
X-PUBLISHED-TTL:PT1H
BEGIN:VTIMEZONE
TZID:America/Chicago
BEGIN:DAYLIGHT
TZOFFSETFROM:-0600
TZOFFSETTO:-0500
TZNAME:CDT
DTSTART:20200308T080000
END:DAYLIGHT
BEGIN:STANDARD
TZOFFSETFROM:-0500
TZOFFSETTO:-0600
TZNAME:CST
DTSTART:20201101T070000
END:STANDARD
BEGIN:DAYLIGHT
TZOFFSETFROM:-0600
TZOFFSETTO:-0500
TZNAME:CDT
DTSTART:20210314T080000
END:DAYLIGHT
BEGIN:STANDARD
TZOFFSETFROM:-0500
TZOFFSETTO:-0600
TZNAME:CST
DTSTART:20211107T070000
END:STANDARD
BEGIN:DAYLIGHT
TZOFFSETFROM:-0600
TZOFFSETTO:-0500
TZNAME:CDT
DTSTART:20220313T080000
END:DAYLIGHT
BEGIN:STANDARD
TZOFFSETFROM:-0500
TZOFFSETTO:-0600
TZNAME:CST
DTSTART:20221106T070000
END:STANDARD
END:VTIMEZONE
BEGIN:VEVENT
DTSTART;TZID=America/Chicago:20210806T173000
DTEND;TZID=America/Chicago:20210806T193000
DTSTAMP:20260423T113732
CREATED:20210714T152003Z
LAST-MODIFIED:20210804T200726Z
UID:13376-1628271000-1628278200@mschildrensmuseum.org
SUMMARY:Back to School Bash
DESCRIPTION:Pep up for the new school year at MCM-Meridian’s big Back to School Bash! Show off your school colors and rally at the museum for games\, music\, giveaways\, and more on August 6th from 5:30pm – 7:30pm. \nActivities will include: \n\nFace paintings\, bouncing bubbles\, corn hole\, ring toss\, giant Jenga\, and more fun games in My Fantastical Backyard\nFood trucks parked on-site\nCheer teams performing joyful routines\nPompom & bookmark crafts in the WonderBox exhibit\nGiveaways!\nLive DJ in the lobby – Jigga JT with The Radio People\nPhoto op station\n\nThis event is in partnership with: \n \n  \n  \n  \n \n  \n  \n  \n  \n 
URL:https://mschildrensmuseum.org/event/back-to-school-bash-2/
LOCATION:MCM-Meridian\, 403 22nd Avenue\, Meridian\, MS\, 39301\, United States
CATEGORIES:Meridian
ATTACH;FMTTYPE=image/jpeg:https://mschildrensmuseum.org/wp-content/uploads/2021/05/20180507_LCISlideshow_89-e1621263725353.jpg
END:VEVENT
BEGIN:VEVENT
DTSTART;TZID=America/Chicago:20210806T173000
DTEND;TZID=America/Chicago:20210806T193000
DTSTAMP:20260423T113732
CREATED:20210701T153608Z
LAST-MODIFIED:20210701T153608Z
UID:12838-1628271000-1628278200@mschildrensmuseum.org
SUMMARY:Back to School Bash
DESCRIPTION:Save the date and stay tuned for details! 
URL:https://mschildrensmuseum.org/event/back-to-school-bash/
LOCATION:MCM-Meridian\, 403 22nd Avenue\, Meridian\, MS\, 39301\, United States
ATTACH;FMTTYPE=image/jpeg:https://mschildrensmuseum.org/wp-content/uploads/2021/05/6T4A6002-1-scaled.jpg
END:VEVENT
END:VCALENDAR