BEGIN:VCALENDAR
VERSION:2.0
PRODID:-//Mississippi Children&#039;s Museum - ECPv6.15.20//NONSGML v1.0//EN
CALSCALE:GREGORIAN
METHOD:PUBLISH
X-WR-CALNAME:Mississippi Children&#039;s Museum
X-ORIGINAL-URL:https://mschildrensmuseum.org
X-WR-CALDESC:Events for Mississippi Children&#039;s Museum
REFRESH-INTERVAL;VALUE=DURATION:PT1H
X-Robots-Tag:noindex
X-PUBLISHED-TTL:PT1H
BEGIN:VTIMEZONE
TZID:America/Chicago
BEGIN:DAYLIGHT
TZOFFSETFROM:-0600
TZOFFSETTO:-0500
TZNAME:CDT
DTSTART:20260308T080000
END:DAYLIGHT
BEGIN:STANDARD
TZOFFSETFROM:-0500
TZOFFSETTO:-0600
TZNAME:CST
DTSTART:20261101T070000
END:STANDARD
BEGIN:DAYLIGHT
TZOFFSETFROM:-0600
TZOFFSETTO:-0500
TZNAME:CDT
DTSTART:20270314T080000
END:DAYLIGHT
BEGIN:STANDARD
TZOFFSETFROM:-0500
TZOFFSETTO:-0600
TZNAME:CST
DTSTART:20271107T070000
END:STANDARD
BEGIN:DAYLIGHT
TZOFFSETFROM:-0600
TZOFFSETTO:-0500
TZNAME:CDT
DTSTART:20280312T080000
END:DAYLIGHT
BEGIN:STANDARD
TZOFFSETFROM:-0500
TZOFFSETTO:-0600
TZNAME:CST
DTSTART:20281105T070000
END:STANDARD
END:VTIMEZONE
BEGIN:VEVENT
DTSTART;TZID=America/Chicago:20270319T100000
DTEND;TZID=America/Chicago:20270319T100000
DTSTAMP:20260420T203522
CREATED:20220413T134837Z
LAST-MODIFIED:20220413T134837Z
UID:55132-1805450400-1805450400@mschildrensmuseum.org
SUMMARY:Rocky's Book Club
DESCRIPTION:Rocky’s Book Club\n\n\n\nHave you met the beloved Talk From the Start mascot and literacy advocate\, Rocky the Reader? He’s a jolly pup who loves to read\, play literacy games\, and travel! Join us every morning\, Wednesday – Sunday\, for Rocky’s Book Club as we read some of Rocky’s favorite books for children 0-5+ years old.
URL:https://mschildrensmuseum.org/event/storytime-2022-06-30/2027-03-19/
LOCATION:MCM-Meridian\, 403 22nd Avenue\, Meridian\, MS\, 39301\, United States
CATEGORIES:Meridian
ATTACH;FMTTYPE=image/jpeg:https://mschildrensmuseum.org/wp-content/uploads/2022/04/IMG_8993-scaled.jpg
END:VEVENT
BEGIN:VEVENT
DTSTART;TZID=America/Chicago:20270320T100000
DTEND;TZID=America/Chicago:20270320T103000
DTSTAMP:20260420T203522
CREATED:20210202T183542Z
LAST-MODIFIED:20210202T183542Z
UID:55507-1805536800-1805538600@mschildrensmuseum.org
SUMMARY:Know to Grow
DESCRIPTION:Know to Grow\nJoin us in the Enchanted Land of Story every Saturday at 10:00am for Know to Grow! This program incorporates our STEAM\, literacy\, and health initiatives to create a multi-disciplinary program where children will make connections between reading\, science and the aspects of the natural world. Each week we will read a garden-related story and work together to complete a hands-on gardening activity! \nPurchase Tickets to the Museum\nKnow to Grow is sponsored by Feild CoOp Association
URL:https://mschildrensmuseum.org/event/know-to-grow/2027-03-20/
LOCATION:MCM\, 2145 Museum Boulevard\, Jackson\, MS\, 39202\, United States
CATEGORIES:Jackson
ATTACH;FMTTYPE=image/jpeg:https://mschildrensmuseum.org/wp-content/uploads/2021/01/know-to-grow-hero.jpg
END:VEVENT
BEGIN:VEVENT
DTSTART;TZID=America/Chicago:20270320T110000
DTEND;TZID=America/Chicago:20270320T113000
DTSTAMP:20260420T203522
CREATED:20220413T134837Z
LAST-MODIFIED:20220413T134837Z
UID:55133-1805540400-1805542200@mschildrensmuseum.org
SUMMARY:Rocky's Book Club
DESCRIPTION:Rocky’s Book Club\n\n\n\nHave you met the beloved Talk From the Start mascot and literacy advocate\, Rocky the Reader? He’s a jolly pup who loves to read\, play literacy games\, and travel! Join us every morning\, Wednesday – Sunday\, for Rocky’s Book Club as we read some of Rocky’s favorite books for children 0-5+ years old.
URL:https://mschildrensmuseum.org/event/storytime-2022-06-30/2027-03-20/
LOCATION:MCM-Meridian\, 403 22nd Avenue\, Meridian\, MS\, 39301\, United States
CATEGORIES:Meridian
ATTACH;FMTTYPE=image/jpeg:https://mschildrensmuseum.org/wp-content/uploads/2022/04/IMG_8993-scaled.jpg
END:VEVENT
BEGIN:VEVENT
DTSTART;TZID=America/Chicago:20270320T153000
DTEND;TZID=America/Chicago:20270320T160000
DTSTAMP:20260420T203522
CREATED:20250505T184942Z
LAST-MODIFIED:20250505T184942Z
UID:55684-1805556600-1805558400@mschildrensmuseum.org
SUMMARY:Read With Me
DESCRIPTION:Read With Me\nJoin us twice a week for Read With Me. A story time for children 0-5+ years old. View program page. \nProgram Schedule: \n\nThursday at 3:30pm\nSaturday at 3:30pm\n\nPurchase Tickets to the museum
URL:https://mschildrensmuseum.org/event/read-with-me/2027-03-20/
CATEGORIES:Jackson
ATTACH;FMTTYPE=image/jpeg:https://mschildrensmuseum.org/wp-content/uploads/2025/05/ReadWithMe.jpeg
END:VEVENT
BEGIN:VEVENT
DTSTART;TZID=America/Chicago:20270321T140000
DTEND;TZID=America/Chicago:20270321T143000
DTSTAMP:20260420T203522
CREATED:20220413T134837Z
LAST-MODIFIED:20220413T134837Z
UID:55134-1805637600-1805639400@mschildrensmuseum.org
SUMMARY:Rocky's Book Club
DESCRIPTION:Rocky’s Book Club\n\n\n\nHave you met the beloved Talk From the Start mascot and literacy advocate\, Rocky the Reader? He’s a jolly pup who loves to read\, play literacy games\, and travel! Join us every morning\, Wednesday – Sunday\, for Rocky’s Book Club as we read some of Rocky’s favorite books for children 0-5+ years old.
URL:https://mschildrensmuseum.org/event/storytime-2022-06-30/2027-03-21/
LOCATION:MCM-Meridian\, 403 22nd Avenue\, Meridian\, MS\, 39301\, United States
CATEGORIES:Meridian
ATTACH;FMTTYPE=image/jpeg:https://mschildrensmuseum.org/wp-content/uploads/2022/04/IMG_8993-scaled.jpg
END:VEVENT
BEGIN:VEVENT
DTSTART;TZID=America/Chicago:20270324T100000
DTEND;TZID=America/Chicago:20270324T100000
DTSTAMP:20260420T203522
CREATED:20220413T134837Z
LAST-MODIFIED:20220413T134837Z
UID:55135-1805882400-1805882400@mschildrensmuseum.org
SUMMARY:Rocky's Book Club
DESCRIPTION:Rocky’s Book Club\n\n\n\nHave you met the beloved Talk From the Start mascot and literacy advocate\, Rocky the Reader? He’s a jolly pup who loves to read\, play literacy games\, and travel! Join us every morning\, Wednesday – Sunday\, for Rocky’s Book Club as we read some of Rocky’s favorite books for children 0-5+ years old.
URL:https://mschildrensmuseum.org/event/storytime-2022-06-30/2027-03-24/
LOCATION:MCM-Meridian\, 403 22nd Avenue\, Meridian\, MS\, 39301\, United States
CATEGORIES:Meridian
ATTACH;FMTTYPE=image/jpeg:https://mschildrensmuseum.org/wp-content/uploads/2022/04/IMG_8993-scaled.jpg
END:VEVENT
BEGIN:VEVENT
DTSTART;TZID=America/Chicago:20270325T100000
DTEND;TZID=America/Chicago:20270325T100000
DTSTAMP:20260420T203522
CREATED:20220413T134837Z
LAST-MODIFIED:20220413T134837Z
UID:55136-1805968800-1805968800@mschildrensmuseum.org
SUMMARY:Rocky's Book Club
DESCRIPTION:Rocky’s Book Club\n\n\n\nHave you met the beloved Talk From the Start mascot and literacy advocate\, Rocky the Reader? He’s a jolly pup who loves to read\, play literacy games\, and travel! Join us every morning\, Wednesday – Sunday\, for Rocky’s Book Club as we read some of Rocky’s favorite books for children 0-5+ years old.
URL:https://mschildrensmuseum.org/event/storytime-2022-06-30/2027-03-25/
LOCATION:MCM-Meridian\, 403 22nd Avenue\, Meridian\, MS\, 39301\, United States
CATEGORIES:Meridian
ATTACH;FMTTYPE=image/jpeg:https://mschildrensmuseum.org/wp-content/uploads/2022/04/IMG_8993-scaled.jpg
END:VEVENT
BEGIN:VEVENT
DTSTART;TZID=America/Chicago:20270325T153000
DTEND;TZID=America/Chicago:20270325T160000
DTSTAMP:20260420T203522
CREATED:20250505T184942Z
LAST-MODIFIED:20250505T184942Z
UID:55685-1805988600-1805990400@mschildrensmuseum.org
SUMMARY:Read With Me
DESCRIPTION:Read With Me\nJoin us twice a week for Read With Me. A story time for children 0-5+ years old. View program page. \nProgram Schedule: \n\nThursday at 3:30pm\nSaturday at 3:30pm\n\nPurchase Tickets to the museum
URL:https://mschildrensmuseum.org/event/read-with-me/2027-03-25/
CATEGORIES:Jackson
ATTACH;FMTTYPE=image/jpeg:https://mschildrensmuseum.org/wp-content/uploads/2025/05/ReadWithMe.jpeg
END:VEVENT
BEGIN:VEVENT
DTSTART;TZID=America/Chicago:20270326T100000
DTEND;TZID=America/Chicago:20270326T100000
DTSTAMP:20260420T203522
CREATED:20220413T134837Z
LAST-MODIFIED:20220413T134837Z
UID:55137-1806055200-1806055200@mschildrensmuseum.org
SUMMARY:Rocky's Book Club
DESCRIPTION:Rocky’s Book Club\n\n\n\nHave you met the beloved Talk From the Start mascot and literacy advocate\, Rocky the Reader? He’s a jolly pup who loves to read\, play literacy games\, and travel! Join us every morning\, Wednesday – Sunday\, for Rocky’s Book Club as we read some of Rocky’s favorite books for children 0-5+ years old.
URL:https://mschildrensmuseum.org/event/storytime-2022-06-30/2027-03-26/
LOCATION:MCM-Meridian\, 403 22nd Avenue\, Meridian\, MS\, 39301\, United States
CATEGORIES:Meridian
ATTACH;FMTTYPE=image/jpeg:https://mschildrensmuseum.org/wp-content/uploads/2022/04/IMG_8993-scaled.jpg
END:VEVENT
BEGIN:VEVENT
DTSTART;TZID=America/Chicago:20270327T100000
DTEND;TZID=America/Chicago:20270327T103000
DTSTAMP:20260420T203522
CREATED:20210202T183542Z
LAST-MODIFIED:20210202T183542Z
UID:55508-1806141600-1806143400@mschildrensmuseum.org
SUMMARY:Know to Grow
DESCRIPTION:Know to Grow\nJoin us in the Enchanted Land of Story every Saturday at 10:00am for Know to Grow! This program incorporates our STEAM\, literacy\, and health initiatives to create a multi-disciplinary program where children will make connections between reading\, science and the aspects of the natural world. Each week we will read a garden-related story and work together to complete a hands-on gardening activity! \nPurchase Tickets to the Museum\nKnow to Grow is sponsored by Feild CoOp Association
URL:https://mschildrensmuseum.org/event/know-to-grow/2027-03-27/
LOCATION:MCM\, 2145 Museum Boulevard\, Jackson\, MS\, 39202\, United States
CATEGORIES:Jackson
ATTACH;FMTTYPE=image/jpeg:https://mschildrensmuseum.org/wp-content/uploads/2021/01/know-to-grow-hero.jpg
END:VEVENT
BEGIN:VEVENT
DTSTART;TZID=America/Chicago:20270327T110000
DTEND;TZID=America/Chicago:20270327T113000
DTSTAMP:20260420T203522
CREATED:20220413T134837Z
LAST-MODIFIED:20220413T134837Z
UID:55138-1806145200-1806147000@mschildrensmuseum.org
SUMMARY:Rocky's Book Club
DESCRIPTION:Rocky’s Book Club\n\n\n\nHave you met the beloved Talk From the Start mascot and literacy advocate\, Rocky the Reader? He’s a jolly pup who loves to read\, play literacy games\, and travel! Join us every morning\, Wednesday – Sunday\, for Rocky’s Book Club as we read some of Rocky’s favorite books for children 0-5+ years old.
URL:https://mschildrensmuseum.org/event/storytime-2022-06-30/2027-03-27/
LOCATION:MCM-Meridian\, 403 22nd Avenue\, Meridian\, MS\, 39301\, United States
CATEGORIES:Meridian
ATTACH;FMTTYPE=image/jpeg:https://mschildrensmuseum.org/wp-content/uploads/2022/04/IMG_8993-scaled.jpg
END:VEVENT
BEGIN:VEVENT
DTSTART;TZID=America/Chicago:20270327T153000
DTEND;TZID=America/Chicago:20270327T160000
DTSTAMP:20260420T203522
CREATED:20250505T184942Z
LAST-MODIFIED:20250505T184942Z
UID:55686-1806161400-1806163200@mschildrensmuseum.org
SUMMARY:Read With Me
DESCRIPTION:Read With Me\nJoin us twice a week for Read With Me. A story time for children 0-5+ years old. View program page. \nProgram Schedule: \n\nThursday at 3:30pm\nSaturday at 3:30pm\n\nPurchase Tickets to the museum
URL:https://mschildrensmuseum.org/event/read-with-me/2027-03-27/
CATEGORIES:Jackson
ATTACH;FMTTYPE=image/jpeg:https://mschildrensmuseum.org/wp-content/uploads/2025/05/ReadWithMe.jpeg
END:VEVENT
BEGIN:VEVENT
DTSTART;TZID=America/Chicago:20270328T140000
DTEND;TZID=America/Chicago:20270328T143000
DTSTAMP:20260420T203522
CREATED:20220413T134837Z
LAST-MODIFIED:20220413T134837Z
UID:55139-1806242400-1806244200@mschildrensmuseum.org
SUMMARY:Rocky's Book Club
DESCRIPTION:Rocky’s Book Club\n\n\n\nHave you met the beloved Talk From the Start mascot and literacy advocate\, Rocky the Reader? He’s a jolly pup who loves to read\, play literacy games\, and travel! Join us every morning\, Wednesday – Sunday\, for Rocky’s Book Club as we read some of Rocky’s favorite books for children 0-5+ years old.
URL:https://mschildrensmuseum.org/event/storytime-2022-06-30/2027-03-28/
LOCATION:MCM-Meridian\, 403 22nd Avenue\, Meridian\, MS\, 39301\, United States
CATEGORIES:Meridian
ATTACH;FMTTYPE=image/jpeg:https://mschildrensmuseum.org/wp-content/uploads/2022/04/IMG_8993-scaled.jpg
END:VEVENT
BEGIN:VEVENT
DTSTART;TZID=America/Chicago:20270401T153000
DTEND;TZID=America/Chicago:20270401T160000
DTSTAMP:20260420T203522
CREATED:20250505T184942Z
LAST-MODIFIED:20250505T184942Z
UID:55687-1806593400-1806595200@mschildrensmuseum.org
SUMMARY:Read With Me
DESCRIPTION:Read With Me\nJoin us twice a week for Read With Me. A story time for children 0-5+ years old. View program page. \nProgram Schedule: \n\nThursday at 3:30pm\nSaturday at 3:30pm\n\nPurchase Tickets to the museum
URL:https://mschildrensmuseum.org/event/read-with-me/2027-04-01/
CATEGORIES:Jackson
ATTACH;FMTTYPE=image/jpeg:https://mschildrensmuseum.org/wp-content/uploads/2025/05/ReadWithMe.jpeg
END:VEVENT
BEGIN:VEVENT
DTSTART;TZID=America/Chicago:20270403T153000
DTEND;TZID=America/Chicago:20270403T160000
DTSTAMP:20260420T203522
CREATED:20250505T184942Z
LAST-MODIFIED:20250505T184942Z
UID:55688-1806766200-1806768000@mschildrensmuseum.org
SUMMARY:Read With Me
DESCRIPTION:Read With Me\nJoin us twice a week for Read With Me. A story time for children 0-5+ years old. View program page. \nProgram Schedule: \n\nThursday at 3:30pm\nSaturday at 3:30pm\n\nPurchase Tickets to the museum
URL:https://mschildrensmuseum.org/event/read-with-me/2027-04-03/
CATEGORIES:Jackson
ATTACH;FMTTYPE=image/jpeg:https://mschildrensmuseum.org/wp-content/uploads/2025/05/ReadWithMe.jpeg
END:VEVENT
BEGIN:VEVENT
DTSTART;TZID=America/Chicago:20270408T153000
DTEND;TZID=America/Chicago:20270408T160000
DTSTAMP:20260420T203522
CREATED:20250505T184942Z
LAST-MODIFIED:20250505T184942Z
UID:55689-1807198200-1807200000@mschildrensmuseum.org
SUMMARY:Read With Me
DESCRIPTION:Read With Me\nJoin us twice a week for Read With Me. A story time for children 0-5+ years old. View program page. \nProgram Schedule: \n\nThursday at 3:30pm\nSaturday at 3:30pm\n\nPurchase Tickets to the museum
URL:https://mschildrensmuseum.org/event/read-with-me/2027-04-08/
CATEGORIES:Jackson
ATTACH;FMTTYPE=image/jpeg:https://mschildrensmuseum.org/wp-content/uploads/2025/05/ReadWithMe.jpeg
END:VEVENT
END:VCALENDAR