BEGIN:VCALENDAR
VERSION:2.0
PRODID:-//Mississippi Children&#039;s Museum - ECPv6.15.20//NONSGML v1.0//EN
CALSCALE:GREGORIAN
METHOD:PUBLISH
X-WR-CALNAME:Mississippi Children&#039;s Museum
X-ORIGINAL-URL:https://mschildrensmuseum.org
X-WR-CALDESC:Events for Mississippi Children&#039;s Museum
REFRESH-INTERVAL;VALUE=DURATION:PT1H
X-Robots-Tag:noindex
X-PUBLISHED-TTL:PT1H
BEGIN:VTIMEZONE
TZID:America/Chicago
BEGIN:DAYLIGHT
TZOFFSETFROM:-0600
TZOFFSETTO:-0500
TZNAME:CDT
DTSTART:20240310T080000
END:DAYLIGHT
BEGIN:STANDARD
TZOFFSETFROM:-0500
TZOFFSETTO:-0600
TZNAME:CST
DTSTART:20241103T070000
END:STANDARD
BEGIN:DAYLIGHT
TZOFFSETFROM:-0600
TZOFFSETTO:-0500
TZNAME:CDT
DTSTART:20250309T080000
END:DAYLIGHT
BEGIN:STANDARD
TZOFFSETFROM:-0500
TZOFFSETTO:-0600
TZNAME:CST
DTSTART:20251102T070000
END:STANDARD
BEGIN:DAYLIGHT
TZOFFSETFROM:-0600
TZOFFSETTO:-0500
TZNAME:CDT
DTSTART:20260308T080000
END:DAYLIGHT
BEGIN:STANDARD
TZOFFSETFROM:-0500
TZOFFSETTO:-0600
TZNAME:CST
DTSTART:20261101T070000
END:STANDARD
BEGIN:DAYLIGHT
TZOFFSETFROM:-0600
TZOFFSETTO:-0500
TZNAME:CDT
DTSTART:20270314T080000
END:DAYLIGHT
BEGIN:STANDARD
TZOFFSETFROM:-0500
TZOFFSETTO:-0600
TZNAME:CST
DTSTART:20271107T070000
END:STANDARD
END:VTIMEZONE
BEGIN:VEVENT
DTSTART;TZID=America/Chicago:20251130T140000
DTEND;TZID=America/Chicago:20251130T143000
DTSTAMP:20260423T062105
CREATED:20220413T134837Z
LAST-MODIFIED:20260330T153650Z
UID:54064-1764511200-1764513000@mschildrensmuseum.org
SUMMARY:Rocky's Book Club
DESCRIPTION:Rocky’s Book Club\n\n\n\nHave you met the beloved Talk From the Start mascot and literacy advocate\, Rocky the Reader? He’s a jolly pup who loves to read\, play literacy games\, and travel! Join us every morning\, Wednesday – Sunday\, for Rocky’s Book Club as we read some of Rocky’s favorite books for children 0-5+ years old.
URL:https://mschildrensmuseum.org/event/storytime-2022-06-30/2025-11-30/
LOCATION:MCM-Meridian\, 403 22nd Avenue\, Meridian\, MS\, 39301\, United States
CATEGORIES:Meridian
ATTACH;FMTTYPE=image/jpeg:https://mschildrensmuseum.org/wp-content/uploads/2022/04/IMG_8993-scaled.jpg
END:VEVENT
BEGIN:VEVENT
DTSTART;TZID=America/Chicago:20251130T140000
DTEND;TZID=America/Chicago:20251130T143000
DTSTAMP:20260423T062105
CREATED:20210202T183755Z
LAST-MODIFIED:20260121T160118Z
UID:46637-1764511200-1764513000@mschildrensmuseum.org
SUMMARY:Art Smart
DESCRIPTION:Art Smart\nBring your little artist to the museum every Sunday at 2:00pm for Art Smart! This program suctions as a mini art class\, where we will spend each week building onto the skills we learned in past programs. Join us as we break down the basics of sketching\, drawing\, painting\, color theory\, and more! \nPurchase tickets to the museum
URL:https://mschildrensmuseum.org/event/art-smart/2025-11-30/
LOCATION:MCM\, 2145 Museum Boulevard\, Jackson\, MS\, 39202\, United States
CATEGORIES:Jackson
ATTACH;FMTTYPE=image/jpeg:https://mschildrensmuseum.org/wp-content/uploads/2021/02/068A9429-scaled.jpg
END:VEVENT
BEGIN:VEVENT
DTSTART;TZID=America/Chicago:20251130T130000
DTEND;TZID=America/Chicago:20251130T180000
DTSTAMP:20260423T062105
CREATED:20251015T205839Z
LAST-MODIFIED:20251015T205927Z
UID:50897-1764507600-1764525600@mschildrensmuseum.org
SUMMARY:MCM Trading Post Sunday Sale
DESCRIPTION:SUNDAY Sale\nShop in store to enjoy 25% off select items at the MCM Trading Post on November 30th! \n\nMonday – Saturday Hours: 9:00am – 5:00pm\nSunday Hours: 1:00pm – 6:00pm\nClosed on Thanksgiving Day\nMuseum admission not required to shop
URL:https://mschildrensmuseum.org/event/mcm-trading-post-sunday-sale/
CATEGORIES:Jackson
ATTACH;FMTTYPE=image/jpeg:https://mschildrensmuseum.org/wp-content/uploads/2022/10/20150928_LIGHTSCAMERAIMAGINATION_199.jpg
END:VEVENT
BEGIN:VEVENT
DTSTART;TZID=America/Chicago:20251129T153000
DTEND;TZID=America/Chicago:20251129T160000
DTSTAMP:20260423T062105
CREATED:20250505T184942Z
LAST-MODIFIED:20260410T143306Z
UID:48040-1764430200-1764432000@mschildrensmuseum.org
SUMMARY:Read With Me
DESCRIPTION:Read With Me\nJoin us twice a week for Read With Me. A story time for children 0-5+ years old. View program page. \nProgram Schedule: \n\nThursday at 3:30pm\nSaturday at 3:30pm\n\nPurchase Tickets to the museum
URL:https://mschildrensmuseum.org/event/read-with-me/2025-11-29/
CATEGORIES:Jackson
ATTACH;FMTTYPE=image/jpeg:https://mschildrensmuseum.org/wp-content/uploads/2025/05/ReadWithMe.jpeg
END:VEVENT
BEGIN:VEVENT
DTSTART;TZID=America/Chicago:20251129T110000
DTEND;TZID=America/Chicago:20251129T113000
DTSTAMP:20260423T062105
CREATED:20220413T134837Z
LAST-MODIFIED:20260330T153650Z
UID:54063-1764414000-1764415800@mschildrensmuseum.org
SUMMARY:Rocky's Book Club
DESCRIPTION:Rocky’s Book Club\n\n\n\nHave you met the beloved Talk From the Start mascot and literacy advocate\, Rocky the Reader? He’s a jolly pup who loves to read\, play literacy games\, and travel! Join us every morning\, Wednesday – Sunday\, for Rocky’s Book Club as we read some of Rocky’s favorite books for children 0-5+ years old.
URL:https://mschildrensmuseum.org/event/storytime-2022-06-30/2025-11-29/
LOCATION:MCM-Meridian\, 403 22nd Avenue\, Meridian\, MS\, 39301\, United States
CATEGORIES:Meridian
ATTACH;FMTTYPE=image/jpeg:https://mschildrensmuseum.org/wp-content/uploads/2022/04/IMG_8993-scaled.jpg
END:VEVENT
BEGIN:VEVENT
DTSTART;TZID=America/Chicago:20251129T100000
DTEND;TZID=America/Chicago:20251129T103000
DTSTAMP:20260423T062105
CREATED:20210202T183542Z
LAST-MODIFIED:20260401T182107Z
UID:49747-1764410400-1764412200@mschildrensmuseum.org
SUMMARY:Know to Grow
DESCRIPTION:Know to Grow\nJoin us in the Enchanted Land of Story every Saturday at 10:00am for Know to Grow! This program incorporates our STEAM\, literacy\, and health initiatives to create a multi-disciplinary program where children will make connections between reading\, science and the aspects of the natural world. Each week we will read a garden-related story and work together to complete a hands-on gardening activity! \nPurchase Tickets to the Museum\nKnow to Grow is sponsored by Feild CoOp Association
URL:https://mschildrensmuseum.org/event/know-to-grow/2025-11-29/
LOCATION:MCM\, 2145 Museum Boulevard\, Jackson\, MS\, 39202\, United States
CATEGORIES:Jackson
ATTACH;FMTTYPE=image/jpeg:https://mschildrensmuseum.org/wp-content/uploads/2021/01/know-to-grow-hero.jpg
END:VEVENT
BEGIN:VEVENT
DTSTART;TZID=America/Chicago:20251128T153000
DTEND;TZID=America/Chicago:20251128T153000
DTSTAMP:20260423T062105
CREATED:20230524T154813Z
LAST-MODIFIED:20251226T215807Z
UID:46449-1764343800-1764343800@mschildrensmuseum.org
SUMMARY:Artful Friday
DESCRIPTION:Artful Friday\nSponsored by: Sissie & Fred Wile\nExpress yourself creatively during MCM-Meridian’s Artful Friday! \nEvery Friday at 3:30pm\, join us for a guided program where we will learn and create together.
URL:https://mschildrensmuseum.org/event/artful-friday/2025-11-28/
LOCATION:MCM-Meridian\, 403 22nd Avenue\, Meridian\, MS\, 39301\, United States
CATEGORIES:Meridian
ATTACH;FMTTYPE=image/jpeg:https://mschildrensmuseum.org/wp-content/uploads/2023/05/DSC_2334-1-scaled.jpg
END:VEVENT
BEGIN:VEVENT
DTSTART;TZID=America/Chicago:20251128T100000
DTEND;TZID=America/Chicago:20251128T103000
DTSTAMP:20260423T062105
CREATED:20210202T182534Z
LAST-MODIFIED:20210202T182534Z
UID:46782-1764324000-1764325800@mschildrensmuseum.org
SUMMARY:Farm Bureau Spotlight
DESCRIPTION:Farm Bureau Spotlight\nFarm Bureau Spotlight is a multi-disciplinary\, inquiry-based program that is designed to educate visitors about the broad industry of agriculture. Join us every Friday at 10:00am as we learn about the many career fields within agriculture and the important role it plays in our daily lives. Each week we will explore a different aspect of agriculture while incorporating our STEAM\, Mississippi heritage\, and health initiatives. We will cover beekeeping\, growing produce\, the chemistry of food\, veterinary medicine\, farming\, irrigation\, the water cycle\, forestry\, fishing\, and much more! \nDon’t miss out on Farm Bureau Friday! Every Friday\, Farm Bureau Members receive $5 admission by showing their valid membership card at the front desk! This offer is provided exclusively to members of Mississippi Farm Bureau Federation at our JACKSON location. \nPurchase tickets to the museum\nFarm Bureau Spotlight is sponsored by Farm Bureau of Mississippi
URL:https://mschildrensmuseum.org/event/farm-bureau-spotlight/2025-11-28/
LOCATION:MCM\, 2145 Museum Boulevard\, Jackson\, MS\, 39202\, United States
CATEGORIES:Jackson
ATTACH;FMTTYPE=image/jpeg:https://mschildrensmuseum.org/wp-content/uploads/2021/02/068A8777-scaled.jpg
END:VEVENT
BEGIN:VEVENT
DTSTART;TZID=America/Chicago:20251128T100000
DTEND;TZID=America/Chicago:20251128T100000
DTSTAMP:20260423T062105
CREATED:20220413T134837Z
LAST-MODIFIED:20260330T153650Z
UID:52438-1764324000-1764324000@mschildrensmuseum.org
SUMMARY:Rocky's Book Club
DESCRIPTION:Rocky’s Book Club\n\n\n\nHave you met the beloved Talk From the Start mascot and literacy advocate\, Rocky the Reader? He’s a jolly pup who loves to read\, play literacy games\, and travel! Join us every morning\, Wednesday – Sunday\, for Rocky’s Book Club as we read some of Rocky’s favorite books for children 0-5+ years old.
URL:https://mschildrensmuseum.org/event/storytime-2022-06-30/2025-11-28/
LOCATION:MCM-Meridian\, 403 22nd Avenue\, Meridian\, MS\, 39301\, United States
CATEGORIES:Meridian
ATTACH;FMTTYPE=image/jpeg:https://mschildrensmuseum.org/wp-content/uploads/2022/04/IMG_8993-scaled.jpg
END:VEVENT
BEGIN:VEVENT
DTSTART;TZID=America/Chicago:20251128T090000
DTEND;TZID=America/Chicago:20251128T170000
DTSTAMP:20260423T062105
CREATED:20221027T192238Z
LAST-MODIFIED:20251007T143508Z
UID:29072-1764320400-1764349200@mschildrensmuseum.org
SUMMARY:MCM Trading Post Black Friday Sale
DESCRIPTION:Black Friday Sale\nShop in store to enjoy 25% off select items at the MCM Trading Post on November 28th! \n\nMonday – Saturday Hours: 9:00am – 5:00pm\nSunday Hours: 1:00pm – 6:00pm\nClosed on Thanksgiving Day\nMuseum admission not required to shop
URL:https://mschildrensmuseum.org/event/mcm-trading-post-black-friday-sale/
CATEGORIES:Jackson
ATTACH;FMTTYPE=image/jpeg:https://mschildrensmuseum.org/wp-content/uploads/2022/10/20150928_LIGHTSCAMERAIMAGINATION_199.jpg
END:VEVENT
BEGIN:VEVENT
DTSTART;VALUE=DATE:20251128
DTEND;VALUE=DATE:20251201
DTSTAMP:20260423T062105
CREATED:20250725T162435Z
LAST-MODIFIED:20251007T143618Z
UID:49644-1764288000-1764547199@mschildrensmuseum.org
SUMMARY:MCM-M Black Friday Trading Post Sale
DESCRIPTION:BLACK FRIDAY SALE\nShop in store to enjoy discounted merchandise at the MCM-M Trading Post on November 28 – 30! \n\nMonday – Saturday Hours: 9:00am – 5:00pm\nSunday Hours: 1:00pm – 6:00pm\nClosed on Thanksgiving Day\nMuseum admission not required to shop
URL:https://mschildrensmuseum.org/event/mcm-m-black-friday-trading-post-sale/
CATEGORIES:Meridian
ATTACH;FMTTYPE=image/jpeg:https://mschildrensmuseum.org/wp-content/uploads/2024/02/i-htLHPBh-4K-scaled.jpg
END:VEVENT
BEGIN:VEVENT
DTSTART;TZID=America/Chicago:20251127T153000
DTEND;TZID=America/Chicago:20251127T160000
DTSTAMP:20260423T062105
CREATED:20250505T184942Z
LAST-MODIFIED:20260410T143306Z
UID:48039-1764257400-1764259200@mschildrensmuseum.org
SUMMARY:Read With Me
DESCRIPTION:Read With Me\nJoin us twice a week for Read With Me. A story time for children 0-5+ years old. View program page. \nProgram Schedule: \n\nThursday at 3:30pm\nSaturday at 3:30pm\n\nPurchase Tickets to the museum
URL:https://mschildrensmuseum.org/event/read-with-me/2025-11-27/
CATEGORIES:Jackson
ATTACH;FMTTYPE=image/jpeg:https://mschildrensmuseum.org/wp-content/uploads/2025/05/ReadWithMe.jpeg
END:VEVENT
BEGIN:VEVENT
DTSTART;TZID=America/Chicago:20251127T100000
DTEND;TZID=America/Chicago:20251127T100000
DTSTAMP:20260423T062105
CREATED:20220413T134837Z
LAST-MODIFIED:20260330T153650Z
UID:52437-1764237600-1764237600@mschildrensmuseum.org
SUMMARY:Rocky's Book Club
DESCRIPTION:Rocky’s Book Club\n\n\n\nHave you met the beloved Talk From the Start mascot and literacy advocate\, Rocky the Reader? He’s a jolly pup who loves to read\, play literacy games\, and travel! Join us every morning\, Wednesday – Sunday\, for Rocky’s Book Club as we read some of Rocky’s favorite books for children 0-5+ years old.
URL:https://mschildrensmuseum.org/event/storytime-2022-06-30/2025-11-27/
LOCATION:MCM-Meridian\, 403 22nd Avenue\, Meridian\, MS\, 39301\, United States
CATEGORIES:Meridian
ATTACH;FMTTYPE=image/jpeg:https://mschildrensmuseum.org/wp-content/uploads/2022/04/IMG_8993-scaled.jpg
END:VEVENT
BEGIN:VEVENT
DTSTART;VALUE=DATE:20251127
DTEND;VALUE=DATE:20251128
DTSTAMP:20260423T062105
CREATED:20211004T202144Z
LAST-MODIFIED:20250811T160349Z
UID:15656-1764201600-1764287999@mschildrensmuseum.org
SUMMARY:Closed for Thanksgiving
DESCRIPTION:Closed for Thanksgiving\nThe museum will be closed November 27 for the Thanksgiving holiday.
URL:https://mschildrensmuseum.org/event/closed-for-thanksgiving/
CATEGORIES:Jackson
ATTACH;FMTTYPE=image/jpeg:https://mschildrensmuseum.org/wp-content/uploads/2021/10/6T4A9606-scaled.jpg
END:VEVENT
BEGIN:VEVENT
DTSTART;TZID=America/Chicago:20251126T153000
DTEND;TZID=America/Chicago:20251126T160000
DTSTAMP:20260423T062105
CREATED:20210816T192537Z
LAST-MODIFIED:20260113T180748Z
UID:46605-1764171000-1764172800@mschildrensmuseum.org
SUMMARY:Wonder Wednesday
DESCRIPTION:Join us for Wonder Wednesday every Wednesday at 3:30 pm in the WonderBox gallery as we explore the world around us through our STEAM initiative! This program will utilize hands-on experiments and experiences to cultivate curiosity in guests of all ages! \n\n\nPurchase tickets to the museum\n\n 
URL:https://mschildrensmuseum.org/event/wonder-wednesday/2025-11-26/
LOCATION:Mississippi Children’s Museum\, 2145 Museum Boulevard\, Jackson\, Mississippi\, 39202
CATEGORIES:Jackson
ATTACH;FMTTYPE=image/jpeg:https://mschildrensmuseum.org/wp-content/uploads/2024/07/068A5470-2.jpg
END:VEVENT
BEGIN:VEVENT
DTSTART;TZID=America/Chicago:20251126T153000
DTEND;TZID=America/Chicago:20251126T153000
DTSTAMP:20260423T062105
CREATED:20210826T150632Z
LAST-MODIFIED:20251226T214758Z
UID:52597-1764171000-1764171000@mschildrensmuseum.org
SUMMARY:Wonder Wednesday
DESCRIPTION:Wonder Wednesday\nWhat do you wonder about? \nJoin us every Wednesday at 3:30 pm for a hands-on experiment that will cultivate curiosity in guests of all ages! Wonder Wednesday is MCM-Meridian’s latest program that focuses on Science\, Technology\, Engineering\, Art\, and Mathematics with a fun and educational twist. \nPresented by
URL:https://mschildrensmuseum.org/event/wonder-wednesday-2/2025-11-26/
LOCATION:MCM-Meridian\, 403 22nd Avenue\, Meridian\, MS\, 39301\, United States
CATEGORIES:Meridian
ATTACH;FMTTYPE=image/jpeg:https://mschildrensmuseum.org/wp-content/uploads/2021/08/DSC_1567-scaled.jpg
END:VEVENT
BEGIN:VEVENT
DTSTART;TZID=America/Chicago:20251126T100000
DTEND;TZID=America/Chicago:20251126T103000
DTSTAMP:20260423T062105
CREATED:20210202T181241Z
LAST-MODIFIED:20260113T180649Z
UID:48432-1764151200-1764153000@mschildrensmuseum.org
SUMMARY:ABC Come Play With Me
DESCRIPTION:ABC Come Play With Me\nABC Come Play with Me is our program designed specifically for infants\, toddlers\, and their caregivers. Give your little one a jump start on the ABCs and 123s with this program every Wednesday at 10:00am. We will start the morning with the alphabet song\, a story\, and either an art project or sensory experience. \nPurchase tickets to the museum\nABC Come Play with Me is sponsored by International Paper.
URL:https://mschildrensmuseum.org/event/abc-come-play-with-me/2025-11-26/
CATEGORIES:Jackson
ATTACH;FMTTYPE=image/jpeg:https://mschildrensmuseum.org/wp-content/uploads/2025/08/wonderbox-scaled.jpeg
END:VEVENT
BEGIN:VEVENT
DTSTART;TZID=America/Chicago:20251126T100000
DTEND;TZID=America/Chicago:20251126T100000
DTSTAMP:20260423T062105
CREATED:20220413T134837Z
LAST-MODIFIED:20260330T153649Z
UID:52436-1764151200-1764151200@mschildrensmuseum.org
SUMMARY:Rocky's Book Club
DESCRIPTION:Rocky’s Book Club\n\n\n\nHave you met the beloved Talk From the Start mascot and literacy advocate\, Rocky the Reader? He’s a jolly pup who loves to read\, play literacy games\, and travel! Join us every morning\, Wednesday – Sunday\, for Rocky’s Book Club as we read some of Rocky’s favorite books for children 0-5+ years old.
URL:https://mschildrensmuseum.org/event/storytime-2022-06-30/2025-11-26/
LOCATION:MCM-Meridian\, 403 22nd Avenue\, Meridian\, MS\, 39301\, United States
CATEGORIES:Meridian
ATTACH;FMTTYPE=image/jpeg:https://mschildrensmuseum.org/wp-content/uploads/2022/04/IMG_8993-scaled.jpg
END:VEVENT
BEGIN:VEVENT
DTSTART;TZID=America/Chicago:20251125T153000
DTEND;TZID=America/Chicago:20251125T153000
DTSTAMP:20260423T062105
CREATED:20220429T184607Z
LAST-MODIFIED:20251226T212723Z
UID:46395-1764084600-1764084600@mschildrensmuseum.org
SUMMARY:Tech Tuesday
DESCRIPTION:Tech Tuesday\nJoin us every Tuesday at 3:30pm for our technology-based program! This facilitated program aims to foster STEAM education through inquiry-based learning\, coding\, and robotics.
URL:https://mschildrensmuseum.org/event/tech-tuesday-2/2025-11-25/
LOCATION:MCM-Meridian\, 403 22nd Avenue\, Meridian\, MS\, 39301\, United States
CATEGORIES:Meridian
ATTACH;FMTTYPE=image/jpeg:https://mschildrensmuseum.org/wp-content/uploads/2022/04/DSC_1527-1-scaled.jpg
END:VEVENT
BEGIN:VEVENT
DTSTART;TZID=America/Chicago:20251125T100000
DTEND;TZID=America/Chicago:20251125T100000
DTSTAMP:20260423T062105
CREATED:20220309T194013Z
LAST-MODIFIED:20251226T215212Z
UID:52837-1764064800-1764064800@mschildrensmuseum.org
SUMMARY:ABC Come Play with Me
DESCRIPTION:ABC Come Play With Me\nABC Come Play with Me is our program designed specifically for infants\, toddlers\, and their caregivers. Give your little one a jump start on the ABCs and 123s with this program. We will start the morning with the alphabet song\, a story\, and either an art project of sensory experience. \nJoin us every Tuesday at 10:00 am as we use our five senses to discover our incredible world.
URL:https://mschildrensmuseum.org/event/abc-come-play-with-me-2/2025-11-25/
LOCATION:MCM-Meridian\, 403 22nd Avenue\, Meridian\, MS\, 39301\, United States
CATEGORIES:Meridian
ATTACH;FMTTYPE=image/jpeg:https://mschildrensmuseum.org/wp-content/uploads/2021/06/IMG_6408-scaled.jpg
END:VEVENT
BEGIN:VEVENT
DTSTART;TZID=America/Chicago:20251124T100000
DTEND;TZID=America/Chicago:20251124T150000
DTSTAMP:20260423T062105
CREATED:20250925T154412Z
LAST-MODIFIED:20251120T224505Z
UID:50402-1763978400-1763996400@mschildrensmuseum.org
SUMMARY:Magic Monday: A Feast of Fun
DESCRIPTION:School’s out\, and the fun is served! Come to Magic Monday: A Feast of Fun from 10 AM – 3 PM for hands-on activities\, creative play\, and plenty of surprises. Make your Monday off the most magical day of the week! \nFeatured Activities:\n\nThankful Paper Chains\nPattern Placements\nPumpkin Spice Slime | 10:30am & 1:30pm\nDirected Drawing Turkey Paintings | 12:00pm\n\nFree for MCM Members | $10/Person for Non-Members | Tickets Available at the Door \nPurchase Tickets to the Museum
URL:https://mschildrensmuseum.org/event/magic-monday-a-feast-of-fun/
LOCATION:MCM-Meridian\, 403 22nd Avenue\, Meridian\, MS\, 39301\, United States
CATEGORIES:Meridian
ATTACH;FMTTYPE=image/jpeg:https://mschildrensmuseum.org/wp-content/uploads/2023/07/IMG_8712-scaled.jpg
END:VEVENT
BEGIN:VEVENT
DTSTART;TZID=America/Chicago:20251124T090000
DTEND;TZID=America/Chicago:20251124T170000
DTSTAMP:20260423T062105
CREATED:20250808T214917Z
LAST-MODIFIED:20250808T214957Z
UID:49916-1763974800-1764003600@mschildrensmuseum.org
SUMMARY:Magic Monday
DESCRIPTION:Magic Monday\nDid you know MCM is open for special\, holiday Mondays from 9 am – 5 pm for extra hours of inspiration and fun? Magic Monday is the perfect solution to a Monday off from school.  \nEach of these special days includes regular museum programming\, as well as a special Food Lab program at 11:00am where guests learn about making delicious and nutritious food and snacks. \nPurchase Tickets to the Museum
URL:https://mschildrensmuseum.org/event/magic-monday-26/
CATEGORIES:Jackson
ATTACH;FMTTYPE=image/jpeg:https://mschildrensmuseum.org/wp-content/uploads/2025/05/068A1828-scaled.jpg
END:VEVENT
BEGIN:VEVENT
DTSTART;VALUE=DATE:20251124
DTEND;VALUE=DATE:20251129
DTSTAMP:20260423T062105
CREATED:20221107T212343Z
LAST-MODIFIED:20251015T193049Z
UID:29191-1763942400-1764374399@mschildrensmuseum.org
SUMMARY:Week of Gratitude
DESCRIPTION:Week of Gratitude\nJoin us November 24-28th for our Gratitude Days at the museum! This week\, we will have Thanksgiving programming featuring fall crafts\, and story times! Guests can also experience our Thanksgiving exhibit\, the Gratitude Tree\, where visitors can write down something that they are grateful for and place it on the life-sized tree! \nPrograms & Activities\n\nMagic Monday: Nov. 24\nStorytime & Thankfulness Letter Writing\n\nFamily Dinner Placemat Making\n\n\nGratitude Journals\n\n\nCollaborative Gratitude Garland\n\n\nMEMBER PERK: Family in town for the holidays? Grandparents can enjoy $5 Admission and a free cup of coffee from our Red Rocket Cafe! (Valid Nov. 24 – 28\, 2025\, only for MCM Members)  \nNote: Museum will be closed on Thursday\, November 27 for the Thanksgiving holiday. \nPurchase tickets to the museum
URL:https://mschildrensmuseum.org/event/week-of-gratitude/
CATEGORIES:Jackson
ATTACH;FMTTYPE=image/jpeg:https://mschildrensmuseum.org/wp-content/uploads/2022/11/068A4580-2.jpg
END:VEVENT
BEGIN:VEVENT
DTSTART;TZID=America/Chicago:20251123T140000
DTEND;TZID=America/Chicago:20251123T143000
DTSTAMP:20260423T062105
CREATED:20220413T134837Z
LAST-MODIFIED:20260330T153649Z
UID:54062-1763906400-1763908200@mschildrensmuseum.org
SUMMARY:Rocky's Book Club
DESCRIPTION:Rocky’s Book Club\n\n\n\nHave you met the beloved Talk From the Start mascot and literacy advocate\, Rocky the Reader? He’s a jolly pup who loves to read\, play literacy games\, and travel! Join us every morning\, Wednesday – Sunday\, for Rocky’s Book Club as we read some of Rocky’s favorite books for children 0-5+ years old.
URL:https://mschildrensmuseum.org/event/storytime-2022-06-30/2025-11-23/
LOCATION:MCM-Meridian\, 403 22nd Avenue\, Meridian\, MS\, 39301\, United States
CATEGORIES:Meridian
ATTACH;FMTTYPE=image/jpeg:https://mschildrensmuseum.org/wp-content/uploads/2022/04/IMG_8993-scaled.jpg
END:VEVENT
BEGIN:VEVENT
DTSTART;TZID=America/Chicago:20251123T140000
DTEND;TZID=America/Chicago:20251123T143000
DTSTAMP:20260423T062105
CREATED:20210202T183755Z
LAST-MODIFIED:20260121T160118Z
UID:46636-1763906400-1763908200@mschildrensmuseum.org
SUMMARY:Art Smart
DESCRIPTION:Art Smart\nBring your little artist to the museum every Sunday at 2:00pm for Art Smart! This program suctions as a mini art class\, where we will spend each week building onto the skills we learned in past programs. Join us as we break down the basics of sketching\, drawing\, painting\, color theory\, and more! \nPurchase tickets to the museum
URL:https://mschildrensmuseum.org/event/art-smart/2025-11-23/
LOCATION:MCM\, 2145 Museum Boulevard\, Jackson\, MS\, 39202\, United States
CATEGORIES:Jackson
ATTACH;FMTTYPE=image/jpeg:https://mschildrensmuseum.org/wp-content/uploads/2021/02/068A9429-scaled.jpg
END:VEVENT
BEGIN:VEVENT
DTSTART;TZID=America/Chicago:20251123T110000
DTEND;TZID=America/Chicago:20251123T130000
DTSTAMP:20260423T062105
CREATED:20240102T163552Z
LAST-MODIFIED:20251227T031622Z
UID:49700-1763895600-1763902800@mschildrensmuseum.org
SUMMARY:Sensory Friendly Hours
DESCRIPTION:Sensory Friendly Hours\nJoin the Mississippi Children’s Museum for Sensory Friendly Hours on the 4th Sunday of every month from 11am – 1pm! This is an exclusive time designed for children with sensory difficulties. Children and their caregivers can experience the museum in a new light with reduced stimuli and Sensory Inclusive Certified staff. \nDuring your visit\, you can expect:\n\nReduced crowds\, lighting\, and sounds\nSensory Kits & maps to help you navigate potentially over-stimulating exhibits\nSensory Inclusive Certified staff by KultureCity\n\nPlease contact MCM’s Director of Education and Programs\, Monique Ealey\, at monique@mcm.ms to learn more. \nPurchase Tickets
URL:https://mschildrensmuseum.org/event/sensory-friendly-hours-2/2025-11-23/
LOCATION:Mississippi Children’s Museum\, 2145 Museum Boulevard\, Jackson\, Mississippi\, 39202
CATEGORIES:Jackson
ATTACH;FMTTYPE=image/jpeg:https://mschildrensmuseum.org/wp-content/uploads/2023/06/068A9655-scaled.jpg
END:VEVENT
BEGIN:VEVENT
DTSTART;VALUE=DATE:20251123
DTEND;VALUE=DATE:20260105
DTSTAMP:20260423T062105
CREATED:20211004T205923Z
LAST-MODIFIED:20251215T202512Z
UID:15705-1763856000-1767571199@mschildrensmuseum.org
SUMMARY:Journey to the North Pole
DESCRIPTION:Journey to the North Pole\nJoin us November 23 – January 4 for our special holiday exhibit\, Journey to the North Pole! \nDrawing inspiration from lessons in navigation and geography along with traditional holiday literature\, Journey to the North Pole transforms the Gertrude C. Ford Exhibition Hall into a magical winter village of twinkling lights and train cars. Glide around the Puffin Pals Play Rink in your favorite pair of festive socks\, ride our thrilling 45-foot Snowflake Slide\, and cozy up by the fire inside Eudora Welty’s living room! Come experience the wonder of our new Polar Palace\, where imagination comes to life! Celebrate the season with us at Jackson’s favorite family holiday destination. \nDuring special days\, guests can snap their photo with Santa! Click here to view our upcoming Santa dates. \nJourney Events: \n\nA Very Merry Night: November 22\nJammies at Journey: December 5\nReindeer Workshops: December 5\, 14\, 20\, & 22\nRooks N’ Reindeer: December 19\n\nThe museum will be CLOSED:  \nMondays (Open for Magic Monday on Dec. 22 & 29)\nThanksgiving Day\nChristmas Eve\nChristmas Day\nNew Year’s Day \nLearn more about Journey to the North Pole
URL:https://mschildrensmuseum.org/event/journey-to-the-north-pole-2/
LOCATION:Mississippi Children’s Museum\, 2145 Museum Boulevard\, Jackson\, Mississippi\, 39202
CATEGORIES:Jackson
ATTACH;FMTTYPE=image/jpeg:https://mschildrensmuseum.org/wp-content/uploads/2021/10/20221119_VeryMerryNight_016-1-scaled.jpg
END:VEVENT
BEGIN:VEVENT
DTSTART;TZID=America/Chicago:20251122T153000
DTEND;TZID=America/Chicago:20251122T160000
DTSTAMP:20260423T062105
CREATED:20250505T184942Z
LAST-MODIFIED:20260410T143306Z
UID:48038-1763825400-1763827200@mschildrensmuseum.org
SUMMARY:Read With Me
DESCRIPTION:Read With Me\nJoin us twice a week for Read With Me. A story time for children 0-5+ years old. View program page. \nProgram Schedule: \n\nThursday at 3:30pm\nSaturday at 3:30pm\n\nPurchase Tickets to the museum
URL:https://mschildrensmuseum.org/event/read-with-me/2025-11-22/
CATEGORIES:Jackson
ATTACH;FMTTYPE=image/jpeg:https://mschildrensmuseum.org/wp-content/uploads/2025/05/ReadWithMe.jpeg
END:VEVENT
BEGIN:VEVENT
DTSTART;TZID=America/Chicago:20251122T110000
DTEND;TZID=America/Chicago:20251122T113000
DTSTAMP:20260423T062105
CREATED:20220413T134837Z
LAST-MODIFIED:20260330T153649Z
UID:54061-1763809200-1763811000@mschildrensmuseum.org
SUMMARY:Rocky's Book Club
DESCRIPTION:Rocky’s Book Club\n\n\n\nHave you met the beloved Talk From the Start mascot and literacy advocate\, Rocky the Reader? He’s a jolly pup who loves to read\, play literacy games\, and travel! Join us every morning\, Wednesday – Sunday\, for Rocky’s Book Club as we read some of Rocky’s favorite books for children 0-5+ years old.
URL:https://mschildrensmuseum.org/event/storytime-2022-06-30/2025-11-22/
LOCATION:MCM-Meridian\, 403 22nd Avenue\, Meridian\, MS\, 39301\, United States
CATEGORIES:Meridian
ATTACH;FMTTYPE=image/jpeg:https://mschildrensmuseum.org/wp-content/uploads/2022/04/IMG_8993-scaled.jpg
END:VEVENT
BEGIN:VEVENT
DTSTART;TZID=America/Chicago:20251122T100000
DTEND;TZID=America/Chicago:20251122T103000
DTSTAMP:20260423T062105
CREATED:20210202T183542Z
LAST-MODIFIED:20260401T182106Z
UID:49746-1763805600-1763807400@mschildrensmuseum.org
SUMMARY:Know to Grow
DESCRIPTION:Know to Grow\nJoin us in the Enchanted Land of Story every Saturday at 10:00am for Know to Grow! This program incorporates our STEAM\, literacy\, and health initiatives to create a multi-disciplinary program where children will make connections between reading\, science and the aspects of the natural world. Each week we will read a garden-related story and work together to complete a hands-on gardening activity! \nPurchase Tickets to the Museum\nKnow to Grow is sponsored by Feild CoOp Association
URL:https://mschildrensmuseum.org/event/know-to-grow/2025-11-22/
LOCATION:MCM\, 2145 Museum Boulevard\, Jackson\, MS\, 39202\, United States
CATEGORIES:Jackson
ATTACH;FMTTYPE=image/jpeg:https://mschildrensmuseum.org/wp-content/uploads/2021/01/know-to-grow-hero.jpg
END:VEVENT
END:VCALENDAR