BEGIN:VCALENDAR
VERSION:2.0
PRODID:-//Mississippi Children&#039;s Museum - ECPv6.15.20//NONSGML v1.0//EN
CALSCALE:GREGORIAN
METHOD:PUBLISH
X-ORIGINAL-URL:https://mschildrensmuseum.org
X-WR-CALDESC:Events for Mississippi Children&#039;s Museum
REFRESH-INTERVAL;VALUE=DURATION:PT1H
X-Robots-Tag:noindex
X-PUBLISHED-TTL:PT1H
BEGIN:VTIMEZONE
TZID:America/Chicago
BEGIN:DAYLIGHT
TZOFFSETFROM:-0600
TZOFFSETTO:-0500
TZNAME:CDT
DTSTART:20250309T080000
END:DAYLIGHT
BEGIN:STANDARD
TZOFFSETFROM:-0500
TZOFFSETTO:-0600
TZNAME:CST
DTSTART:20251102T070000
END:STANDARD
BEGIN:DAYLIGHT
TZOFFSETFROM:-0600
TZOFFSETTO:-0500
TZNAME:CDT
DTSTART:20260308T080000
END:DAYLIGHT
BEGIN:STANDARD
TZOFFSETFROM:-0500
TZOFFSETTO:-0600
TZNAME:CST
DTSTART:20261101T070000
END:STANDARD
BEGIN:DAYLIGHT
TZOFFSETFROM:-0600
TZOFFSETTO:-0500
TZNAME:CDT
DTSTART:20270314T080000
END:DAYLIGHT
BEGIN:STANDARD
TZOFFSETFROM:-0500
TZOFFSETTO:-0600
TZNAME:CST
DTSTART:20271107T070000
END:STANDARD
END:VTIMEZONE
BEGIN:VEVENT
DTSTART;TZID=America/Chicago:20260421T153000
DTEND;TZID=America/Chicago:20260421T153000
DTSTAMP:20260421T182002
CREATED:20220429T184607Z
LAST-MODIFIED:20220429T184607Z
UID:52270-1776785400-1776785400@mschildrensmuseum.org
SUMMARY:Tech Tuesday
DESCRIPTION:Tech Tuesday\nJoin us every Tuesday at 3:30pm for our technology-based program! This facilitated program aims to foster STEAM education through inquiry-based learning\, coding\, and robotics.
URL:https://mschildrensmuseum.org/event/tech-tuesday-2/2026-04-21/
LOCATION:MCM-Meridian\, 403 22nd Avenue\, Meridian\, MS\, 39301\, United States
CATEGORIES:Meridian
ATTACH;FMTTYPE=image/jpeg:https://mschildrensmuseum.org/wp-content/uploads/2022/04/DSC_1527-1-scaled.jpg
END:VEVENT
BEGIN:VEVENT
DTSTART;TZID=America/Chicago:20260421T100000
DTEND;TZID=America/Chicago:20260421T100000
DTSTAMP:20260421T182002
CREATED:20220309T194013Z
LAST-MODIFIED:20251226T215219Z
UID:52858-1776765600-1776765600@mschildrensmuseum.org
SUMMARY:ABC Come Play with Me
DESCRIPTION:ABC Come Play With Me\nABC Come Play with Me is our program designed specifically for infants\, toddlers\, and their caregivers. Give your little one a jump start on the ABCs and 123s with this program. We will start the morning with the alphabet song\, a story\, and either an art project of sensory experience. \nJoin us every Tuesday at 10:00 am as we use our five senses to discover our incredible world.
URL:https://mschildrensmuseum.org/event/abc-come-play-with-me-2/2026-04-21/
LOCATION:MCM-Meridian\, 403 22nd Avenue\, Meridian\, MS\, 39301\, United States
CATEGORIES:Meridian
ATTACH;FMTTYPE=image/jpeg:https://mschildrensmuseum.org/wp-content/uploads/2021/06/IMG_6408-scaled.jpg
END:VEVENT
BEGIN:VEVENT
DTSTART;TZID=America/Chicago:20260419T140000
DTEND;TZID=America/Chicago:20260419T143000
DTSTAMP:20260421T182002
CREATED:20220413T134837Z
LAST-MODIFIED:20260330T153732Z
UID:54104-1776607200-1776609000@mschildrensmuseum.org
SUMMARY:Rocky's Book Club
DESCRIPTION:Rocky’s Book Club\n\n\n\nHave you met the beloved Talk From the Start mascot and literacy advocate\, Rocky the Reader? He’s a jolly pup who loves to read\, play literacy games\, and travel! Join us every morning\, Wednesday – Sunday\, for Rocky’s Book Club as we read some of Rocky’s favorite books for children 0-5+ years old.
URL:https://mschildrensmuseum.org/event/storytime-2022-06-30/2026-04-19/
LOCATION:MCM-Meridian\, 403 22nd Avenue\, Meridian\, MS\, 39301\, United States
CATEGORIES:Meridian
ATTACH;FMTTYPE=image/jpeg:https://mschildrensmuseum.org/wp-content/uploads/2022/04/IMG_8993-scaled.jpg
END:VEVENT
BEGIN:VEVENT
DTSTART;TZID=America/Chicago:20260418T110000
DTEND;TZID=America/Chicago:20260418T113000
DTSTAMP:20260421T182002
CREATED:20220413T134837Z
LAST-MODIFIED:20260330T153731Z
UID:54103-1776510000-1776511800@mschildrensmuseum.org
SUMMARY:Rocky's Book Club
DESCRIPTION:Rocky’s Book Club\n\n\n\nHave you met the beloved Talk From the Start mascot and literacy advocate\, Rocky the Reader? He’s a jolly pup who loves to read\, play literacy games\, and travel! Join us every morning\, Wednesday – Sunday\, for Rocky’s Book Club as we read some of Rocky’s favorite books for children 0-5+ years old.
URL:https://mschildrensmuseum.org/event/storytime-2022-06-30/2026-04-18/
LOCATION:MCM-Meridian\, 403 22nd Avenue\, Meridian\, MS\, 39301\, United States
CATEGORIES:Meridian
ATTACH;FMTTYPE=image/jpeg:https://mschildrensmuseum.org/wp-content/uploads/2022/04/IMG_8993-scaled.jpg
END:VEVENT
BEGIN:VEVENT
DTSTART;TZID=America/Chicago:20260418T090000
DTEND;TZID=America/Chicago:20260418T150000
DTSTAMP:20260421T182002
CREATED:20240612T154918Z
LAST-MODIFIED:20260330T153413Z
UID:42048-1776502800-1776524400@mschildrensmuseum.org
SUMMARY:Babysitter Academy
DESCRIPTION:Babysitter Academy\nThe Mississippi Children’s Museum – Meridian is thrilled to offer Babysitter Academy for teens\, a CPR & babysitting safety certification course designed by American Safety & Health Institute (HSI)! This course will take place Saturday\, April 18 from 9:00am – 3:00pm. \nCourse Details\n✓ Registration is $75.00/person\, which covers:   \n\nLunch\nDigital Certification Card(s)\nClass Supplies\n\n✓ Students must be 13-16 years old to register and attend. \n✓ By the end of the training\, students will have obtained the following certifications: \n\nHSI Adult/Infant/Child: CPR/AED\nHSI Child and Babysitting Safety (CABS)\n\nAbout HSI Child and Babysitting Safety (CABS)\n\n\n\n\nThe HSI Child and Babysitting Safety (CABS) program gives teenagers and young adults everything they need to know for safe and successful babysitting. HSI CABS teaches how to start a babysitting business\, interact with parents and children\, and provides important safety and first aid information. \nAbout HSI Adult/Infant/Child: CPR/AED \n\nCourse topics include: \n\nSudden Cardiac Arrest (SCA)\nCPR and Defibrillation\nChain of Survival\nAssessment & Chest Compressions\nRescue Breathing & Using a CPR Mask\nUsing an AED\nRelief of Choking\n\n\n\n\nCLICK HERE TO REGISTER!\nFor questions\, please email Courtney Crowe at ccrowe@smpdd.com
URL:https://mschildrensmuseum.org/event/babysitter-academy-2/
CATEGORIES:Meridian
ATTACH;FMTTYPE=image/jpeg:https://mschildrensmuseum.org/wp-content/uploads/2024/03/068A7271-4K-scaled.jpg
END:VEVENT
BEGIN:VEVENT
DTSTART;TZID=America/Chicago:20260417T153000
DTEND;TZID=America/Chicago:20260417T153000
DTSTAMP:20260421T182002
CREATED:20230524T154813Z
LAST-MODIFIED:20251226T215815Z
UID:52144-1776439800-1776439800@mschildrensmuseum.org
SUMMARY:Artful Friday
DESCRIPTION:Artful Friday\nSponsored by: Sissie & Fred Wile\nExpress yourself creatively during MCM-Meridian’s Artful Friday! \nEvery Friday at 3:30pm\, join us for a guided program where we will learn and create together.
URL:https://mschildrensmuseum.org/event/artful-friday/2026-04-17/
LOCATION:MCM-Meridian\, 403 22nd Avenue\, Meridian\, MS\, 39301\, United States
CATEGORIES:Meridian
ATTACH;FMTTYPE=image/jpeg:https://mschildrensmuseum.org/wp-content/uploads/2023/05/DSC_2334-1-scaled.jpg
END:VEVENT
BEGIN:VEVENT
DTSTART;TZID=America/Chicago:20260417T100000
DTEND;TZID=America/Chicago:20260417T100000
DTSTAMP:20260421T182002
CREATED:20220413T134837Z
LAST-MODIFIED:20260330T153731Z
UID:52497-1776420000-1776420000@mschildrensmuseum.org
SUMMARY:Rocky's Book Club
DESCRIPTION:Rocky’s Book Club\n\n\n\nHave you met the beloved Talk From the Start mascot and literacy advocate\, Rocky the Reader? He’s a jolly pup who loves to read\, play literacy games\, and travel! Join us every morning\, Wednesday – Sunday\, for Rocky’s Book Club as we read some of Rocky’s favorite books for children 0-5+ years old.
URL:https://mschildrensmuseum.org/event/storytime-2022-06-30/2026-04-17/
LOCATION:MCM-Meridian\, 403 22nd Avenue\, Meridian\, MS\, 39301\, United States
CATEGORIES:Meridian
ATTACH;FMTTYPE=image/jpeg:https://mschildrensmuseum.org/wp-content/uploads/2022/04/IMG_8993-scaled.jpg
END:VEVENT
BEGIN:VEVENT
DTSTART;TZID=America/Chicago:20260416T153000
DTEND;TZID=America/Chicago:20260416T153000
DTSTAMP:20260421T182002
CREATED:20220505T143345Z
LAST-MODIFIED:20260106T163909Z
UID:52670-1776353400-1776353400@mschildrensmuseum.org
SUMMARY:Know to Grow
DESCRIPTION:Know to Grow\nJoin us every Thursday at 3:30pm for Know to Grow! This program incorporates our STEAM\, literacy\, and health initiatives to create a multi-disciplinary program where children will make connections between reading\, science\, and the aspects of the natural world. Each week we will read a garden-related story and work together to complete a hands-on gardening activity! \n 
URL:https://mschildrensmuseum.org/event/know-to-grow-2/2026-04-16/
LOCATION:MCM-Meridian\, 403 22nd Avenue\, Meridian\, MS\, 39301\, United States
CATEGORIES:Meridian
ATTACH;FMTTYPE=image/jpeg:https://mschildrensmuseum.org/wp-content/uploads/2022/05/IMG_7078-scaled.jpg
END:VEVENT
BEGIN:VEVENT
DTSTART;TZID=America/Chicago:20260416T100000
DTEND;TZID=America/Chicago:20260416T100000
DTSTAMP:20260421T182002
CREATED:20220413T134837Z
LAST-MODIFIED:20260330T153731Z
UID:52496-1776333600-1776333600@mschildrensmuseum.org
SUMMARY:Rocky's Book Club
DESCRIPTION:Rocky’s Book Club\n\n\n\nHave you met the beloved Talk From the Start mascot and literacy advocate\, Rocky the Reader? He’s a jolly pup who loves to read\, play literacy games\, and travel! Join us every morning\, Wednesday – Sunday\, for Rocky’s Book Club as we read some of Rocky’s favorite books for children 0-5+ years old.
URL:https://mschildrensmuseum.org/event/storytime-2022-06-30/2026-04-16/
LOCATION:MCM-Meridian\, 403 22nd Avenue\, Meridian\, MS\, 39301\, United States
CATEGORIES:Meridian
ATTACH;FMTTYPE=image/jpeg:https://mschildrensmuseum.org/wp-content/uploads/2022/04/IMG_8993-scaled.jpg
END:VEVENT
BEGIN:VEVENT
DTSTART;TZID=America/Chicago:20260415T153000
DTEND;TZID=America/Chicago:20260415T153000
DTSTAMP:20260421T182002
CREATED:20210826T150632Z
LAST-MODIFIED:20251226T214808Z
UID:52617-1776267000-1776267000@mschildrensmuseum.org
SUMMARY:Wonder Wednesday
DESCRIPTION:Wonder Wednesday\nWhat do you wonder about? \nJoin us every Wednesday at 3:30 pm for a hands-on experiment that will cultivate curiosity in guests of all ages! Wonder Wednesday is MCM-Meridian’s latest program that focuses on Science\, Technology\, Engineering\, Art\, and Mathematics with a fun and educational twist. \nPresented by
URL:https://mschildrensmuseum.org/event/wonder-wednesday-2/2026-04-15/
LOCATION:MCM-Meridian\, 403 22nd Avenue\, Meridian\, MS\, 39301\, United States
CATEGORIES:Meridian
ATTACH;FMTTYPE=image/jpeg:https://mschildrensmuseum.org/wp-content/uploads/2021/08/DSC_1567-scaled.jpg
END:VEVENT
BEGIN:VEVENT
DTSTART;TZID=America/Chicago:20260415T100000
DTEND;TZID=America/Chicago:20260415T100000
DTSTAMP:20260421T182002
CREATED:20220413T134837Z
LAST-MODIFIED:20260330T153731Z
UID:52495-1776247200-1776247200@mschildrensmuseum.org
SUMMARY:Rocky's Book Club
DESCRIPTION:Rocky’s Book Club\n\n\n\nHave you met the beloved Talk From the Start mascot and literacy advocate\, Rocky the Reader? He’s a jolly pup who loves to read\, play literacy games\, and travel! Join us every morning\, Wednesday – Sunday\, for Rocky’s Book Club as we read some of Rocky’s favorite books for children 0-5+ years old.
URL:https://mschildrensmuseum.org/event/storytime-2022-06-30/2026-04-15/
LOCATION:MCM-Meridian\, 403 22nd Avenue\, Meridian\, MS\, 39301\, United States
CATEGORIES:Meridian
ATTACH;FMTTYPE=image/jpeg:https://mschildrensmuseum.org/wp-content/uploads/2022/04/IMG_8993-scaled.jpg
END:VEVENT
BEGIN:VEVENT
DTSTART;TZID=America/Chicago:20260414T153000
DTEND;TZID=America/Chicago:20260414T153000
DTSTAMP:20260421T182002
CREATED:20220429T184607Z
LAST-MODIFIED:20220429T184607Z
UID:52269-1776180600-1776180600@mschildrensmuseum.org
SUMMARY:Tech Tuesday
DESCRIPTION:Tech Tuesday\nJoin us every Tuesday at 3:30pm for our technology-based program! This facilitated program aims to foster STEAM education through inquiry-based learning\, coding\, and robotics.
URL:https://mschildrensmuseum.org/event/tech-tuesday-2/2026-04-14/
LOCATION:MCM-Meridian\, 403 22nd Avenue\, Meridian\, MS\, 39301\, United States
CATEGORIES:Meridian
ATTACH;FMTTYPE=image/jpeg:https://mschildrensmuseum.org/wp-content/uploads/2022/04/DSC_1527-1-scaled.jpg
END:VEVENT
BEGIN:VEVENT
DTSTART;TZID=America/Chicago:20260414T100000
DTEND;TZID=America/Chicago:20260414T100000
DTSTAMP:20260421T182002
CREATED:20220309T194013Z
LAST-MODIFIED:20251226T215219Z
UID:52857-1776160800-1776160800@mschildrensmuseum.org
SUMMARY:ABC Come Play with Me
DESCRIPTION:ABC Come Play With Me\nABC Come Play with Me is our program designed specifically for infants\, toddlers\, and their caregivers. Give your little one a jump start on the ABCs and 123s with this program. We will start the morning with the alphabet song\, a story\, and either an art project of sensory experience. \nJoin us every Tuesday at 10:00 am as we use our five senses to discover our incredible world.
URL:https://mschildrensmuseum.org/event/abc-come-play-with-me-2/2026-04-14/
LOCATION:MCM-Meridian\, 403 22nd Avenue\, Meridian\, MS\, 39301\, United States
CATEGORIES:Meridian
ATTACH;FMTTYPE=image/jpeg:https://mschildrensmuseum.org/wp-content/uploads/2021/06/IMG_6408-scaled.jpg
END:VEVENT
BEGIN:VEVENT
DTSTART;TZID=America/Chicago:20260412T140000
DTEND;TZID=America/Chicago:20260412T143000
DTSTAMP:20260421T182002
CREATED:20220413T134837Z
LAST-MODIFIED:20260330T153731Z
UID:54102-1776002400-1776004200@mschildrensmuseum.org
SUMMARY:Rocky's Book Club
DESCRIPTION:Rocky’s Book Club\n\n\n\nHave you met the beloved Talk From the Start mascot and literacy advocate\, Rocky the Reader? He’s a jolly pup who loves to read\, play literacy games\, and travel! Join us every morning\, Wednesday – Sunday\, for Rocky’s Book Club as we read some of Rocky’s favorite books for children 0-5+ years old.
URL:https://mschildrensmuseum.org/event/storytime-2022-06-30/2026-04-12/
LOCATION:MCM-Meridian\, 403 22nd Avenue\, Meridian\, MS\, 39301\, United States
CATEGORIES:Meridian
ATTACH;FMTTYPE=image/jpeg:https://mschildrensmuseum.org/wp-content/uploads/2022/04/IMG_8993-scaled.jpg
END:VEVENT
BEGIN:VEVENT
DTSTART;TZID=America/Chicago:20260411T110000
DTEND;TZID=America/Chicago:20260411T113000
DTSTAMP:20260421T182002
CREATED:20220413T134837Z
LAST-MODIFIED:20260330T153730Z
UID:54101-1775905200-1775907000@mschildrensmuseum.org
SUMMARY:Rocky's Book Club
DESCRIPTION:Rocky’s Book Club\n\n\n\nHave you met the beloved Talk From the Start mascot and literacy advocate\, Rocky the Reader? He’s a jolly pup who loves to read\, play literacy games\, and travel! Join us every morning\, Wednesday – Sunday\, for Rocky’s Book Club as we read some of Rocky’s favorite books for children 0-5+ years old.
URL:https://mschildrensmuseum.org/event/storytime-2022-06-30/2026-04-11/
LOCATION:MCM-Meridian\, 403 22nd Avenue\, Meridian\, MS\, 39301\, United States
CATEGORIES:Meridian
ATTACH;FMTTYPE=image/jpeg:https://mschildrensmuseum.org/wp-content/uploads/2022/04/IMG_8993-scaled.jpg
END:VEVENT
BEGIN:VEVENT
DTSTART;TZID=America/Chicago:20260410T153000
DTEND;TZID=America/Chicago:20260410T153000
DTSTAMP:20260421T182002
CREATED:20230524T154813Z
LAST-MODIFIED:20251226T215815Z
UID:52143-1775835000-1775835000@mschildrensmuseum.org
SUMMARY:Artful Friday
DESCRIPTION:Artful Friday\nSponsored by: Sissie & Fred Wile\nExpress yourself creatively during MCM-Meridian’s Artful Friday! \nEvery Friday at 3:30pm\, join us for a guided program where we will learn and create together.
URL:https://mschildrensmuseum.org/event/artful-friday/2026-04-10/
LOCATION:MCM-Meridian\, 403 22nd Avenue\, Meridian\, MS\, 39301\, United States
CATEGORIES:Meridian
ATTACH;FMTTYPE=image/jpeg:https://mschildrensmuseum.org/wp-content/uploads/2023/05/DSC_2334-1-scaled.jpg
END:VEVENT
BEGIN:VEVENT
DTSTART;TZID=America/Chicago:20260410T100000
DTEND;TZID=America/Chicago:20260410T100000
DTSTAMP:20260421T182002
CREATED:20220413T134837Z
LAST-MODIFIED:20260330T153728Z
UID:52494-1775815200-1775815200@mschildrensmuseum.org
SUMMARY:Rocky's Book Club
DESCRIPTION:Rocky’s Book Club\n\n\n\nHave you met the beloved Talk From the Start mascot and literacy advocate\, Rocky the Reader? He’s a jolly pup who loves to read\, play literacy games\, and travel! Join us every morning\, Wednesday – Sunday\, for Rocky’s Book Club as we read some of Rocky’s favorite books for children 0-5+ years old.
URL:https://mschildrensmuseum.org/event/storytime-2022-06-30/2026-04-10/
LOCATION:MCM-Meridian\, 403 22nd Avenue\, Meridian\, MS\, 39301\, United States
CATEGORIES:Meridian
ATTACH;FMTTYPE=image/jpeg:https://mschildrensmuseum.org/wp-content/uploads/2022/04/IMG_8993-scaled.jpg
END:VEVENT
BEGIN:VEVENT
DTSTART;TZID=America/Chicago:20260409T153000
DTEND;TZID=America/Chicago:20260409T153000
DTSTAMP:20260421T182002
CREATED:20220505T143345Z
LAST-MODIFIED:20260106T163909Z
UID:52669-1775748600-1775748600@mschildrensmuseum.org
SUMMARY:Know to Grow
DESCRIPTION:Know to Grow\nJoin us every Thursday at 3:30pm for Know to Grow! This program incorporates our STEAM\, literacy\, and health initiatives to create a multi-disciplinary program where children will make connections between reading\, science\, and the aspects of the natural world. Each week we will read a garden-related story and work together to complete a hands-on gardening activity! \n 
URL:https://mschildrensmuseum.org/event/know-to-grow-2/2026-04-09/
LOCATION:MCM-Meridian\, 403 22nd Avenue\, Meridian\, MS\, 39301\, United States
CATEGORIES:Meridian
ATTACH;FMTTYPE=image/jpeg:https://mschildrensmuseum.org/wp-content/uploads/2022/05/IMG_7078-scaled.jpg
END:VEVENT
BEGIN:VEVENT
DTSTART;TZID=America/Chicago:20260409T100000
DTEND;TZID=America/Chicago:20260409T100000
DTSTAMP:20260421T182002
CREATED:20220413T134837Z
LAST-MODIFIED:20260330T153728Z
UID:52493-1775728800-1775728800@mschildrensmuseum.org
SUMMARY:Rocky's Book Club
DESCRIPTION:Rocky’s Book Club\n\n\n\nHave you met the beloved Talk From the Start mascot and literacy advocate\, Rocky the Reader? He’s a jolly pup who loves to read\, play literacy games\, and travel! Join us every morning\, Wednesday – Sunday\, for Rocky’s Book Club as we read some of Rocky’s favorite books for children 0-5+ years old.
URL:https://mschildrensmuseum.org/event/storytime-2022-06-30/2026-04-09/
LOCATION:MCM-Meridian\, 403 22nd Avenue\, Meridian\, MS\, 39301\, United States
CATEGORIES:Meridian
ATTACH;FMTTYPE=image/jpeg:https://mschildrensmuseum.org/wp-content/uploads/2022/04/IMG_8993-scaled.jpg
END:VEVENT
BEGIN:VEVENT
DTSTART;TZID=America/Chicago:20260408T153000
DTEND;TZID=America/Chicago:20260408T153000
DTSTAMP:20260421T182002
CREATED:20210826T150632Z
LAST-MODIFIED:20251226T214808Z
UID:52616-1775662200-1775662200@mschildrensmuseum.org
SUMMARY:Wonder Wednesday
DESCRIPTION:Wonder Wednesday\nWhat do you wonder about? \nJoin us every Wednesday at 3:30 pm for a hands-on experiment that will cultivate curiosity in guests of all ages! Wonder Wednesday is MCM-Meridian’s latest program that focuses on Science\, Technology\, Engineering\, Art\, and Mathematics with a fun and educational twist. \nPresented by
URL:https://mschildrensmuseum.org/event/wonder-wednesday-2/2026-04-08/
LOCATION:MCM-Meridian\, 403 22nd Avenue\, Meridian\, MS\, 39301\, United States
CATEGORIES:Meridian
ATTACH;FMTTYPE=image/jpeg:https://mschildrensmuseum.org/wp-content/uploads/2021/08/DSC_1567-scaled.jpg
END:VEVENT
BEGIN:VEVENT
DTSTART;TZID=America/Chicago:20260408T100000
DTEND;TZID=America/Chicago:20260408T100000
DTSTAMP:20260421T182002
CREATED:20220413T134837Z
LAST-MODIFIED:20260330T153728Z
UID:52492-1775642400-1775642400@mschildrensmuseum.org
SUMMARY:Rocky's Book Club
DESCRIPTION:Rocky’s Book Club\n\n\n\nHave you met the beloved Talk From the Start mascot and literacy advocate\, Rocky the Reader? He’s a jolly pup who loves to read\, play literacy games\, and travel! Join us every morning\, Wednesday – Sunday\, for Rocky’s Book Club as we read some of Rocky’s favorite books for children 0-5+ years old.
URL:https://mschildrensmuseum.org/event/storytime-2022-06-30/2026-04-08/
LOCATION:MCM-Meridian\, 403 22nd Avenue\, Meridian\, MS\, 39301\, United States
CATEGORIES:Meridian
ATTACH;FMTTYPE=image/jpeg:https://mschildrensmuseum.org/wp-content/uploads/2022/04/IMG_8993-scaled.jpg
END:VEVENT
BEGIN:VEVENT
DTSTART;TZID=America/Chicago:20260407T153000
DTEND;TZID=America/Chicago:20260407T153000
DTSTAMP:20260421T182002
CREATED:20220429T184607Z
LAST-MODIFIED:20220429T184607Z
UID:52268-1775575800-1775575800@mschildrensmuseum.org
SUMMARY:Tech Tuesday
DESCRIPTION:Tech Tuesday\nJoin us every Tuesday at 3:30pm for our technology-based program! This facilitated program aims to foster STEAM education through inquiry-based learning\, coding\, and robotics.
URL:https://mschildrensmuseum.org/event/tech-tuesday-2/2026-04-07/
LOCATION:MCM-Meridian\, 403 22nd Avenue\, Meridian\, MS\, 39301\, United States
CATEGORIES:Meridian
ATTACH;FMTTYPE=image/jpeg:https://mschildrensmuseum.org/wp-content/uploads/2022/04/DSC_1527-1-scaled.jpg
END:VEVENT
BEGIN:VEVENT
DTSTART;TZID=America/Chicago:20260407T100000
DTEND;TZID=America/Chicago:20260407T100000
DTSTAMP:20260421T182002
CREATED:20220309T194013Z
LAST-MODIFIED:20251226T215219Z
UID:52856-1775556000-1775556000@mschildrensmuseum.org
SUMMARY:ABC Come Play with Me
DESCRIPTION:ABC Come Play With Me\nABC Come Play with Me is our program designed specifically for infants\, toddlers\, and their caregivers. Give your little one a jump start on the ABCs and 123s with this program. We will start the morning with the alphabet song\, a story\, and either an art project of sensory experience. \nJoin us every Tuesday at 10:00 am as we use our five senses to discover our incredible world.
URL:https://mschildrensmuseum.org/event/abc-come-play-with-me-2/2026-04-07/
LOCATION:MCM-Meridian\, 403 22nd Avenue\, Meridian\, MS\, 39301\, United States
CATEGORIES:Meridian
ATTACH;FMTTYPE=image/jpeg:https://mschildrensmuseum.org/wp-content/uploads/2021/06/IMG_6408-scaled.jpg
END:VEVENT
BEGIN:VEVENT
DTSTART;TZID=America/Chicago:20260406T090000
DTEND;TZID=America/Chicago:20260406T170000
DTSTAMP:20260421T182002
CREATED:20251226T173102Z
LAST-MODIFIED:20260316T153334Z
UID:51818-1775466000-1775494800@mschildrensmuseum.org
SUMMARY:Magic Monday: Museum in Bloom
DESCRIPTION:Magic Monday\nDid you know MCM-Meridian is open for special\, holiday Mondays from 9am – 5pm for extra hours of inspiration and fun? Magic Monday is the perfect solution to a Monday off from school.  \nEach of these special days includes special museum programing. \nPurchase Tickets to the Museum
URL:https://mschildrensmuseum.org/event/magic-monday-meridian-2-2026-04-06/
LOCATION:MCM-Meridian\, 403 22nd Avenue\, Meridian\, MS\, 39301\, United States
CATEGORIES:Meridian
ATTACH;FMTTYPE=image/jpeg:https://mschildrensmuseum.org/wp-content/uploads/2025/12/Meridian-4-scaled.jpeg
END:VEVENT
BEGIN:VEVENT
DTSTART;VALUE=DATE:20260406
DTEND;VALUE=DATE:20260412
DTSTAMP:20260421T182002
CREATED:20260331T213355Z
LAST-MODIFIED:20260331T213422Z
UID:55426-1775433600-1775951999@mschildrensmuseum.org
SUMMARY:Member Appreciation Week
DESCRIPTION:Member Appreciation Week\nGrow Your Membership this Spring! \nGrow your MCM Membership during Member Appreciation Week\, April 6 – 11\, 2026! Just like springtime at the museum\, this week is all about growth\, gratitude\, and giving back to our members. Each day\, we’ll celebrate MCM Members with special surprises\, exclusive perks\, and a little extra love as we thank you for helping our museum grow. \nMembers will receive these items when they visit the museum… \n\nMagic Monday: 20% off in MCM-Meridian’s Trading Post\nTuesday: Free gift\nThursday: Coloring book\nFriday: Bring 1 guest for free admission (One per membership family)\n\nEXTRA PERK: Anyone who upgrades their membership or adds a dual membership to our Jackson museum will receive an token for Inchy’s Book Vending Machine. \nBecome a Member
URL:https://mschildrensmuseum.org/event/member-appreciation-week-4/
CATEGORIES:Meridian
ATTACH;FMTTYPE=image/jpeg:https://mschildrensmuseum.org/wp-content/uploads/2026/03/DSC07961-scaled.jpg
END:VEVENT
BEGIN:VEVENT
DTSTART;VALUE=DATE:20260405
DTEND;VALUE=DATE:20260406
DTSTAMP:20260421T182002
CREATED:20240311T204853Z
LAST-MODIFIED:20251226T184946Z
UID:40147-1775347200-1775433599@mschildrensmuseum.org
SUMMARY:Closed for Easter
DESCRIPTION:Closed for Easter\nThe Mississippi Children’s Museum – Meridian will be closed in observance of the Easter holiday.
URL:https://mschildrensmuseum.org/event/closed-for-easter-4/
LOCATION:MCM-Meridian\, 403 22nd Avenue\, Meridian\, MS\, 39301\, United States
CATEGORIES:Meridian
ATTACH;FMTTYPE=image/jpeg:https://mschildrensmuseum.org/wp-content/uploads/2021/03/bunnies2-e1773419452700.jpeg
END:VEVENT
BEGIN:VEVENT
DTSTART;TZID=America/Chicago:20260404T110000
DTEND;TZID=America/Chicago:20260404T113000
DTSTAMP:20260421T182002
CREATED:20220413T134837Z
LAST-MODIFIED:20260330T153728Z
UID:54099-1775300400-1775302200@mschildrensmuseum.org
SUMMARY:Rocky's Book Club
DESCRIPTION:Rocky’s Book Club\n\n\n\nHave you met the beloved Talk From the Start mascot and literacy advocate\, Rocky the Reader? He’s a jolly pup who loves to read\, play literacy games\, and travel! Join us every morning\, Wednesday – Sunday\, for Rocky’s Book Club as we read some of Rocky’s favorite books for children 0-5+ years old.
URL:https://mschildrensmuseum.org/event/storytime-2022-06-30/2026-04-04/
LOCATION:MCM-Meridian\, 403 22nd Avenue\, Meridian\, MS\, 39301\, United States
CATEGORIES:Meridian
ATTACH;FMTTYPE=image/jpeg:https://mschildrensmuseum.org/wp-content/uploads/2022/04/IMG_8993-scaled.jpg
END:VEVENT
BEGIN:VEVENT
DTSTART;TZID=America/Chicago:20260404T100000
DTEND;TZID=America/Chicago:20260404T150000
DTSTAMP:20260421T182002
CREATED:20231212T205613Z
LAST-MODIFIED:20260330T211842Z
UID:38740-1775296800-1775314800@mschildrensmuseum.org
SUMMARY:Bunnies & Butterflies
DESCRIPTION:Spring is right around the corner and we are fluttering with excitement for our annual Bunnies and Butterflies event on April 4 from 10 am to 3 pm! Celebrate Spring at MCM with live bunnies and fun educational activities galore as our beautiful outdoor exhibit\, My Fantastical Backyard springs to life. \nThis event is the perfect way to welcome the warm\, sunny weather of the new season. Guests will enjoy gardening activities\, interact with live bunnies\, learn about our tiny insect friends\, create a pair of bunny ears or butterfly wings\, and so much more. \n\nFeatured Guests & Activities \n\nRichelle Putnam\, Little Hands\, Big Music: A Sing and Play Along Adventure\nEaster Bunny\nMississippi Entomological Museum\nFizz & Sips Food Truck\n\nAll Day Fun\n \n\nDesign A Butterfly\nCreate Easter Bunny Headbands\nSpring STEM-tastic Creations\n3D Pen Easter Eggs\nHoppy Garden Games\nButterfly Photo Op\nFace painting\n\nFree for MCM Members | $10/Person for Non-Members | Tickets Available at the Door \nPurchase Tickets to the Museum\nPresented by\n \n\n 
URL:https://mschildrensmuseum.org/event/bunnies-butterflies-meridian/
LOCATION:MCM-Meridian\, 403 22nd Avenue\, Meridian\, MS\, 39301\, United States
CATEGORIES:Meridian
ATTACH;FMTTYPE=image/jpeg:https://mschildrensmuseum.org/wp-content/uploads/2021/08/6T4A5223-X2.jpg
END:VEVENT
BEGIN:VEVENT
DTSTART;TZID=America/Chicago:20260403T153000
DTEND;TZID=America/Chicago:20260403T153000
DTSTAMP:20260421T182002
CREATED:20230524T154813Z
LAST-MODIFIED:20251226T215814Z
UID:52142-1775230200-1775230200@mschildrensmuseum.org
SUMMARY:Artful Friday
DESCRIPTION:Artful Friday\nSponsored by: Sissie & Fred Wile\nExpress yourself creatively during MCM-Meridian’s Artful Friday! \nEvery Friday at 3:30pm\, join us for a guided program where we will learn and create together.
URL:https://mschildrensmuseum.org/event/artful-friday/2026-04-03/
LOCATION:MCM-Meridian\, 403 22nd Avenue\, Meridian\, MS\, 39301\, United States
CATEGORIES:Meridian
ATTACH;FMTTYPE=image/jpeg:https://mschildrensmuseum.org/wp-content/uploads/2023/05/DSC_2334-1-scaled.jpg
END:VEVENT
BEGIN:VEVENT
DTSTART;TZID=America/Chicago:20260403T100000
DTEND;TZID=America/Chicago:20260403T100000
DTSTAMP:20260421T182002
CREATED:20220413T134837Z
LAST-MODIFIED:20260330T153728Z
UID:52491-1775210400-1775210400@mschildrensmuseum.org
SUMMARY:Rocky's Book Club
DESCRIPTION:Rocky’s Book Club\n\n\n\nHave you met the beloved Talk From the Start mascot and literacy advocate\, Rocky the Reader? He’s a jolly pup who loves to read\, play literacy games\, and travel! Join us every morning\, Wednesday – Sunday\, for Rocky’s Book Club as we read some of Rocky’s favorite books for children 0-5+ years old.
URL:https://mschildrensmuseum.org/event/storytime-2022-06-30/2026-04-03/
LOCATION:MCM-Meridian\, 403 22nd Avenue\, Meridian\, MS\, 39301\, United States
CATEGORIES:Meridian
ATTACH;FMTTYPE=image/jpeg:https://mschildrensmuseum.org/wp-content/uploads/2022/04/IMG_8993-scaled.jpg
END:VEVENT
END:VCALENDAR