BEGIN:VCALENDAR
VERSION:2.0
PRODID:-//Mississippi Children&#039;s Museum - ECPv6.15.20//NONSGML v1.0//EN
CALSCALE:GREGORIAN
METHOD:PUBLISH
X-ORIGINAL-URL:https://mschildrensmuseum.org
X-WR-CALDESC:Events for Mississippi Children&#039;s Museum
REFRESH-INTERVAL;VALUE=DURATION:PT1H
X-Robots-Tag:noindex
X-PUBLISHED-TTL:PT1H
BEGIN:VTIMEZONE
TZID:America/Chicago
BEGIN:DAYLIGHT
TZOFFSETFROM:-0600
TZOFFSETTO:-0500
TZNAME:CDT
DTSTART:20250309T080000
END:DAYLIGHT
BEGIN:STANDARD
TZOFFSETFROM:-0500
TZOFFSETTO:-0600
TZNAME:CST
DTSTART:20251102T070000
END:STANDARD
BEGIN:DAYLIGHT
TZOFFSETFROM:-0600
TZOFFSETTO:-0500
TZNAME:CDT
DTSTART:20260308T080000
END:DAYLIGHT
BEGIN:STANDARD
TZOFFSETFROM:-0500
TZOFFSETTO:-0600
TZNAME:CST
DTSTART:20261101T070000
END:STANDARD
BEGIN:DAYLIGHT
TZOFFSETFROM:-0600
TZOFFSETTO:-0500
TZNAME:CDT
DTSTART:20270314T080000
END:DAYLIGHT
BEGIN:STANDARD
TZOFFSETFROM:-0500
TZOFFSETTO:-0600
TZNAME:CST
DTSTART:20271107T070000
END:STANDARD
END:VTIMEZONE
BEGIN:VEVENT
DTSTART;VALUE=DATE:20261123
DTEND;VALUE=DATE:20261128
DTSTAMP:20260423T000712
CREATED:20240624T192358Z
LAST-MODIFIED:20260106T170056Z
UID:42383-1795392000-1795823999@mschildrensmuseum.org
SUMMARY:Week of Gratitude
DESCRIPTION:Week of Gratitude\nJoin us November 23- 27 for our Week of Gratitude at the museum! This week\, we will have Thanksgiving programming featuring fall crafts\, story times\, and more! \nNote: Museum will be closed on Thursday\, November 26 for the Thanksgiving holiday. \n\n\n\n\n\n\n\n\n\n\n\n\n\nFree for MCM Members | $10/Person for Non-Members | Tickets Available at the Door \n\n\n\n\n\nPURCHASE MUSEUM TICKETS
URL:https://mschildrensmuseum.org/event/week-of-gratitude-meridian/
CATEGORIES:Meridian
ATTACH;FMTTYPE=image/jpeg:https://mschildrensmuseum.org/wp-content/uploads/2024/06/DSC_2320-scaled.jpg
END:VEVENT
BEGIN:VEVENT
DTSTART;TZID=America/Chicago:20261125T100000
DTEND;TZID=America/Chicago:20261125T100000
DTSTAMP:20260423T000712
CREATED:20220413T134837Z
LAST-MODIFIED:20260330T153836Z
UID:53922-1795600800-1795600800@mschildrensmuseum.org
SUMMARY:Rocky's Book Club
DESCRIPTION:Rocky’s Book Club\n\n\n\nHave you met the beloved Talk From the Start mascot and literacy advocate\, Rocky the Reader? He’s a jolly pup who loves to read\, play literacy games\, and travel! Join us every morning\, Wednesday – Sunday\, for Rocky’s Book Club as we read some of Rocky’s favorite books for children 0-5+ years old.
URL:https://mschildrensmuseum.org/event/storytime-2022-06-30/2026-11-25/
LOCATION:MCM-Meridian\, 403 22nd Avenue\, Meridian\, MS\, 39301\, United States
CATEGORIES:Meridian
ATTACH;FMTTYPE=image/jpeg:https://mschildrensmuseum.org/wp-content/uploads/2022/04/IMG_8993-scaled.jpg
END:VEVENT
BEGIN:VEVENT
DTSTART;TZID=America/Chicago:20261125T153000
DTEND;TZID=America/Chicago:20261125T153000
DTSTAMP:20260423T000712
CREATED:20210826T150632Z
LAST-MODIFIED:20251226T214819Z
UID:52648-1795620600-1795620600@mschildrensmuseum.org
SUMMARY:Wonder Wednesday
DESCRIPTION:Wonder Wednesday\nWhat do you wonder about? \nJoin us every Wednesday at 3:30 pm for a hands-on experiment that will cultivate curiosity in guests of all ages! Wonder Wednesday is MCM-Meridian’s latest program that focuses on Science\, Technology\, Engineering\, Art\, and Mathematics with a fun and educational twist. \nPresented by
URL:https://mschildrensmuseum.org/event/wonder-wednesday-2/2026-11-25/
LOCATION:MCM-Meridian\, 403 22nd Avenue\, Meridian\, MS\, 39301\, United States
CATEGORIES:Meridian
ATTACH;FMTTYPE=image/jpeg:https://mschildrensmuseum.org/wp-content/uploads/2021/08/DSC_1567-scaled.jpg
END:VEVENT
END:VCALENDAR