BEGIN:VCALENDAR
VERSION:2.0
PRODID:-//Mississippi Children&#039;s Museum - ECPv6.15.20//NONSGML v1.0//EN
CALSCALE:GREGORIAN
METHOD:PUBLISH
X-ORIGINAL-URL:https://mschildrensmuseum.org
X-WR-CALDESC:Events for Mississippi Children&#039;s Museum
REFRESH-INTERVAL;VALUE=DURATION:PT1H
X-Robots-Tag:noindex
X-PUBLISHED-TTL:PT1H
BEGIN:VTIMEZONE
TZID:America/Chicago
BEGIN:DAYLIGHT
TZOFFSETFROM:-0600
TZOFFSETTO:-0500
TZNAME:CDT
DTSTART:20250309T080000
END:DAYLIGHT
BEGIN:STANDARD
TZOFFSETFROM:-0500
TZOFFSETTO:-0600
TZNAME:CST
DTSTART:20251102T070000
END:STANDARD
BEGIN:DAYLIGHT
TZOFFSETFROM:-0600
TZOFFSETTO:-0500
TZNAME:CDT
DTSTART:20260308T080000
END:DAYLIGHT
BEGIN:STANDARD
TZOFFSETFROM:-0500
TZOFFSETTO:-0600
TZNAME:CST
DTSTART:20261101T070000
END:STANDARD
BEGIN:DAYLIGHT
TZOFFSETFROM:-0600
TZOFFSETTO:-0500
TZNAME:CDT
DTSTART:20270314T080000
END:DAYLIGHT
BEGIN:STANDARD
TZOFFSETFROM:-0500
TZOFFSETTO:-0600
TZNAME:CST
DTSTART:20271107T070000
END:STANDARD
END:VTIMEZONE
BEGIN:VEVENT
DTSTART;TZID=America/Chicago:20260425T090000
DTEND;TZID=America/Chicago:20260425T170000
DTSTAMP:20260421T174659
CREATED:20240209T165303Z
LAST-MODIFIED:20260219T145411Z
UID:39518-1777107600-1777136400@mschildrensmuseum.org
SUMMARY:Scholastic Chess Tournament
DESCRIPTION:Scholastic Chess Tournament \nJoin us on Saturday\, April 25\, for the Mississippi Children’s Museum – Meridian’s Scholastic Chess Tournament!  \nSince school and community chess programs have been created and revitalized\, the 1500-year-old game has seen a resurgence in Mississippi. These tournaments are an important opportunity for children in Mississippi to exercise not only their skills but self-confidence. A growing body of research indicates that playing chess improves students’ problem-solving and critical thinking skills\, which directly translates to their math\, science\, and reading scores. \nGrade Unrated Divisions:\n\nK-2\nK-4\nK-7\nK-12\n\nRated Divisions: (All Ages Welcome)\n\nU500\nU900\nOPEN\n\nFees:\n\n$20 Entry Fee for Tournament Participants\n$5 for Each Accompanying Adult/Child\nAll entry fees include access to all museum exhibits for the day\nAll entry fees increase by $5 for day-of registrants\n\nPre-registration is recommended & appreciated. Check-in and on-site registration will be available from 9 AM – 10 AM. Online Registration closes on Apr. 22. Walk-ins on Saturday are welcome if capacity allows! \nRounds:\nFirst Round starts at 10:30 AM  \n\nUnrated & Rated: 5 Rounds SS\, G/25+5 (No Eliminations)\nChess sets (board/pieces/clocks) will be provided for use during the tournament.\nTrophies will be awarded to the Top 3 players in each division.\n\nAwards: \n\nTrophies will be awarded to the Top 3 Players in each Division\nAll tiebreaks decided by computer\n\nRegister Online Here\nIf you have questions regarding the tournament or need more information\, please e-mail BethThrasher@MSscholasticChess.org or call/text 601.941.5153. \nAdditional information also available at www.MSScholasticChess.org
URL:https://mschildrensmuseum.org/event/scholastic-chess-tournament-meridian/
LOCATION:MCM-Meridian\, 403 22nd Avenue\, Meridian\, MS\, 39301\, United States
CATEGORIES:Meridian
ATTACH;FMTTYPE=image/jpeg:https://mschildrensmuseum.org/wp-content/uploads/2022/09/MCM_4326.jpg
END:VEVENT
BEGIN:VEVENT
DTSTART;TZID=America/Chicago:20260425T110000
DTEND;TZID=America/Chicago:20260425T113000
DTSTAMP:20260421T174659
CREATED:20220413T134837Z
LAST-MODIFIED:20260330T153734Z
UID:54105-1777114800-1777116600@mschildrensmuseum.org
SUMMARY:Rocky's Book Club
DESCRIPTION:Rocky’s Book Club\n\n\n\nHave you met the beloved Talk From the Start mascot and literacy advocate\, Rocky the Reader? He’s a jolly pup who loves to read\, play literacy games\, and travel! Join us every morning\, Wednesday – Sunday\, for Rocky’s Book Club as we read some of Rocky’s favorite books for children 0-5+ years old.
URL:https://mschildrensmuseum.org/event/storytime-2022-06-30/2026-04-25/
LOCATION:MCM-Meridian\, 403 22nd Avenue\, Meridian\, MS\, 39301\, United States
CATEGORIES:Meridian
ATTACH;FMTTYPE=image/jpeg:https://mschildrensmuseum.org/wp-content/uploads/2022/04/IMG_8993-scaled.jpg
END:VEVENT
END:VCALENDAR