BEGIN:VCALENDAR
VERSION:2.0
PRODID:-//Mississippi Children&#039;s Museum - ECPv6.15.20//NONSGML v1.0//EN
CALSCALE:GREGORIAN
METHOD:PUBLISH
X-WR-CALNAME:Mississippi Children&#039;s Museum
X-ORIGINAL-URL:https://mschildrensmuseum.org
X-WR-CALDESC:Events for Mississippi Children&#039;s Museum
REFRESH-INTERVAL;VALUE=DURATION:PT1H
X-Robots-Tag:noindex
X-PUBLISHED-TTL:PT1H
BEGIN:VTIMEZONE
TZID:America/Chicago
BEGIN:DAYLIGHT
TZOFFSETFROM:-0600
TZOFFSETTO:-0500
TZNAME:CDT
DTSTART:20250309T080000
END:DAYLIGHT
BEGIN:STANDARD
TZOFFSETFROM:-0500
TZOFFSETTO:-0600
TZNAME:CST
DTSTART:20251102T070000
END:STANDARD
BEGIN:DAYLIGHT
TZOFFSETFROM:-0600
TZOFFSETTO:-0500
TZNAME:CDT
DTSTART:20260308T080000
END:DAYLIGHT
BEGIN:STANDARD
TZOFFSETFROM:-0500
TZOFFSETTO:-0600
TZNAME:CST
DTSTART:20261101T070000
END:STANDARD
BEGIN:DAYLIGHT
TZOFFSETFROM:-0600
TZOFFSETTO:-0500
TZNAME:CDT
DTSTART:20270314T080000
END:DAYLIGHT
BEGIN:STANDARD
TZOFFSETFROM:-0500
TZOFFSETTO:-0600
TZNAME:CST
DTSTART:20271107T070000
END:STANDARD
END:VTIMEZONE
BEGIN:VEVENT
DTSTART;TZID=America/Chicago:20260328T100000
DTEND;TZID=America/Chicago:20260328T150000
DTSTAMP:20260421T191119
CREATED:20260313T175211Z
LAST-MODIFIED:20260327T185708Z
UID:54630-1774692000-1774710000@mschildrensmuseum.org
SUMMARY:MCM-Meridian's Birthday Celebration
DESCRIPTION:MCM-Meridian is turning five\, and we’re celebrating with a full day of birthday fun! Join us from 10 AM–3 PM for a special celebration filled with creativity\, music\, and sweet treats. Guests can share why they love MCM-Meridian\, create birthday cards for the museum\, and enjoy cake as we celebrate this exciting milestone. Dance along during our birthday song and lead dance\, design your own museum exhibit\, craft a festive birthday hat\, and plant a seed to take home as a reminder to grow and thrive during our Year of Five. Come celebrate\, create\, and make memories with us on this very special day! \nSpecial guests Rumi and Zoey dressed as K-Pop Demon Hunters will also be joining the celebration for 11AM – 2PM! \nAttending Wings Over Meridian that weekend? Receive $2 off general admission when you have your picture taken with Gilmore on our pop-up banner at the Kids Zone!
URL:https://mschildrensmuseum.org/event/mcm-meridians-birthday-celebration/
CATEGORIES:Meridian
ATTACH;FMTTYPE=image/jpeg:https://mschildrensmuseum.org/wp-content/uploads/2022/04/i-4hTjdb8-X2.jpg
END:VEVENT
BEGIN:VEVENT
DTSTART;TZID=America/Chicago:20260328T110000
DTEND;TZID=America/Chicago:20260328T113000
DTSTAMP:20260421T191119
CREATED:20220413T134837Z
LAST-MODIFIED:20260330T153727Z
UID:54097-1774695600-1774697400@mschildrensmuseum.org
SUMMARY:Rocky's Book Club
DESCRIPTION:Rocky’s Book Club\n\n\n\nHave you met the beloved Talk From the Start mascot and literacy advocate\, Rocky the Reader? He’s a jolly pup who loves to read\, play literacy games\, and travel! Join us every morning\, Wednesday – Sunday\, for Rocky’s Book Club as we read some of Rocky’s favorite books for children 0-5+ years old.
URL:https://mschildrensmuseum.org/event/storytime-2022-06-30/2026-03-28/
LOCATION:MCM-Meridian\, 403 22nd Avenue\, Meridian\, MS\, 39301\, United States
CATEGORIES:Meridian
ATTACH;FMTTYPE=image/jpeg:https://mschildrensmuseum.org/wp-content/uploads/2022/04/IMG_8993-scaled.jpg
END:VEVENT
END:VCALENDAR